Workbook

Sheet Summary
A1: Key figures
A2: Total Cadastral Zones in 1st Quintile | B2: =COUNTIF('All Lebanon'!$N$5:$N$1858,1) -> 229
A3: Total Lebanese + registered Syrian refugees in 1st Quintile | B3: =SUMIF(Table1[[#All],[quintile]],1,Table1[[#All],[Total Population (Refugees+Lebanese)]]) -> 3385007
A4: Total registered Syrian refugees in all Lebanon (as of 30 Jan 2014)* | B4: =SUM('All Lebanon'!H5:H1566) -> 847898
A5: Refugees in the 1st Quintile | B5: =SUMIF(Table1[[#All],[quintile]],1,Table1[[#All],[Total Refugees As of 30 Jan 2013]]) -> 722070
A6: Percentage of registered Syrian refugees among total population in 1st Quintile | B6: =B5/B3 -> 0.21331418
A7: Percentage of registered refugees living in the first quintile | B7: =B5/B4 -> 0.85160007
A8: Percentage of registered Syrian refugees among total population in Lebanon | B8: =SUM('All Lebanon'!H5:H1566)/SUM('All Lebanon'!I5:I1566) -> 0.17472846
A9: * 6,454 refugees are missing address at cadastral level and therefore not included in this total
A11: Number of Cadastral Zones falling in the 1st Quintile by area of operation
A12: Beirut and Mount Lebanon | B12: ='Beirut and Mnt Lebanon'!N1 -> 47
A13: North - Akkar | B13: ='North-Akkar'!N1 -> 33
A14: North - Tripoli + 5 | B14: ='North-T+5'!N1 -> 35
A15: South | B15: =South!N1 -> 51
A16: Bekaa | B16: =Bekaa!N1 -> 63
A17: Total | B17: =SUM(B12:B16) -> 229
A20: Click to access Ranked Area Lists:
A21: All Lebanon
A22: Beirut/Mount Lebanon
A23: Bekaa
A24: North - Akkar
A25: North - T+5
A26: South

Sheet All Lebanon
A1: List of cadastral zones in Lebanon ranked by most to least vulnerable | E1: Click to access Ranked Area Lists:
A2: Data Sources: | B2: UNHCR - proGres registration as of 30 January 2014 | E2: Beirut/Mount Lebanon | F2: North - Akkar | G2: South
B3: IPC - Lebanon extreme poverty distribution report (2008). | E3: Bekaa | F3: North - T+5 | M3: total in 1st quintile | N3: =COUNTIF($N$5:$N$1858,1) -> 229
A4: Governorate | B4: District | C4: ACS_CODE | D4: ACS_NAME | E4: CAD_NAME | F4: Lebanese Population | G4: Lebanese Population under 4 USD per day | H4: Total Refugees As of 30 Jan 2013 | I4: Total Population (Refugees+Lebanese) | J4: % of all Lebanese under 4USD per day | K4: % of all Refugee Population | L4: % of Refugees compared to total population in Cadastral zone | M4: Rank_tot | N4: quintile
A5: Mount Lebanon | B5: Baabda | C5: 21111 | D5: Chiyah | E5: Chiah | F5: 201214 | G5: 49297 | H5: 30311 | I5: =H5+F5 -> 231525 | J5: =G5/SUM($G$5:$G$1566) -> 0.04332709 | K5: =H5/SUM($H$5:$H$1566) -> 0.035748404 | L5: =IFERROR(H5/(I5),0) -> 0.13091891 | M5: 1 | N5: 1
A6: Mount Lebanon | B6: Baabda | C6: 21177 | D6: Bourj El-Brajneh | E6: Borge el Baragenat | F6: 115476 | G6: 28292 | H6: 16570 | I6: =H6+F6 -> 132046 | J6: =G6/SUM($G$5:$G$1566) -> 0.024865814 | K6: =H6/SUM($H$5:$H$1566) -> 0.019542445 | L6: =IFERROR(H6/(I6),0) -> 0.12548657 | M6: 2 | N6: 1
A7: North | B7: Tripoli | C7: 31151 | D7: Trablous El-Qobbe | E7: Tripoli Al-Kobbé | F7: 55817 | G7: 31659 | H7: 9652 | I7: =H7+F7 -> 65469 | J7: =G7/SUM($G$5:$G$1566) -> 0.027825067 | K7: =H7/SUM($H$5:$H$1566) -> 0.011383445 | L7: =IFERROR(H7/(I7),0) -> 0.14742855 | M7: 3 | N7: 1
A8: Bekaa | B8: Baalbek | C8: 53111 | D8: Baalbek | E8: Baalbek | F8: 48664 | G8: 15835 | H8: 16658 | I8: =H8+F8 -> 65322 | J8: =G8/SUM($G$5:$G$1566) -> 0.013917368 | K8: =H8/SUM($H$5:$H$1566) -> 0.019646231 | L8: =IFERROR(H8/(I8),0) -> 0.25501362 | M8: 4 | N8: 1
A9: North | B9: Minieh-Danieh | C9: 37231 | D9: Beddaoui | E9: Al-Beddaoui | F9: 27460 | G9: 17294 | H9: 14813 | I9: =H9+F9 -> 42273 | J9: =G9/SUM($G$5:$G$1566) -> 0.015199681 | K9: =H9/SUM($H$5:$H$1566) -> 0.017470262 | L9: =IFERROR(H9/(I9),0) -> 0.35041279 | M9: 5 | N9: 1
A10: North | B10: Minieh-Danieh | C10: 37271 | D10: Minie | E10: Al-Minieh | F10: 21320 | G10: 13427 | H10: 16473 | I10: =H10+F10 -> 37793 | J10: =G10/SUM($G$5:$G$1566) -> 0.011800979 | K10: =H10/SUM($H$5:$H$1566) -> 0.019428044 | L10: =IFERROR(H10/(I10),0) -> 0.43587437 | M10: 6 | N10: 1
A11: Mount Lebanon | B11: Aley | C11: 24111 | D11: Choueifat El-Aamrousiyé | E11: Chouaifat Amroussyat | F11: 53522 | G11: 12187 | H11: 11767 | I11: =H11+F11 -> 65289 | J11: =G11/SUM($G$5:$G$1566) -> 0.010711144 | K11: =H11/SUM($H$5:$H$1566) -> 0.013877849 | L11: =IFERROR(H11/(I11),0) -> 0.18022944 | M11: 7 | N11: 1
A12: Bekaa | B12: Baalbek | C12: 53231 | D12: Aarsal | E12: Arsale | F12: 17105 | G12: 5566 | H12: 25609 | I12: =H12+F12 -> 42714 | J12: =G12/SUM($G$5:$G$1566) -> 0.0048919525 | K12: =H12/SUM($H$5:$H$1566) -> 0.030202925 | L12: =IFERROR(H12/(I12),0) -> 0.59954582 | M12: 8 | N12: 1
A13: North | B13: Tripoli | C13: 31121 | D13: Trablous Et-Tell | E13: Tripoli Al-Tal | F13: 57625 | G13: 32685 | H13: 4014 | I13: =H13+F13 -> 61639 | J13: =G13/SUM($G$5:$G$1566) -> 0.028726818 | K13: =H13/SUM($H$5:$H$1566) -> 0.00473406 | L13: =IFERROR(H13/(I13),0) -> 0.065121108 | M13: 9 | N13: 1
A14: North | B14: Akkar | C14: 35277 | D14: Mhammaret | E14: Al-Mehamra | F14: 26750 | G14: 16847 | H14: 7630 | I14: =H14+F14 -> 34380 | J14: =G14/SUM($G$5:$G$1566) -> 0.014806814 | K14: =H14/SUM($H$5:$H$1566) -> 0.0089987239 | L14: =IFERROR(H14/(I14),0) -> 0.22193136 | M14: 10 | N14: 1
A15: South | B15: Sour | C15: 62111 | D15: Sour | E15: Sour (Tyr) | F15: 47479 | G15: 17287 | H15: 6912 | I15: =H15+F15 -> 54391 | J15: =G15/SUM($G$5:$G$1566) -> 0.015193529 | K15: =H15/SUM($H$5:$H$1566) -> 0.0081519239 | L15: =IFERROR(H15/(I15),0) -> 0.12707985 | M15: 11 | N15: 1
A16: Mount Lebanon | B16: El Metn | C16: 22111 | D16: Bourj Hammoud | E16: Borge Hammoud | F16: 75866 | G16: 8482 | H16: 12617 | I16: =H16+F16 -> 88483 | J16: =G16/SUM($G$5:$G$1566) -> 0.0074548224 | K16: =H16/SUM($H$5:$H$1566) -> 0.014880328 | L16: =IFERROR(H16/(I16),0) -> 0.14259236 | M16: 12 | N16: 1
... A1276: North | B1276: Koura | C1276: 32193 | D1276: Bqaiaa El-Koura | E1276: Al-Boukaia | F1276: 4 | G1276: 1 | H1276: 0 | I1276: =H1276+F1276 -> 4 | J1276: =G1276/SUM($G$5:$G$1566) -> 8.7889913e-07 | K1276: =H1276/SUM($H$5:$H$1566) -> 0 | L1276: =IFERROR(H1276/(I1276),0) -> 0 | M1276: 1385.5 | N1276: 0
A1277: North | B1277: Zgharta | C1277: 33152 | D1277: Houakir | F1277: 0 | G1277: 0 | H1277: 3 | I1277: =H1277+F1277 -> 3 | J1277: =G1277/SUM($G$5:$G$1566) -> 0 | K1277: =H1277/SUM($H$5:$H$1566) -> 3.5381614e-06 | L1277: =IFERROR(H1277/(I1277),0) -> 1 | M1277: 1385.5 | N1277: 0
A1278: North | B1278: Minieh-Danieh | C1278: 37389 | D1278: Mazraat El-Kreme | E1278: Mazraet El-Krême | F1278: 0 | G1278: 0 | H1278: 0 | I1278: =H1278+F1278 -> 0 | J1278: =G1278/SUM($G$5:$G$1566) -> 0 | K1278: =H1278/SUM($H$5:$H$1566) -> 0 | L1278: =IFERROR(H1278/(I1278),0) -> 0 | M1278: 1385.5 | N1278: 0
A1279: North | B1279: Minieh-Danieh | C1279: 37379 | D1279: Bechehhara | E1279: Bechhara | F1279: 7 | G1279: 4 | H1279: 0 | I1279: =H1279+F1279 -> 7 | J1279: =G1279/SUM($G$5:$G$1566) -> 3.5155965e-06 | K1279: =H1279/SUM($H$5:$H$1566) -> 0 | L1279: =IFERROR(H1279/(I1279),0) -> 0 | M1279: 1385.5 | N1279: 0
A1280: North | B1280: Koura | C1280: 32161 | D1280: Badbhoun | E1280: Badbhoun | F1280: 183 | G1280: 45 | H1280: 0 | I1280: =H1280+F1280 -> 183 | J1280: =G1280/SUM($G$5:$G$1566) -> 3.9550461e-05 | K1280: =H1280/SUM($H$5:$H$1566) -> 0 | L1280: =IFERROR(H1280/(I1280),0) -> 0 | M1280: 1385.5 | N1280: 0
A1281: North | B1281: Minieh-Danieh | C1281: 37371 | D1281: Behouaita | E1281: Behweité | F1281: 427 | G1281: 269 | H1281: 0 | I1281: =H1281+F1281 -> 427 | J1281: =G1281/SUM($G$5:$G$1566) -> 0.00023642386 | K1281: =H1281/SUM($H$5:$H$1566) -> 0 | L1281: =IFERROR(H1281/(I1281),0) -> 0 | M1281: 1385.5 | N1281: 0
A1282: Bekaa | B1282: Hermel | C1282: 54143 | D1282: Ras Baalbek Ouadi Faara | E1282: Ras-Baalbek - Wadi Faara | F1282: 35 | G1282: 11 | H1282: 0 | I1282: =H1282+F1282 -> 35 | J1282: =G1282/SUM($G$5:$G$1566) -> 9.6678904e-06 | K1282: =H1282/SUM($H$5:$H$1566) -> 0 | L1282: =IFERROR(H1282/(I1282),0) -> 0 | M1282: 1385.5 | N1282: 0
A1283: North | B1283: Zgharta | C1283: 33291 | D1283: Ijbaa | E1283: Ejbeh | F1283: 99 | G1283: 24 | H1283: 0 | I1283: =H1283+F1283 -> 99 | J1283: =G1283/SUM($G$5:$G$1566) -> 2.1093579e-05 | K1283: =H1283/SUM($H$5:$H$1566) -> 0 | L1283: =IFERROR(H1283/(I1283),0) -> 0 | M1283: 1385.5 | N1283: 0
A1284: North | B1284: Zgharta | C1284: 33215 | D1284: Beslouqit | E1284: Basloukite | F1284: 0 | G1284: 0 | H1284: 0 | I1284: =H1284+F1284 -> 0 | J1284: =G1284/SUM($G$5:$G$1566) -> 0 | K1284: =H1284/SUM($H$5:$H$1566) -> 0 | L1284: =IFERROR(H1284/(I1284),0) -> 0 | M1284: 1385.5 | N1284: 0
A1285: North | B1285: Zgharta | C1285: 33255 | D1285: Seraal | E1285: Serhel | F1285: 523 | G1285: 129 | H1285: 0 | I1285: =H1285+F1285 -> 523 | J1285: =G1285/SUM($G$5:$G$1566) -> 0.00011337799 | K1285: =H1285/SUM($H$5:$H$1566) -> 0 | L1285: =IFERROR(H1285/(I1285),0) -> 0 | M1285: 1385.5 | N1285: 0
A1286: North | B1286: Batroun | C1286: 34284 | D1286: Ras Nahhach | E1286: Ras Nahache | F1286: 1173 | G1286: 290 | H1286: 0 | I1286: =H1286+F1286 -> 1173 | J1286: =G1286/SUM($G$5:$G$1566) -> 0.00025488075 | K1286: =H1286/SUM($H$5:$H$1566) -> 0 | L1286: =IFERROR(H1286/(I1286),0) -> 0 | M1286: 1385.5 | N1286: 0
A1287: North | B1287: Zgharta | C1287: 33219 | D1287: Aintourine | E1287: Aïntourine | F1287: 59 | G1287: 15 | H1287: 0 | I1287: =H1287+F1287 -> 59 | J1287: =G1287/SUM($G$5:$G$1566) -> 1.3183487e-05 | K1287: =H1287/SUM($H$5:$H$1566) -> 0 | L1287: =IFERROR(H1287/(I1287),0) -> 0 | M1287: 1385.5 | N1287: 0
A1288: North | B1288: Batroun | C1288: 34286 | D1288: Ouajh El-Hajjar | E1288: Wejh-el-Hajar | F1288: 389 | G1288: 96 | H1288: 0 | I1288: =H1288+F1288 -> 389 | J1288: =G1288/SUM($G$5:$G$1566) -> 8.4374316e-05 | K1288: =H1288/SUM($H$5:$H$1566) -> 0 | L1288: =IFERROR(H1288/(I1288),0) -> 0 | M1288: 1385.5 | N1288: 0
A1289: Bekaa | B1289: Hermel | C1289: 54151 | D1289: Ouadi Faara | E1289: Ouadi Faara | F1289: 325 | G1289: 106 | H1289: 0 | I1289: =H1289+F1289 -> 325 | J1289: =G1289/SUM($G$5:$G$1566) -> 9.3163307e-05 | K1289: =H1289/SUM($H$5:$H$1566) -> 0 | L1289: =IFERROR(H1289/(I1289),0) -> 0 | M1289: 1385.5 | N1289: 0
... A1335: Mount Lebanon | B1335: Jubail | C1335: 26374 | D1335: Aarab El-Lahib | E1335: Arab El-Haibe | F1335: 0 | G1335: 0 | H1335: 0 | I1335: =H1335+F1335 -> 0 | J1335: =G1335/SUM($G$5:$G$1566) -> 0 | K1335: =H1335/SUM($H$5:$H$1566) -> 0 | L1335: =IFERROR(H1335/(I1335),0) -> 0 | M1335: 1385.5 | N1335: 0
A1336: Mount Lebanon | B1336: Jubail | C1336: 26390 | D1336: Hema Er-Rehban | F1336: 0 | G1336: 0 | H1336: 0 | I1336: =H1336+F1336 -> 0 | J1336: =G1336/SUM($G$5:$G$1566) -> 0 | K1336: =H1336/SUM($H$5:$H$1566) -> 0 | L1336: =IFERROR(H1336/(I1336),0) -> 0 | M1336: 1385.5 | N1336: 0
A1337: Mount Lebanon | B1337: Jubail | C1337: 26388 | D1337: Hema Mar Maroun Aannaya | F1337: 9 | G1337: 1 | H1337: 0 | I1337: =H1337+F1337 -> 9 | J1337: =G1337/SUM($G$5:$G$1566) -> 8.7889913e-07 | K1337: =H1337/SUM($H$5:$H$1566) -> 0 | L1337: =IFERROR(H1337/(I1337),0) -> 0 | M1337: 1385.5 | N1337: 0
A1338: Mount Lebanon | B1338: Jubail | C1338: 26264 | D1338: Kfar Qouas | E1338: Kfar Kaouass | F1338: 15 | G1338: 2 | H1338: 0 | I1338: =H1338+F1338 -> 15 | J1338: =G1338/SUM($G$5:$G$1566) -> 1.7577983e-06 | K1338: =H1338/SUM($H$5:$H$1566) -> 0 | L1338: =IFERROR(H1338/(I1338),0) -> 0 | M1338: 1385.5 | N1338: 0
A1339: Mount Lebanon | B1339: Jubail | C1339: 26283 | D1339: Bmehrayn | E1339: Mehrine | F1339: 29 | G1339: 4 | H1339: 0 | I1339: =H1339+F1339 -> 29 | J1339: =G1339/SUM($G$5:$G$1566) -> 3.5155965e-06 | K1339: =H1339/SUM($H$5:$H$1566) -> 0 | L1339: =IFERROR(H1339/(I1339),0) -> 0 | M1339: 1385.5 | N1339: 0
A1340: Mount Lebanon | B1340: Jubail | C1340: 26213 | D1340: Mazraat El-Maaden | F1340: 0 | G1340: 0 | H1340: 0 | I1340: =H1340+F1340 -> 0 | J1340: =G1340/SUM($G$5:$G$1566) -> 0 | K1340: =H1340/SUM($H$5:$H$1566) -> 0 | L1340: =IFERROR(H1340/(I1340),0) -> 0 | M1340: 1385.5 | N1340: 0
A1341: Mount Lebanon | B1341: Jubail | C1341: 26274 | D1341: Jlissé | E1341: El-Jlaicé | F1341: 29 | G1341: 4 | H1341: 0 | I1341: =H1341+F1341 -> 29 | J1341: =G1341/SUM($G$5:$G$1566) -> 3.5155965e-06 | K1341: =H1341/SUM($H$5:$H$1566) -> 0 | L1341: =IFERROR(H1341/(I1341),0) -> 0 | M1341: 1385.5 | N1341: 0
A1342: Mount Lebanon | B1342: Jubail | C1342: 26214 | D1342: Aalmat Ej-Jnoubiyé | E1342: Almate El-Jenoubiat | F1342: 49 | G1342: 7 | H1342: 0 | I1342: =H1342+F1342 -> 49 | J1342: =G1342/SUM($G$5:$G$1566) -> 6.1522939e-06 | K1342: =H1342/SUM($H$5:$H$1566) -> 0 | L1342: =IFERROR(H1342/(I1342),0) -> 0 | M1342: 1385.5 | N1342: 0
A1343: Mount Lebanon | B1343: Jubail | C1343: 26254 | D1343: Sebrine | E1343: Sirine | F1343: 0 | G1343: 0 | H1343: 0 | I1343: =H1343+F1343 -> 0 | J1343: =G1343/SUM($G$5:$G$1566) -> 0 | K1343: =H1343/SUM($H$5:$H$1566) -> 0 | L1343: =IFERROR(H1343/(I1343),0) -> 0 | M1343: 1385.5 | N1343: 0
A1344: Mount Lebanon | B1344: Jubail | C1344: 26236 | D1344: Jouret El-Qattine | E1344: Jouret-el-Kattine | F1344: 69 | G1344: 11 | H1344: 0 | I1344: =H1344+F1344 -> 69 | J1344: =G1344/SUM($G$5:$G$1566) -> 9.6678904e-06 | K1344: =H1344/SUM($H$5:$H$1566) -> 0 | L1344: =IFERROR(H1344/(I1344),0) -> 0 | M1344: 1385.5 | N1344: 0
A1345: Mount Lebanon | B1345: Jubail | C1345: 26344 | D1345: Tadmor | E1345: Tedmor et Serghal | F1345: 0 | G1345: 0 | H1345: 0 | I1345: =H1345+F1345 -> 0 | J1345: =G1345/SUM($G$5:$G$1566) -> 0 | K1345: =H1345/SUM($H$5:$H$1566) -> 0 | L1345: =IFERROR(H1345/(I1345),0) -> 0 | M1345: 1385.5 | N1345: 0
A1346: Mount Lebanon | B1346: Jubail | C1346: 26357 | D1346: Majdel El-Aqoura | E1346: El-Mejdel | F1346: 388 | G1346: 59 | H1346: 0 | I1346: =H1346+F1346 -> 388 | J1346: =G1346/SUM($G$5:$G$1566) -> 5.1855048e-05 | K1346: =H1346/SUM($H$5:$H$1566) -> 0 | L1346: =IFERROR(H1346/(I1346),0) -> 0 | M1346: 1385.5 | N1346: 0
A1347: Mount Lebanon | B1347: Jubail | C1347: 26354 | D1347: Boulhos | E1347: Belhos | F1347: 0 | G1347: 0 | H1347: 0 | I1347: =H1347+F1347 -> 0 | J1347: =G1347/SUM($G$5:$G$1566) -> 0 | K1347: =H1347/SUM($H$5:$H$1566) -> 0 | L1347: =IFERROR(H1347/(I1347),0) -> 0 | M1347: 1385.5 | N1347: 0
A1348: Mount Lebanon | B1348: Jubail | C1348: 26217 | D1348: Ferhet | E1348: Farhat | F1348: 290 | G1348: 44 | H1348: 0 | I1348: =H1348+F1348 -> 290 | J1348: =G1348/SUM($G$5:$G$1566) -> 3.8671562e-05 | K1348: =H1348/SUM($H$5:$H$1566) -> 0 | L1348: =IFERROR(H1348/(I1348),0) -> 0 | M1348: 1385.5 | N1348: 0
A1349: Mount Lebanon | B1349: Jubail | C1349: 26229 | D1349: Hsoun | E1349: El-Hsoune | F1349: 657 | G1349: 100 | H1349: 0 | I1349: =H1349+F1349 -> 657 | J1349: =G1349/SUM($G$5:$G$1566) -> 8.7889913e-05 | K1349: =H1349/SUM($H$5:$H$1566) -> 0 | L1349: =IFERROR(H1349/(I1349),0) -> 0 | M1349: 1385.5 | N1349: 0
A1350: Mount Lebanon | B1350: Jubail | C1350: 26314 | D1350: Mar Sarkis | E1350: Deir Mar Sarkis | F1350: 78 | G1350: 12 | H1350: 0 | I1350: =H1350+F1350 -> 78 | J1350: =G1350/SUM($G$5:$G$1566) -> 1.054679e-05 | K1350: =H1350/SUM($H$5:$H$1566) -> 0 | L1350: =IFERROR(H1350/(I1350),0) -> 0 | M1350: 1385.5 | N1350: 0
A1351: Mount Lebanon | B1351: Jubail | C1351: 26219 | D1351: Aalita | E1351: Alita | F1351: 9 | G1351: 1 | H1351: 0 | I1351: =H1351+F1351 -> 9 | J1351: =G1351/SUM($G$5:$G$1566) -> 8.7889913e-07 | K1351: =H1351/SUM($H$5:$H$1566) -> 0 | L1351: =IFERROR(H1351/(I1351),0) -> 0 | M1351: 1385.5 | N1351: 0
A1352: Mount Lebanon | B1352: Jubail | C1352: 26324 | D1352: Hdeine | E1352: Hedayné | F1352: 78 | G1352: 12 | H1352: 0 | I1352: =H1352+F1352 -> 78 | J1352: =G1352/SUM($G$5:$G$1566) -> 1.054679e-05 | K1352: =H1352/SUM($H$5:$H$1566) -> 0 | L1352: =IFERROR(H1352/(I1352),0) -> 0 | M1352: 1385.5 | N1352: 0
... A1354: Mount Lebanon | B1354: Jubail | C1354: 26227 | D1354: Aain Jrain | E1354: Aïn-Jraïne | F1354: 162 | G1354: 25 | H1354: 0 | I1354: =H1354+F1354 -> 162 | J1354: =G1354/SUM($G$5:$G$1566) -> 2.1972478e-05 | K1354: =H1354/SUM($H$5:$H$1566) -> 0 | L1354: =IFERROR(H1354/(I1354),0) -> 0 | M1354: 1385.5 | N1354: 0
A1355: Mount Lebanon | B1355: Jubail | C1355: 26392 | D1355: Aarasta | F1355: 59 | G1355: 9 | H1355: 0 | I1355: =H1355+F1355 -> 59 | J1355: =G1355/SUM($G$5:$G$1566) -> 7.9100921e-06 | K1355: =H1355/SUM($H$5:$H$1566) -> 0 | L1355: =IFERROR(H1355/(I1355),0) -> 0 | M1355: 1385.5 | N1355: 0
A1356: Bekaa | B1356: Baalbek | C1356: 53457 | D1356: Mazraat beit Mchaik | E1356: Mazraet Beit Mcheik | F1356: 0 | G1356: 0 | H1356: 0 | I1356: =H1356+F1356 -> 0 | J1356: =G1356/SUM($G$5:$G$1566) -> 0 | K1356: =H1356/SUM($H$5:$H$1566) -> 0 | L1356: =IFERROR(H1356/(I1356),0) -> 0 | M1356: 1385.5 | N1356: 0
A1357: Mount Lebanon | B1357: Jubail | C1357: 26334 | D1357: Seraaiita | E1357: Sarhita | F1357: 0 | G1357: 0 | H1357: 0 | I1357: =H1357+F1357 -> 0 | J1357: =G1357/SUM($G$5:$G$1566) -> 0 | K1357: =H1357/SUM($H$5:$H$1566) -> 0 | L1357: =IFERROR(H1357/(I1357),0) -> 0 | M1357: 1385.5 | N1357: 0
A1358: Mount Lebanon | B1358: Jubail | C1358: 26351 | D1358: Qorqraiya | E1358: Korkraya | F1358: 113 | G1358: 17 | H1358: 0 | I1358: =H1358+F1358 -> 113 | J1358: =G1358/SUM($G$5:$G$1566) -> 1.4941285e-05 | K1358: =H1358/SUM($H$5:$H$1566) -> 0 | L1358: =IFERROR(H1358/(I1358),0) -> 0 | M1358: 1385.5 | N1358: 0
A1359: Mount Lebanon | B1359: Jubail | C1359: 26327 | D1359: Janné | E1359: Janné | F1359: 64 | G1359: 10 | H1359: 0 | I1359: =H1359+F1359 -> 64 | J1359: =G1359/SUM($G$5:$G$1566) -> 8.7889913e-06 | K1359: =H1359/SUM($H$5:$H$1566) -> 0 | L1359: =IFERROR(H1359/(I1359),0) -> 0 | M1359: 1385.5 | N1359: 0
A1360: Mount Lebanon | B1360: Kasrouane | C1360: 25181 | D1360: Kharayeb Nahr Ibrahim | E1360: Kharayeb Nahr Ibrahim | F1360: 154 | G1360: 23 | H1360: 0 | I1360: =H1360+F1360 -> 154 | J1360: =G1360/SUM($G$5:$G$1566) -> 2.021468e-05 | K1360: =H1360/SUM($H$5:$H$1566) -> 0 | L1360: =IFERROR(H1360/(I1360),0) -> 0 | M1360: 1385.5 | N1360: 0
A1361: Mount Lebanon | B1361: Kasrouane | C1361: 25353 | D1361: Zaaitré | E1361: Zaaitré | F1361: 659 | G1361: 100 | H1361: 0 | I1361: =H1361+F1361 -> 659 | J1361: =G1361/SUM($G$5:$G$1566) -> 8.7889913e-05 | K1361: =H1361/SUM($H$5:$H$1566) -> 0 | L1361: =IFERROR(H1361/(I1361),0) -> 0 | M1361: 1385.5 | N1361: 0
A1362: Mount Lebanon | B1362: Kasrouane | C1362: 25365 | D1362: Jouret Bedrane | E1362: Jouret Bedrane | F1362: 621 | G1362: 95 | H1362: 0 | I1362: =H1362+F1362 -> 621 | J1362: =G1362/SUM($G$5:$G$1566) -> 8.3495417e-05 | K1362: =H1362/SUM($H$5:$H$1566) -> 0 | L1362: =IFERROR(H1362/(I1362),0) -> 0 | M1362: 1385.5 | N1362: 0
A1363: Mount Lebanon | B1363: Kasrouane | C1363: 25361 | D1363: Aazra ouel Aazr | E1363: El-Azra | F1363: 467 | G1363: 71 | H1363: 0 | I1363: =H1363+F1363 -> 467 | J1363: =G1363/SUM($G$5:$G$1566) -> 6.2401838e-05 | K1363: =H1363/SUM($H$5:$H$1566) -> 0 | L1363: =IFERROR(H1363/(I1363),0) -> 0 | M1363: 1385.5 | N1363: 0
A1364: Mount Lebanon | B1364: Kasrouane | C1364: 25371 | D1364: Nahr Ed-Dahab | E1364: Nahr El-Dahab | F1364: 311 | G1364: 47 | H1364: 0 | I1364: =H1364+F1364 -> 311 | J1364: =G1364/SUM($G$5:$G$1566) -> 4.1308259e-05 | K1364: =H1364/SUM($H$5:$H$1566) -> 0 | L1364: =IFERROR(H1364/(I1364),0) -> 0 | M1364: 1385.5 | N1364: 0
A1365: Mount Lebanon | B1365: Kasrouane | C1365: 25488 | D1365: Mchaa El Ftouh | F1365: 0 | G1365: 0 | H1365: 0 | I1365: =H1365+F1365 -> 0 | J1365: =G1365/SUM($G$5:$G$1566) -> 0 | K1365: =H1365/SUM($H$5:$H$1566) -> 0 | L1365: =IFERROR(H1365/(I1365),0) -> 0 | M1365: 1385.5 | N1365: 0
A1366: Mount Lebanon | B1366: Kasrouane | C1366: 25176 | D1366: Bqaq Ed-Dine | E1366: Boukak El-Dine | F1366: 2352 | G1366: 358 | H1366: 0 | I1366: =H1366+F1366 -> 2352 | J1366: =G1366/SUM($G$5:$G$1566) -> 0.00031464589 | K1366: =H1366/SUM($H$5:$H$1566) -> 0 | L1366: =IFERROR(H1366/(I1366),0) -> 0 | M1366: 1385.5 | N1366: 0
A1367: Mount Lebanon | B1367: Kasrouane | C1367: 25345 | D1367: Hsayn | E1367: El-Hossein | F1367: 211 | G1367: 32 | H1367: 0 | I1367: =H1367+F1367 -> 211 | J1367: =G1367/SUM($G$5:$G$1566) -> 2.8124772e-05 | K1367: =H1367/SUM($H$5:$H$1566) -> 0 | L1367: =IFERROR(H1367/(I1367),0) -> 0 | M1367: 1385.5 | N1367: 0
A1368: Mount Lebanon | B1368: Kasrouane | C1368: 25485 | D1368: Mchaa Faraya | E1368: Mouchaa Kesrouan (Faraya) | F1368: 0 | G1368: 0 | H1368: 0 | I1368: =H1368+F1368 -> 0 | J1368: =G1368/SUM($G$5:$G$1566) -> 0 | K1368: =H1368/SUM($H$5:$H$1566) -> 0 | L1368: =IFERROR(H1368/(I1368),0) -> 0 | M1368: 1385.5 | N1368: 0
A1369: Mount Lebanon | B1369: Kasrouane | C1369: 25467 | D1369: Mghayer | E1369: El-Mghaer | F1369: 0 | G1369: 0 | H1369: 0 | I1369: =H1369+F1369 -> 0 | J1369: =G1369/SUM($G$5:$G$1566) -> 0 | K1369: =H1369/SUM($H$5:$H$1566) -> 0 | L1369: =IFERROR(H1369/(I1369),0) -> 0 | M1369: 1385.5 | N1369: 0
A1370: Mount Lebanon | B1370: Kasrouane | C1370: 25359 | D1370: Jouret Mhad | E1370: Jouret Mhad | F1370: 25 | G1370: 4 | H1370: 0 | I1370: =H1370+F1370 -> 25 | J1370: =G1370/SUM($G$5:$G$1566) -> 3.5155965e-06 | K1370: =H1370/SUM($H$5:$H$1566) -> 0 | L1370: =IFERROR(H1370/(I1370),0) -> 0 | M1370: 1385.5 | N1370: 0
A1371: Mount Lebanon | B1371: Kasrouane | C1371: 25351 | D1371: Chahtoul | E1371: Chahtoul | F1371: 551 | G1371: 84 | H1371: 0 | I1371: =H1371+F1371 -> 551 | J1371: =G1371/SUM($G$5:$G$1566) -> 7.3827527e-05 | K1371: =H1371/SUM($H$5:$H$1566) -> 0 | L1371: =IFERROR(H1371/(I1371),0) -> 0 | M1371: 1385.5 | N1371: 0
A1372: Mount Lebanon | B1372: Kasrouane | C1372: 25333 | D1372: Harharaya | E1372: Herhraya et Kattine | F1372: 414 | G1372: 63 | H1372: 0 | I1372: =H1372+F1372 -> 414 | J1372: =G1372/SUM($G$5:$G$1566) -> 5.5370645e-05 | K1372: =H1372/SUM($H$5:$H$1566) -> 0 | L1372: =IFERROR(H1372/(I1372),0) -> 0 | M1372: 1385.5 | N1372: 0
A1373: Mount Lebanon | B1373: Kasrouane | C1373: 25141 | D1373: Ouata Sillam | E1373: Wata Salam | F1373: 965 | G1373: 147 | H1373: 0 | I1373: =H1373+F1373 -> 965 | J1373: =G1373/SUM($G$5:$G$1566) -> 0.00012919817 | K1373: =H1373/SUM($H$5:$H$1566) -> 0 | L1373: =IFERROR(H1373/(I1373),0) -> 0 | M1373: 1385.5 | N1373: 0
A1374: Mount Lebanon | B1374: Kasrouane | C1374: 25349 | D1374: Hayata | E1374: Hayata | F1374: 389 | G1374: 59 | H1374: 0 | I1374: =H1374+F1374 -> 389 | J1374: =G1374/SUM($G$5:$G$1566) -> 5.1855048e-05 | K1374: =H1374/SUM($H$5:$H$1566) -> 0 | L1374: =IFERROR(H1374/(I1374),0) -> 0 | M1374: 1385.5 | N1374: 0
A1375: Mount Lebanon | B1375: Kasrouane | C1375: 25391 | D1375: Ighbé | E1375: Eghbeh | F1375: 50 | G1375: 8 | H1375: 0 | I1375: =H1375+F1375 -> 50 | J1375: =G1375/SUM($G$5:$G$1566) -> 7.031193e-06 | K1375: =H1375/SUM($H$5:$H$1566) -> 0 | L1375: =IFERROR(H1375/(I1375),0) -> 0 | M1375: 1385.5 | N1375: 0
A1376: Mount Lebanon | B1376: Kasrouane | C1376: 25482 | D1376: Mchaa Kfar Dibiane | E1376: Mouchaa Kesrouan (Kfardebian) | F1376: 0 | G1376: 0 | H1376: 0 | I1376: =H1376+F1376 -> 0 | J1376: =G1376/SUM($G$5:$G$1566) -> 0 | K1376: =H1376/SUM($H$5:$H$1566) -> 0 | L1376: =IFERROR(H1376/(I1376),0) -> 0 | M1376: 1385.5 | N1376: 0
A1377: Bekaa | B1377: Baalbek | C1377: 53423 | D1377: Slouqi | E1377: Slouky | F1377: 19 | G1377: 6 | H1377: 0 | I1377: =H1377+F1377 -> 19 | J1377: =G1377/SUM($G$5:$G$1566) -> 5.2733948e-06 | K1377: =H1377/SUM($H$5:$H$1566) -> 0 | L1377: =IFERROR(H1377/(I1377),0) -> 0 | M1377: 1385.5 | N1377: 0
... A1444: Bekaa | B1444: West Bekaa | C1444: 52181 | D1444: Chebrqiyet Aammiq | E1444: Chouberkié "Ammik" | F1444: 0 | G1444: 0 | H1444: 0 | I1444: =H1444+F1444 -> 0 | J1444: =G1444/SUM($G$5:$G$1566) -> 0 | K1444: =H1444/SUM($H$5:$H$1566) -> 0 | L1444: =IFERROR(H1444/(I1444),0) -> 0 | M1444: 1385.5 | N1444: 0
A1445: Mount Lebanon | B1445: Aley | C1445: 24373 | D1445: Jisr El Qadi | F1445: 14 | G1445: 3 | H1445: 0 | I1445: =H1445+F1445 -> 14 | J1445: =G1445/SUM($G$5:$G$1566) -> 2.6366974e-06 | K1445: =H1445/SUM($H$5:$H$1566) -> 0 | L1445: =IFERROR(H1445/(I1445),0) -> 0 | M1445: 1385.5 | N1445: 0
A1446: Mount Lebanon | B1446: Chouf | C1446: 23415 | D1446: Kfar Hamal | E1446: Kfar Haml | F1446: 0 | G1446: 0 | H1446: 0 | I1446: =H1446+F1446 -> 0 | J1446: =G1446/SUM($G$5:$G$1566) -> 0 | K1446: =H1446/SUM($H$5:$H$1566) -> 0 | L1446: =IFERROR(H1446/(I1446),0) -> 0 | M1446: 1385.5 | N1446: 0
A1447: Mount Lebanon | B1447: Chouf | C1447: 23431 | D1447: Mazraat Ed-Douair | E1447: Douair Bsennaï | F1447: 0 | G1447: 0 | H1447: 0 | I1447: =H1447+F1447 -> 0 | J1447: =G1447/SUM($G$5:$G$1566) -> 0 | K1447: =H1447/SUM($H$5:$H$1566) -> 0 | L1447: =IFERROR(H1447/(I1447),0) -> 0 | M1447: 1385.5 | N1447: 0
A1448: Mount Lebanon | B1448: Chouf | C1448: 23435 | D1448: Deir Baba | E1448: Deir Baba | F1448: 691 | G1448: 157 | H1448: 0 | I1448: =H1448+F1448 -> 691 | J1448: =G1448/SUM($G$5:$G$1566) -> 0.00013798716 | K1448: =H1448/SUM($H$5:$H$1566) -> 0 | L1448: =IFERROR(H1448/(I1448),0) -> 0 | M1448: 1385.5 | N1448: 0
A1449: Mount Lebanon | B1449: Chouf | C1449: 23438 | D1449: GHabet Jaafar | E1449: Ghabet Jaafar | F1449: 58 | G1449: 13 | H1449: 0 | I1449: =H1449+F1449 -> 58 | J1449: =G1449/SUM($G$5:$G$1566) -> 1.1425689e-05 | K1449: =H1449/SUM($H$5:$H$1566) -> 0 | L1449: =IFERROR(H1449/(I1449),0) -> 0 | M1449: 1385.5 | N1449: 0
A1450: Mount Lebanon | B1450: Chouf | C1450: 23441 | D1450: Ouadi Ed-Deir | E1450: Wadi El-Deir | F1450: 413 | G1450: 94 | H1450: 0 | I1450: =H1450+F1450 -> 413 | J1450: =G1450/SUM($G$5:$G$1566) -> 8.2616518e-05 | K1450: =H1450/SUM($H$5:$H$1566) -> 0 | L1450: =IFERROR(H1450/(I1450),0) -> 0 | M1450: 1385.5 | N1450: 0
A1451: Mount Lebanon | B1451: Chouf | C1451: 23275 | D1451: Chmaarine | E1451: Chemaarine | F1451: 0 | G1451: 0 | H1451: 0 | I1451: =H1451+F1451 -> 0 | J1451: =G1451/SUM($G$5:$G$1566) -> 0 | K1451: =H1451/SUM($H$5:$H$1566) -> 0 | L1451: =IFERROR(H1451/(I1451),0) -> 0 | M1451: 1385.5 | N1451: 0
A1452: Mount Lebanon | B1452: Chouf | C1452: 23263 | D1452: Benouati Ech-Chouf | E1452: Benouaïti | F1452: 87 | G1452: 20 | H1452: 0 | I1452: =H1452+F1452 -> 87 | J1452: =G1452/SUM($G$5:$G$1566) -> 1.7577983e-05 | K1452: =H1452/SUM($H$5:$H$1566) -> 0 | L1452: =IFERROR(H1452/(I1452),0) -> 0 | M1452: 1385.5 | N1452: 0
A1453: Mount Lebanon | B1453: Chouf | C1453: 23253 | D1453: Bkechtine Ouel Mcheiaa | E1453: Bkhchtaine | F1453: 0 | G1453: 0 | H1453: 0 | I1453: =H1453+F1453 -> 0 | J1453: =G1453/SUM($G$5:$G$1566) -> 0 | K1453: =H1453/SUM($H$5:$H$1566) -> 0 | L1453: =IFERROR(H1453/(I1453),0) -> 0 | M1453: 1385.5 | N1453: 0
A1454: Bekaa | B1454: West Bekaa | C1454: 52241 | D1454: Soltan Yacoub el Aradi | F1454: 36 | G1454: 11 | H1454: 0 | I1454: =H1454+F1454 -> 36 | J1454: =G1454/SUM($G$5:$G$1566) -> 9.6678904e-06 | K1454: =H1454/SUM($H$5:$H$1566) -> 0 | L1454: =IFERROR(H1454/(I1454),0) -> 0 | M1454: 1385.5 | N1454: 0
A1455: Mount Lebanon | B1455: Chouf | C1455: 23235 | D1455: maaniyé | E1455: El-Maaniyeh | F1455: 58 | G1455: 13 | H1455: 0 | I1455: =H1455+F1455 -> 58 | J1455: =G1455/SUM($G$5:$G$1566) -> 1.1425689e-05 | K1455: =H1455/SUM($H$5:$H$1566) -> 0 | L1455: =IFERROR(H1455/(I1455),0) -> 0 | M1455: 1385.5 | N1455: 0
A1456: Bekaa | B1456: West Bekaa | C1456: 52131 | D1456: Deir Aain Ej-Jaouzé | E1456: Deir-Aïn-el-Jaouzé | F1456: 12 | G1456: 4 | H1456: 0 | I1456: =H1456+F1456 -> 12 | J1456: =G1456/SUM($G$5:$G$1566) -> 3.5155965e-06 | K1456: =H1456/SUM($H$5:$H$1566) -> 0 | L1456: =IFERROR(H1456/(I1456),0) -> 0 | M1456: 1385.5 | N1456: 0
A1457: Bekaa | B1457: Rachiaya | C1457: 55167 | D1457: Aain Aarab Rachaiya | E1457: Aïn Arab | F1457: 267 | G1457: 80 | H1457: 0 | I1457: =H1457+F1457 -> 267 | J1457: =G1457/SUM($G$5:$G$1566) -> 7.031193e-05 | K1457: =H1457/SUM($H$5:$H$1566) -> 0 | L1457: =IFERROR(H1457/(I1457),0) -> 0 | M1457: 1385.5 | N1457: 0
A1458: South | B1458: Jezzine | C1458: 63141 | D1458: Ghabbatiyé | E1458: El-Ghabbatieh | F1458: 8 | G1458: 4 | H1458: 0 | I1458: =H1458+F1458 -> 8 | J1458: =G1458/SUM($G$5:$G$1566) -> 3.5155965e-06 | K1458: =H1458/SUM($H$5:$H$1566) -> 0 | L1458: =IFERROR(H1458/(I1458),0) -> 0 | M1458: 1385.5 | N1458: 0
A1459: Bekaa | B1459: Rachiaya | C1459: 55191 | D1459: Selsata (Mazraat Deir El-Aachaiyer) | E1459: Mazraet el-Selasata | F1459: 6 | G1459: 2 | H1459: 0 | I1459: =H1459+F1459 -> 6 | J1459: =G1459/SUM($G$5:$G$1566) -> 1.7577983e-06 | K1459: =H1459/SUM($H$5:$H$1566) -> 0 | L1459: =IFERROR(H1459/(I1459),0) -> 0 | M1459: 1385.5 | N1459: 0
A1460: South | B1460: Jezzine | C1460: 63157 | D1460: Machmouché | E1460: Machmouché | F1460: 122 | G1460: 56 | H1460: 0 | I1460: =H1460+F1460 -> 122 | J1460: =G1460/SUM($G$5:$G$1566) -> 4.9218351e-05 | K1460: =H1460/SUM($H$5:$H$1566) -> 0 | L1460: =IFERROR(H1460/(I1460),0) -> 0 | M1460: 1385.5 | N1460: 0
A1461: South | B1461: Jezzine | C1461: 63297 | D1461: Mazraat El-Mathane | E1461: Mazraat el-Mathané | F1461: 242 | G1461: 110 | H1461: 0 | I1461: =H1461+F1461 -> 242 | J1461: =G1461/SUM($G$5:$G$1566) -> 9.6678904e-05 | K1461: =H1461/SUM($H$5:$H$1566) -> 0 | L1461: =IFERROR(H1461/(I1461),0) -> 0 | M1461: 1385.5 | N1461: 0
A1462: South | B1462: Jezzine | C1462: 63151 | D1462: Btedine El-Leqch | E1462: Bteddine El-Lekche | F1462: 271 | G1462: 123 | H1462: 0 | I1462: =H1462+F1462 -> 271 | J1462: =G1462/SUM($G$5:$G$1566) -> 0.00010810459 | K1462: =H1462/SUM($H$5:$H$1566) -> 0 | L1462: =IFERROR(H1462/(I1462),0) -> 0 | M1462: 1385.5 | N1462: 0
A1463: South | B1463: Jezzine | C1463: 63291 | D1463: Qtalé Jezzine | E1463: Ktalé | F1463: 49 | G1463: 22 | H1463: 0 | I1463: =H1463+F1463 -> 49 | J1463: =G1463/SUM($G$5:$G$1566) -> 1.9335781e-05 | K1463: =H1463/SUM($H$5:$H$1566) -> 0 | L1463: =IFERROR(H1463/(I1463),0) -> 0 | M1463: 1385.5 | N1463: 0
A1464: South | B1464: Jezzine | C1464: 63114 | D1464: Wadi Jezzine | E1464: Wadi Djezzine | F1464: 405 | G1464: 184 | H1464: 0 | I1464: =H1464+F1464 -> 405 | J1464: =G1464/SUM($G$5:$G$1566) -> 0.00016171744 | K1464: =H1464/SUM($H$5:$H$1566) -> 0 | L1464: =IFERROR(H1464/(I1464),0) -> 0 | M1464: 1385.5 | N1464: 0
A1465: South | B1465: Jezzine | C1465: 63117 | D1465: Qabaa Jezzine | E1465: El-Kabeh | F1465: 3 | G1465: 1 | H1465: 0 | I1465: =H1465+F1465 -> 3 | J1465: =G1465/SUM($G$5:$G$1566) -> 8.7889913e-07 | K1465: =H1465/SUM($H$5:$H$1566) -> 0 | L1465: =IFERROR(H1465/(I1465),0) -> 0 | M1465: 1385.5 | N1465: 0
A1466: South | B1466: Jezzine | C1466: 63264 | D1466: Rimat | E1466: Rimate | F1466: 60 | G1466: 27 | H1466: 0 | I1466: =H1466+F1466 -> 60 | J1466: =G1466/SUM($G$5:$G$1566) -> 2.3730276e-05 | K1466: =H1466/SUM($H$5:$H$1566) -> 0 | L1466: =IFERROR(H1466/(I1466),0) -> 0 | M1466: 1385.5 | N1466: 0
... A1566: Nabatiye | B1566: Marjaayoun | C1566: 0 | D1566: Conflict | E1566: Conflict | F1566: 0 | G1566: 0 | H1566: 0 | I1566: =H1566+F1566 -> 0 | J1566: =G1566/SUM($G$5:$G$1566) -> 0 | K1566: =H1566/SUM($H$5:$H$1566) -> 0 | L1566: =IFERROR(H1566/(I1566),0) -> 0 | M1566: 1385.5 | N1566: 0

Sheet Beirut and Mnt Lebanon
A1: BACK to Main List | M1: total in 1st quintile | N1: =COUNTIF($N$3:$N$1867,1) -> 47
A2: Governorate | B2: District | C2: ACS_CODE | D2: ACS_NAME | E2: CAD_NAME | F2: Lebanese Population | G2: Lebanese Population under 4 USD per day | H2: Total Refugees As of 24 Oct 2013 | I2: Total Population (Refugees+Lebanese) | J2: % of all Lebanese under 4USD per day | K2: % of all Refugee Population | L2: % of Refugees compared to total population in Cadastral zone | M2: Rank_tot | N2: quintile
A3: Mount Lebanon | B3: Baabda | C3: 21111 | D3: Chiyah | E3: Chiah | F3: 201214 | G3: 49297 | H3: 30311 | I3: 231525 | J3: 0.04332709 | K3: 0.035748404 | L3: 0.13091891 | M3: 1 | N3: 1
A4: Mount Lebanon | B4: Baabda | C4: 21177 | D4: Bourj El-Brajneh | E4: Borge el Baragenat | F4: 115476 | G4: 28292 | H4: 16570 | I4: 132046 | J4: 0.024865814 | K4: 0.019542445 | L4: 0.12548657 | M4: 2 | N4: 1
A5: Mount Lebanon | B5: Aley | C5: 24111 | D5: Choueifat El-Aamrousiyé | E5: Chouaifat Amroussyat | F5: 53522 | G5: 12187 | H5: 11767 | I5: 65289 | J5: 0.010711144 | K5: 0.013877849 | L5: 0.18022944 | M5: 7 | N5: 1
A6: Mount Lebanon | B6: El Metn | C6: 22111 | D6: Bourj Hammoud | E6: Borge Hammoud | F6: 75866 | G6: 8482 | H6: 12617 | I6: 88483 | J6: 0.0074548224 | K6: 0.014880328 | L6: 0.14259236 | M6: 12 | N6: 1
A7: Beirut | B7: Beirut | C7: 10310 | D7: Mazraa foncière | E7: Mazraa | F7: 113516 | G7: 6641 | H7: 9345 | I7: 122861 | J7: 0.0058367691 | K7: 0.011021373 | L7: 0.076061566 | M7: 14 | N7: 1
A8: Mount Lebanon | B8: Baabda | C8: 21144 | D8: Haret Hreik | E8: Haret Horaïk | F8: 65240 | G8: 15984 | H8: 2789 | I8: 68029 | J8: 0.014048324 | K8: 0.0032893107 | L8: 0.040997222 | M8: 22 | N8: 1
A9: Mount Lebanon | B9: El Metn | C9: 22228 | D9: Baouchriyé | E9: Baouchariat | F9: 65371 | G9: 7308 | H9: 5754 | I9: 71125 | J9: 0.0064229948 | K9: 0.0067861936 | L9: 0.080899824 | M9: 23 | N9: 1
A10: Mount Lebanon | B10: Aley | C10: 24133 | D10: Choueifat El-Quoubbé | E10: Chouaifat Qobbat | F10: 20973 | G10: 4776 | H10: 3978 | I10: 24951 | J10: 0.0041976222 | K10: 0.0046916021 | L10: 0.15943249 | M10: 33 | N10: 1
A11: Mount Lebanon | B11: Chouf | C11: 23251 | D11: Barja | E11: Barja | F11: 11756 | G11: 2677 | H11: 5931 | I11: 17687 | J11: 0.002352813 | K11: 0.0069949451 | L11: 0.33533103 | M11: 35 | N11: 1
A12: Mount Lebanon | B12: Chouf | C12: 23211 | D12: Chhim | E12: Chehime | F12: 13565 | G12: 3089 | H12: 4567 | I12: 18132 | J12: 0.0027149194 | K12: 0.0053862611 | L12: 0.25187514 | M12: 39 | N12: 1
A13: Mount Lebanon | B13: Aley | C13: 24311 | D13: Aaley | E13: Aley | F13: 16610 | G13: 3782 | H13: 3399 | I13: 20009 | J13: 0.0033239965 | K13: 0.0040087369 | L13: 0.16987356 | M13: 42 | N13: 1
A14: Beirut | B14: Beirut | C14: 10210 | D14: Msaitbé foncière | E14: Moussaytbeh | F14: 90437 | G14: 5291 | H14: 2340 | I14: 92777 | J14: 0.0046502553 | K14: 0.0027597659 | L14: 0.025221768 | M14: 44 | N14: 1
... A429: Mount Lebanon | B429: Jubail | C429: 26374 | D429: Aarab El-Lahib | E429: Arab El-Haibe | F429: 0 | G429: 0 | H429: 0 | I429: 0 | J429: 0 | K429: 0 | L429: 0 | M429: 1385.5 | N429: 0
A430: Mount Lebanon | B430: Jubail | C430: 26390 | D430: Hema Er-Rehban | F430: 0 | G430: 0 | H430: 0 | I430: 0 | J430: 0 | K430: 0 | L430: 0 | M430: 1385.5 | N430: 0
A431: Mount Lebanon | B431: Jubail | C431: 26388 | D431: Hema Mar Maroun Aannaya | F431: 9 | G431: 1 | H431: 0 | I431: 9 | J431: 8.7889913e-07 | K431: 0 | L431: 0 | M431: 1385.5 | N431: 0
A432: Mount Lebanon | B432: Jubail | C432: 26264 | D432: Kfar Qouas | E432: Kfar Kaouass | F432: 15 | G432: 2 | H432: 0 | I432: 15 | J432: 1.7577983e-06 | K432: 0 | L432: 0 | M432: 1385.5 | N432: 0
A433: Mount Lebanon | B433: Jubail | C433: 26283 | D433: Bmehrayn | E433: Mehrine | F433: 29 | G433: 4 | H433: 0 | I433: 29 | J433: 3.5155965e-06 | K433: 0 | L433: 0 | M433: 1385.5 | N433: 0
A434: Mount Lebanon | B434: Jubail | C434: 26213 | D434: Mazraat El-Maaden | F434: 0 | G434: 0 | H434: 0 | I434: 0 | J434: 0 | K434: 0 | L434: 0 | M434: 1385.5 | N434: 0
A435: Mount Lebanon | B435: Jubail | C435: 26274 | D435: Jlissé | E435: El-Jlaicé | F435: 29 | G435: 4 | H435: 0 | I435: 29 | J435: 3.5155965e-06 | K435: 0 | L435: 0 | M435: 1385.5 | N435: 0
A436: Mount Lebanon | B436: Jubail | C436: 26214 | D436: Aalmat Ej-Jnoubiyé | E436: Almate El-Jenoubiat | F436: 49 | G436: 7 | H436: 0 | I436: 49 | J436: 6.1522939e-06 | K436: 0 | L436: 0 | M436: 1385.5 | N436: 0
A437: Mount Lebanon | B437: Jubail | C437: 26254 | D437: Sebrine | E437: Sirine | F437: 0 | G437: 0 | H437: 0 | I437: 0 | J437: 0 | K437: 0 | L437: 0 | M437: 1385.5 | N437: 0
A438: Mount Lebanon | B438: Jubail | C438: 26236 | D438: Jouret El-Qattine | E438: Jouret-el-Kattine | F438: 69 | G438: 11 | H438: 0 | I438: 69 | J438: 9.6678904e-06 | K438: 0 | L438: 0 | M438: 1385.5 | N438: 0
A439: Mount Lebanon | B439: Jubail | C439: 26344 | D439: Tadmor | E439: Tedmor et Serghal | F439: 0 | G439: 0 | H439: 0 | I439: 0 | J439: 0 | K439: 0 | L439: 0 | M439: 1385.5 | N439: 0
A440: Mount Lebanon | B440: Jubail | C440: 26357 | D440: Majdel El-Aqoura | E440: El-Mejdel | F440: 388 | G440: 59 | H440: 0 | I440: 388 | J440: 5.1855048e-05 | K440: 0 | L440: 0 | M440: 1385.5 | N440: 0
A441: Mount Lebanon | B441: Jubail | C441: 26354 | D441: Boulhos | E441: Belhos | F441: 0 | G441: 0 | H441: 0 | I441: 0 | J441: 0 | K441: 0 | L441: 0 | M441: 1385.5 | N441: 0
A442: Mount Lebanon | B442: Jubail | C442: 26217 | D442: Ferhet | E442: Farhat | F442: 290 | G442: 44 | H442: 0 | I442: 290 | J442: 3.8671562e-05 | K442: 0 | L442: 0 | M442: 1385.5 | N442: 0
A443: Mount Lebanon | B443: Jubail | C443: 26229 | D443: Hsoun | E443: El-Hsoune | F443: 657 | G443: 100 | H443: 0 | I443: 657 | J443: 8.7889913e-05 | K443: 0 | L443: 0 | M443: 1385.5 | N443: 0
A444: Mount Lebanon | B444: Jubail | C444: 26314 | D444: Mar Sarkis | E444: Deir Mar Sarkis | F444: 78 | G444: 12 | H444: 0 | I444: 78 | J444: 1.054679e-05 | K444: 0 | L444: 0 | M444: 1385.5 | N444: 0
A445: Mount Lebanon | B445: Jubail | C445: 26219 | D445: Aalita | E445: Alita | F445: 9 | G445: 1 | H445: 0 | I445: 9 | J445: 8.7889913e-07 | K445: 0 | L445: 0 | M445: 1385.5 | N445: 0
A446: Mount Lebanon | B446: Jubail | C446: 26324 | D446: Hdeine | E446: Hedayné | F446: 78 | G446: 12 | H446: 0 | I446: 78 | J446: 1.054679e-05 | K446: 0 | L446: 0 | M446: 1385.5 | N446: 0
... A448: Mount Lebanon | B448: Jubail | C448: 26227 | D448: Aain Jrain | E448: Aïn-Jraïne | F448: 162 | G448: 25 | H448: 0 | I448: 162 | J448: 2.1972478e-05 | K448: 0 | L448: 0 | M448: 1385.5 | N448: 0
A449: Mount Lebanon | B449: Jubail | C449: 26392 | D449: Aarasta | F449: 59 | G449: 9 | H449: 0 | I449: 59 | J449: 7.9100921e-06 | K449: 0 | L449: 0 | M449: 1385.5 | N449: 0
A450: Mount Lebanon | B450: Jubail | C450: 26334 | D450: Seraaiita | E450: Sarhita | F450: 0 | G450: 0 | H450: 0 | I450: 0 | J450: 0 | K450: 0 | L450: 0 | M450: 1385.5 | N450: 0
A451: Mount Lebanon | B451: Jubail | C451: 26351 | D451: Qorqraiya | E451: Korkraya | F451: 113 | G451: 17 | H451: 0 | I451: 113 | J451: 1.4941285e-05 | K451: 0 | L451: 0 | M451: 1385.5 | N451: 0
A452: Mount Lebanon | B452: Jubail | C452: 26327 | D452: Janné | E452: Janné | F452: 64 | G452: 10 | H452: 0 | I452: 64 | J452: 8.7889913e-06 | K452: 0 | L452: 0 | M452: 1385.5 | N452: 0
A453: Mount Lebanon | B453: Kasrouane | C453: 25181 | D453: Kharayeb Nahr Ibrahim | E453: Kharayeb Nahr Ibrahim | F453: 154 | G453: 23 | H453: 0 | I453: 154 | J453: 2.021468e-05 | K453: 0 | L453: 0 | M453: 1385.5 | N453: 0
A454: Mount Lebanon | B454: Kasrouane | C454: 25353 | D454: Zaaitré | E454: Zaaitré | F454: 659 | G454: 100 | H454: 0 | I454: 659 | J454: 8.7889913e-05 | K454: 0 | L454: 0 | M454: 1385.5 | N454: 0
A455: Mount Lebanon | B455: Kasrouane | C455: 25365 | D455: Jouret Bedrane | E455: Jouret Bedrane | F455: 621 | G455: 95 | H455: 0 | I455: 621 | J455: 8.3495417e-05 | K455: 0 | L455: 0 | M455: 1385.5 | N455: 0
A456: Mount Lebanon | B456: Kasrouane | C456: 25361 | D456: Aazra ouel Aazr | E456: El-Azra | F456: 467 | G456: 71 | H456: 0 | I456: 467 | J456: 6.2401838e-05 | K456: 0 | L456: 0 | M456: 1385.5 | N456: 0
A457: Mount Lebanon | B457: Kasrouane | C457: 25371 | D457: Nahr Ed-Dahab | E457: Nahr El-Dahab | F457: 311 | G457: 47 | H457: 0 | I457: 311 | J457: 4.1308259e-05 | K457: 0 | L457: 0 | M457: 1385.5 | N457: 0
A458: Mount Lebanon | B458: Kasrouane | C458: 25488 | D458: Mchaa El Ftouh | F458: 0 | G458: 0 | H458: 0 | I458: 0 | J458: 0 | K458: 0 | L458: 0 | M458: 1385.5 | N458: 0
A459: Mount Lebanon | B459: Kasrouane | C459: 25176 | D459: Bqaq Ed-Dine | E459: Boukak El-Dine | F459: 2352 | G459: 358 | H459: 0 | I459: 2352 | J459: 0.00031464589 | K459: 0 | L459: 0 | M459: 1385.5 | N459: 0
A460: Mount Lebanon | B460: Kasrouane | C460: 25345 | D460: Hsayn | E460: El-Hossein | F460: 211 | G460: 32 | H460: 0 | I460: 211 | J460: 2.8124772e-05 | K460: 0 | L460: 0 | M460: 1385.5 | N460: 0
A461: Mount Lebanon | B461: Kasrouane | C461: 25485 | D461: Mchaa Faraya | E461: Mouchaa Kesrouan (Faraya) | F461: 0 | G461: 0 | H461: 0 | I461: 0 | J461: 0 | K461: 0 | L461: 0 | M461: 1385.5 | N461: 0
A462: Mount Lebanon | B462: Kasrouane | C462: 25467 | D462: Mghayer | E462: El-Mghaer | F462: 0 | G462: 0 | H462: 0 | I462: 0 | J462: 0 | K462: 0 | L462: 0 | M462: 1385.5 | N462: 0
A463: Mount Lebanon | B463: Kasrouane | C463: 25359 | D463: Jouret Mhad | E463: Jouret Mhad | F463: 25 | G463: 4 | H463: 0 | I463: 25 | J463: 3.5155965e-06 | K463: 0 | L463: 0 | M463: 1385.5 | N463: 0
A464: Mount Lebanon | B464: Kasrouane | C464: 25351 | D464: Chahtoul | E464: Chahtoul | F464: 551 | G464: 84 | H464: 0 | I464: 551 | J464: 7.3827527e-05 | K464: 0 | L464: 0 | M464: 1385.5 | N464: 0
A465: Mount Lebanon | B465: Kasrouane | C465: 25333 | D465: Harharaya | E465: Herhraya et Kattine | F465: 414 | G465: 63 | H465: 0 | I465: 414 | J465: 5.5370645e-05 | K465: 0 | L465: 0 | M465: 1385.5 | N465: 0
A466: Mount Lebanon | B466: Kasrouane | C466: 25141 | D466: Ouata Sillam | E466: Wata Salam | F466: 965 | G466: 147 | H466: 0 | I466: 965 | J466: 0.00012919817 | K466: 0 | L466: 0 | M466: 1385.5 | N466: 0
A467: Mount Lebanon | B467: Kasrouane | C467: 25349 | D467: Hayata | E467: Hayata | F467: 389 | G467: 59 | H467: 0 | I467: 389 | J467: 5.1855048e-05 | K467: 0 | L467: 0 | M467: 1385.5 | N467: 0
A468: Mount Lebanon | B468: Kasrouane | C468: 25391 | D468: Ighbé | E468: Eghbeh | F468: 50 | G468: 8 | H468: 0 | I468: 50 | J468: 7.031193e-06 | K468: 0 | L468: 0 | M468: 1385.5 | N468: 0
A469: Mount Lebanon | B469: Kasrouane | C469: 25482 | D469: Mchaa Kfar Dibiane | E469: Mouchaa Kesrouan (Kfardebian) | F469: 0 | G469: 0 | H469: 0 | I469: 0 | J469: 0 | K469: 0 | L469: 0 | M469: 1385.5 | N469: 0
A470: Mount Lebanon | B470: Kasrouane | C470: 25321 | D470: Maarab | E470: Maarab | F470: 154 | G470: 23 | H470: 0 | I470: 154 | J470: 2.021468e-05 | K470: 0 | L470: 0 | M470: 1385.5 | N470: 0
... A511: Mount Lebanon | B511: Chouf | C511: 23455 | D511: Kfar Niss | E511: Kfarnice | F511: 787 | G511: 179 | H511: 0 | I511: 787 | J511: 0.00015732294 | K511: 0 | L511: 0 | M511: 1385.5 | N511: 0
A512: Mount Lebanon | B512: Aley | C512: 24373 | D512: Jisr El Qadi | F512: 14 | G512: 3 | H512: 0 | I512: 14 | J512: 2.6366974e-06 | K512: 0 | L512: 0 | M512: 1385.5 | N512: 0
A513: Mount Lebanon | B513: Chouf | C513: 23415 | D513: Kfar Hamal | E513: Kfar Haml | F513: 0 | G513: 0 | H513: 0 | I513: 0 | J513: 0 | K513: 0 | L513: 0 | M513: 1385.5 | N513: 0
A514: Mount Lebanon | B514: Chouf | C514: 23431 | D514: Mazraat Ed-Douair | E514: Douair Bsennaï | F514: 0 | G514: 0 | H514: 0 | I514: 0 | J514: 0 | K514: 0 | L514: 0 | M514: 1385.5 | N514: 0
A515: Mount Lebanon | B515: Chouf | C515: 23435 | D515: Deir Baba | E515: Deir Baba | F515: 691 | G515: 157 | H515: 0 | I515: 691 | J515: 0.00013798716 | K515: 0 | L515: 0 | M515: 1385.5 | N515: 0
A516: Mount Lebanon | B516: Chouf | C516: 23438 | D516: GHabet Jaafar | E516: Ghabet Jaafar | F516: 58 | G516: 13 | H516: 0 | I516: 58 | J516: 1.1425689e-05 | K516: 0 | L516: 0 | M516: 1385.5 | N516: 0
A517: Mount Lebanon | B517: Chouf | C517: 23441 | D517: Ouadi Ed-Deir | E517: Wadi El-Deir | F517: 413 | G517: 94 | H517: 0 | I517: 413 | J517: 8.2616518e-05 | K517: 0 | L517: 0 | M517: 1385.5 | N517: 0
A518: Mount Lebanon | B518: Chouf | C518: 23275 | D518: Chmaarine | E518: Chemaarine | F518: 0 | G518: 0 | H518: 0 | I518: 0 | J518: 0 | K518: 0 | L518: 0 | M518: 1385.5 | N518: 0
A519: Mount Lebanon | B519: Chouf | C519: 23263 | D519: Benouati Ech-Chouf | E519: Benouaïti | F519: 87 | G519: 20 | H519: 0 | I519: 87 | J519: 1.7577983e-05 | K519: 0 | L519: 0 | M519: 1385.5 | N519: 0
A520: Mount Lebanon | B520: Chouf | C520: 23253 | D520: Bkechtine Ouel Mcheiaa | E520: Bkhchtaine | F520: 0 | G520: 0 | H520: 0 | I520: 0 | J520: 0 | K520: 0 | L520: 0 | M520: 1385.5 | N520: 0
A521: Mount Lebanon | B521: Chouf | C521: 23235 | D521: maaniyé | E521: El-Maaniyeh | F521: 58 | G521: 13 | H521: 0 | I521: 58 | J521: 1.1425689e-05 | K521: 0 | L521: 0 | M521: 1385.5 | N521: 0

Sheet North-Akkar
A1: BACK to Main List | M1: total in 1st quintile | N1: =COUNTIF($N$3:$N$1873,1) -> 33
A2: Governorate | B2: District | C2: ACS_CODE | D2: ACS_NAME | E2: CAD_NAME | F2: Lebanese Population | G2: Lebanese Population under 4 USD per day | H2: Total Refugees As of 24 Oct 2013 | I2: Total Population (Refugees+Lebanese) | J2: % of all Lebanese under 4USD per day | K2: % of all Refugee Population | L2: % of Refugees compared to total population in Cadastral zone | M2: Rank_tot | N2: quintile
A3: North | B3: Akkar | C3: 35277 | D3: Mhammaret | E3: Al-Mehamra | F3: 26750 | G3: 16847 | H3: 7630 | I3: 34380 | J3: 0.014806814 | K3: 0.0089987239 | L3: 0.22193136 | M3: 10 | N3: 1
A4: North | B4: Akkar | C4: 35512 | D4: Aamayer | E4: Ouadi Khaled | F4: 5865 | G4: 3694 | H4: 13848 | I4: 19713 | J4: 0.0032466534 | K4: 0.016332153 | L4: 0.7024806 | M4: 16 | N4: 1
A5: North | B5: Akkar | C5: 35111 | D5: Halba | E5: Halba | F5: 5833 | G5: 3674 | H5: 10897 | I5: 16730 | J5: 0.0032290754 | K5: 0.012851782 | L5: 0.65134489 | M5: 25 | N5: 1
A6: North | B6: Akkar | C6: 35275 | D6: Bebnine | E6: Bebnine | F6: 12787 | G6: 8053 | H6: 4939 | I6: 17726 | J6: 0.0070777747 | K6: 0.0058249931 | L6: 0.27863026 | M6: 26 | N6: 1
A7: North | B7: Akkar | C7: 35516 | D7: Mazareaa Jabal Akroum | E7: Akroum | F7: 5529 | G7: 3482 | H7: 5262 | I7: 10791 | J7: 0.0030603268 | K7: 0.0062059351 | L7: 0.48762858 | M7: 34 | N7: 1
A8: North | B8: Akkar | C8: 35437 | D8: Machta Hammoud | E8: Machta Hammoud | F8: 9033 | G8: 5689 | H8: 2649 | I8: 11682 | J8: 0.0050000571 | K8: 0.0031241965 | L8: 0.22675912 | M8: 37 | N8: 1
A9: North | B9: Akkar | C9: 35314 | D9: berqayel | E9: Berkayel | F9: 6549 | G9: 4125 | H9: 3632 | I9: 10181 | J9: 0.0036254589 | K9: 0.0042835341 | L9: 0.35674295 | M9: 38 | N9: 1
A10: North | B10: Akkar | C10: 35353 | D10: Fnaydeq | E10: Fneidek | F10: 9698 | G10: 6108 | H10: 1058 | I10: 10756 | J10: 0.0053683159 | K10: 0.0012477916 | L10: 0.098363704 | M10: 68 | N10: 1
A11: North | B11: Akkar | C11: 35216 | D11: Khreibet Ej-Jindi | E11: Al-Khraibé | F11: 3684 | G11: 2320 | H11: 2329 | I11: 6013 | J11: 0.002039046 | K11: 0.0027467927 | L11: 0.38732746 | M11: 73 | N11: 1
A12: North | B12: Akkar | C12: 35191 | D12: Aakkar El-Aatiqa | E12: Akkar El-Atika | F12: 7491 | G12: 4718 | H12: 1029 | I12: 8520 | J12: 0.0041466461 | K12: 0.0012135894 | L12: 0.12077465 | M12: 78 | N12: 1
A13: North | B13: Akkar | C13: 35364 | D13: Ouadi El-Jamous | E13: Ouadi El-Jamous | F13: 4310 | G13: 2714 | H13: 1464 | I13: 5774 | J13: 0.0023853322 | K13: 0.0017266228 | L13: 0.2535504 | M13: 87 | N13: 1
A14: North | B14: Akkar | C14: 35149 | D14: Deir Dalloum | E14: Deir-Daloum | F14: 3368 | G14: 2121 | H14: 1789 | I14: 5157 | J14: 0.001864145 | K14: 0.0021099236 | L14: 0.34690712 | M14: 89 | N14: 1
... A167: North | B167: Akkar | C167: 35327 | D167: Sadaqa | E167: Sadaka | F167: 39 | G167: 25 | H167: 0 | I167: 39 | J167: 2.1972478e-05 | K167: 0 | L167: 0 | M167: 1385.5 | N167: 0

Sheet North-T+5
A1: BACK to Main List | M1: total in 1st quintile | N1: =COUNTIF($N$3:$N$1871,1) -> 35
A2: Governorate | B2: District | C2: ACS_CODE | D2: ACS_NAME | E2: CAD_NAME | F2: Lebanese Population | G2: Lebanese Population under 4 USD per day | H2: Total Refugees As of 24 Oct 2013 | I2: Total Population (Refugees+Lebanese) | J2: % of all Lebanese under 4USD per day | K2: % of all Refugee Population | L2: % of Refugees compared to total population in Cadastral zone | M2: Rank_tot | N2: quintile
A3: North | B3: Tripoli | C3: 31151 | D3: Trablous El-Qobbe | E3: Tripoli Al-Kobbé | F3: 55817 | G3: 31659 | H3: 9652 | I3: 65469 | J3: 0.027825067 | K3: 0.011383445 | L3: 0.14742855 | M3: 3 | N3: 1
A4: North | B4: Minieh-Danieh | C4: 37231 | D4: Beddaoui | E4: Al-Beddaoui | F4: 27460 | G4: 17294 | H4: 14813 | I4: 42273 | J4: 0.015199681 | K4: 0.017470262 | L4: 0.35041279 | M4: 5 | N4: 1
A5: North | B5: Minieh-Danieh | C5: 37271 | D5: Minie | E5: Al-Minieh | F5: 21320 | G5: 13427 | H5: 16473 | I5: 37793 | J5: 0.011800979 | K5: 0.019428044 | L5: 0.43587437 | M5: 6 | N5: 1
A6: North | B6: Tripoli | C6: 31121 | D6: Trablous Et-Tell | E6: Tripoli Al-Tal | F6: 57625 | G6: 32685 | H6: 4014 | I6: 61639 | J6: 0.028726818 | K6: 0.00473406 | L6: 0.065121108 | M6: 9 | N6: 1
A7: North | B7: Tripoli | C7: 31161 | D7: Trablous et Tabbaneh | E7: Tripoli Al-Tabbaneh | F7: 19931 | G7: 11305 | H7: 6411 | I7: 26342 | J7: 0.0099359546 | K7: 0.007561051 | L7: 0.2433756 | M7: 13 | N7: 1
A8: North | B8: Tripoli | C8: 31116 | D8: Trablous El-Haddadine | E8: Tripoli Al Haddadin | F8: 52252 | G8: 29637 | H8: 1654 | I8: 53906 | J8: 0.026047933 | K8: 0.0019507063 | L8: 0.030683041 | M8: 18 | N8: 1
A9: North | B9: Tripoli | C9: 31111 | D9: Trablous Ez-Zeitoun | E9: Tripoli Zeitoun | F9: 4902 | G9: 2780 | H9: 17587 | I9: 22489 | J9: 0.0024433396 | K9: 0.020741882 | L9: 0.78202677 | M9: 19 | N9: 1
A10: North | B10: Tripoli | C10: 31186 | D10: Mina Jardin | E10: Al-Mina Jardins | F10: 15574 | G10: 8834 | H10: 5357 | I10: 20931 | J10: 0.0077641949 | K10: 0.0063179769 | L10: 0.25593617 | M10: 20 | N10: 1
A11: North | B11: Minieh-Danieh | C11: 37311 | D11: Sir Ed-Danniyé | E11: Sir | F11: 4228 | G11: 2663 | H11: 5020 | I11: 9248 | J11: 0.0023405084 | K11: 0.0059205235 | L11: 0.54282007 | M11: 41 | N11: 1
A12: North | B12: Tripoli | C12: 31181 | D12: Mina N:3 | E12: Al-Mina No3 | F12: 9595 | G12: 5442 | H12: 2214 | I12: 11809 | J12: 0.004782969 | K12: 0.0026111631 | L12: 0.18748412 | M12: 45 | N12: 1
A13: North | B13: Minieh-Danieh | C13: 37391 | D13: Bakhaaoun | E13: Bakhoune | F13: 8921 | G13: 5618 | H13: 1998 | I13: 10919 | J13: 0.0049376553 | K13: 0.0023564155 | L13: 0.18298379 | M13: 48 | N13: 1
A14: North | B14: Minieh-Danieh | C14: 37241 | D14: Deir Aammar | E14: Deir Omar | F14: 4890 | G14: 3080 | H14: 3514 | I14: 8404 | J14: 0.0027070093 | K14: 0.0041443664 | L14: 0.41813422 | M14: 50 | N14: 1
... A235: North | B235: Koura | C235: 32193 | D235: Bqaiaa El-Koura | E235: Al-Boukaia | F235: 4 | G235: 1 | H235: 0 | I235: 4 | J235: 8.7889913e-07 | K235: 0 | L235: 0 | M235: 1385.5 | N235: 0
A236: North | B236: Zgharta | C236: 33152 | D236: Houakir | F236: 0 | G236: 0 | H236: 3 | I236: 3 | J236: 0 | K236: 3.5381614e-06 | L236: 1 | M236: 1385.5 | N236: 0
A237: North | B237: Minieh-Danieh | C237: 37389 | D237: Mazraat El-Kreme | E237: Mazraet El-Krême | F237: 0 | G237: 0 | H237: 0 | I237: 0 | J237: 0 | K237: 0 | L237: 0 | M237: 1385.5 | N237: 0
A238: North | B238: Minieh-Danieh | C238: 37379 | D238: Bechehhara | E238: Bechhara | F238: 7 | G238: 4 | H238: 0 | I238: 7 | J238: 3.5155965e-06 | K238: 0 | L238: 0 | M238: 1385.5 | N238: 0
A239: North | B239: Koura | C239: 32161 | D239: Badbhoun | E239: Badbhoun | F239: 183 | G239: 45 | H239: 0 | I239: 183 | J239: 3.9550461e-05 | K239: 0 | L239: 0 | M239: 1385.5 | N239: 0
A240: North | B240: Minieh-Danieh | C240: 37371 | D240: Behouaita | E240: Behweité | F240: 427 | G240: 269 | H240: 0 | I240: 427 | J240: 0.00023642386 | K240: 0 | L240: 0 | M240: 1385.5 | N240: 0
A241: North | B241: Zgharta | C241: 33291 | D241: Ijbaa | E241: Ejbeh | F241: 99 | G241: 24 | H241: 0 | I241: 99 | J241: 2.1093579e-05 | K241: 0 | L241: 0 | M241: 1385.5 | N241: 0
A242: North | B242: Zgharta | C242: 33215 | D242: Beslouqit | E242: Basloukite | F242: 0 | G242: 0 | H242: 0 | I242: 0 | J242: 0 | K242: 0 | L242: 0 | M242: 1385.5 | N242: 0
A243: North | B243: Zgharta | C243: 33255 | D243: Seraal | E243: Serhel | F243: 523 | G243: 129 | H243: 0 | I243: 523 | J243: 0.00011337799 | K243: 0 | L243: 0 | M243: 1385.5 | N243: 0
A244: North | B244: Batroun | C244: 34284 | D244: Ras Nahhach | E244: Ras Nahache | F244: 1173 | G244: 290 | H244: 0 | I244: 1173 | J244: 0.00025488075 | K244: 0 | L244: 0 | M244: 1385.5 | N244: 0
A245: North | B245: Zgharta | C245: 33219 | D245: Aintourine | E245: Aïntourine | F245: 59 | G245: 15 | H245: 0 | I245: 59 | J245: 1.3183487e-05 | K245: 0 | L245: 0 | M245: 1385.5 | N245: 0
A246: North | B246: Batroun | C246: 34286 | D246: Ouajh El-Hajjar | E246: Wejh-el-Hajar | F246: 389 | G246: 96 | H246: 0 | I246: 389 | J246: 8.4374316e-05 | K246: 0 | L246: 0 | M246: 1385.5 | N246: 0
A247: North | B247: Zgharta | C247: 33223 | D247: Kfarsghab | E247: Kfarsghab | F247: 10 | G247: 2 | H247: 0 | I247: 10 | J247: 1.7577983e-06 | K247: 0 | L247: 0 | M247: 1385.5 | N247: 0
A248: North | B248: Bcharre | C248: 36114 | D248: Qnayouer | E248: Knaiouer | F248: 132 | G248: 33 | H248: 0 | I248: 132 | J248: 2.9003671e-05 | K248: 0 | L248: 0 | M248: 1385.5 | N248: 0
... A267: North | B267: Minieh-Danieh | C267: 37344 | D267: Qemmamine | E267: Qemmamine | F267: 446 | G267: 281 | H267: 0 | I267: 446 | J267: 0.00024697065 | K267: 0 | L267: 0 | M267: 1385.5 | N267: 0

Sheet South
A1: BACK to Main List | M1: total in 1st quintile | N1: =COUNTIF($N$3:$N$1870,1) -> 51
A2: Governorate | B2: District | C2: ACS_CODE | D2: ACS_NAME | E2: CAD_NAME | F2: Lebanese Population | G2: Lebanese Population under 4 USD per day | H2: Total Refugees As of 24 Oct 2013 | I2: Total Population (Refugees+Lebanese) | J2: % of all Lebanese under 4USD per day | K2: % of all Refugee Population | L2: % of Refugees compared to total population in Cadastral zone | M2: Rank_tot | N2: quintile
A3: South | B3: Sour | C3: 62111 | D3: Sour | E3: Sour (Tyr) | F3: 47479 | G3: 17287 | H3: 6912 | I3: 54391 | J3: 0.015193529 | K3: 0.0081519239 | L3: 0.12707985 | M3: 11 | N3: 1
A4: South | B4: Saida | C4: 61115 | D4: Saida El-Qadimeh | E4: Saïda Ville | F4: 9028 | G4: 4111 | H4: 10169 | I4: 19197 | J4: 0.0036131543 | K4: 0.011993188 | L4: 0.52971819 | M4: 24 | N4: 1
A5: South | B5: Saida | C5: 61311 | D5: Ghaziyé | E5: Ghazyat | F5: 13143 | G5: 5985 | H5: 4683 | I5: 17826 | J5: 0.0052602113 | K5: 0.00552307 | L5: 0.26270616 | M5: 27 | N5: 1
A6: South | B6: Sour | C6: 62128 | D6: Borj Ech-Chemali | E6: Borge El-Chémali | F6: 22311 | G6: 8123 | H6: 2570 | I6: 24881 | J6: 0.0071392976 | K6: 0.003031025 | L6: 0.10329167 | M6: 30 | N6: 1
A7: South | B7: Saida | C7: 61183 | D7: Miyé ou Miyé | E7: Miemié | F7: 23184 | G7: 10558 | H7: 1965 | I7: 25149 | J7: 0.009279417 | K7: 0.0023174957 | L7: 0.078134319 | M7: 31 | N7: 1
A8: South | B8: Saida | C8: 61449 | D8: Sarafand | E8: Sarafend | F8: 12483 | G8: 5685 | H8: 2401 | I8: 14884 | J8: 0.0049965415 | K8: 0.0028317085 | L8: 0.16131416 | M8: 40 | N8: 1
A9: South | B9: Sour | C9: 62276 | D9: Aabbassiyet Sour | E9: Abbassyat | F9: 11925 | G9: 4342 | H9: 1785 | I9: 13710 | J9: 0.00381618 | K9: 0.0021052061 | L9: 0.13019694 | M9: 61 | N9: 1
A10: South | B10: Saida | C10: 61453 | D10: Bissariyé | E10: Bissariat | F10: 3734 | G10: 1700 | H10: 4137 | I10: 7871 | J10: 0.0014941285 | K10: 0.0048791246 | L10: 0.5256003 | M10: 65 | N10: 1
A11: South | B11: Saida | C11: 61159 | D11: Haret Saida | E11: Haret Saïda | F11: 13314 | G11: 6063 | H11: 979 | I11: 14293 | J11: 0.0053287654 | K11: 0.00115462 | L11: 0.068495068 | M11: 71 | N11: 1
A12: Nabatiye | B12: Nabatiye | C12: 71111 | D12: Nabatieh Et-Tahta | E12: Nabatiyé El-Tahta | F12: 17503 | G12: 1990 | H12: 2977 | I12: 20480 | J12: 0.0017490093 | K12: 0.0035110355 | L12: 0.14536133 | M12: 72 | N12: 1
A13: South | B13: Saida | C13: 61244 | D13: AAbra Saida | E13: Abra | F13: 9045 | G13: 4119 | H13: 1068 | I13: 10113 | J13: 0.0036201855 | K13: 0.0012595855 | L13: 0.10560664 | M13: 82 | N13: 1
A14: South | B14: Saida | C14: 61147 | D14: Hlaliyé Saida | E14: Helaliat | F14: 11914 | G14: 5426 | H14: 663 | I14: 12577 | J14: 0.0047689067 | K14: 0.00078193368 | L14: 0.052715274 | M14: 94 | N14: 1
... A376: Nabatiye | B376: Marjaayoun | C376: 0 | D376: Conflict | E376: Conflict | F376: 0 | G376: 0 | H376: 0 | I376: 0 | J376: 0 | K376: 0 | L376: 0 | M376: 1385.5 | N376: 0

Sheet Bekaa
A1: BACK to Main List | M1: total in 1st quintile | N1: =COUNTIF($N$3:$N$1870,1) -> 63
A2: Governorate | B2: District | C2: ACS_CODE | D2: ACS_NAME | E2: CAD_NAME | F2: Lebanese Population | G2: Lebanese Population under 4 USD per day | H2: Total Refugees As of 24 Oct 2013 | I2: Total Population (Refugees+Lebanese) | J2: % of all Lebanese under 4USD per day | K2: % of all Refugee Population | L2: % of Refugees compared to total population in Cadastral zone | M2: Rank_tot | N2: quintile
A3: Bekaa | B3: Baalbek | C3: 53111 | D3: Baalbek | E3: Baalbek | F3: 48664 | G3: 15835 | H3: 16658 | I3: 65322 | J3: 0.013917368 | K3: 0.019646231 | L3: 0.25501362 | M3: 4 | N3: 1
A4: Bekaa | B4: Baalbek | C4: 53231 | D4: Aarsal | E4: Arsale | F4: 17105 | G4: 5566 | H4: 25609 | I4: 42714 | J4: 0.0048919525 | K4: 0.030202925 | L4: 0.59954582 | M4: 8 | N4: 1
A5: Bekaa | B5: Zahle | C5: 51267 | D5: Barr Elias | E5: Bar-Elias | F5: 10620 | G5: 2324 | H5: 24457 | I5: 35077 | J5: 0.0020425616 | K5: 0.028844271 | L5: 0.69723751 | M5: 15 | N5: 1
A6: Bekaa | B6: Hermel | C6: 54111 | D6: Hermel | E6: Hermel | F6: 30732 | G6: 10000 | H6: 5011 | I6: 35743 | J6: 0.0087889913 | K6: 0.005909909 | L6: 0.14019528 | M6: 17 | N6: 1
A7: Bekaa | B7: Zahle | C7: 51234 | D7: Qabb Elias | E7: Kab Elias | F7: 11262 | G7: 2464 | H7: 18458 | I7: 29720 | J7: 0.0021656074 | K7: 0.021769128 | L7: 0.62106326 | M7: 21 | N7: 1
A8: Bekaa | B8: Zahle | C8: 51221 | D8: Taalbaya | E8: Talabaya | F8: 13334 | G8: 2917 | H8: 7683 | I8: 21017 | J8: 0.0025637488 | K8: 0.0090612314 | L8: 0.36556121 | M8: 28 | N8: 1
A9: Bekaa | B9: Zahle | C9: 51284 | D9: Majdel Aanjar | E9: Mejdel-Anjar | F9: 7912 | G9: 1731 | H9: 12823 | I9: 20735 | J9: 0.0015213744 | K9: 0.015123281 | L9: 0.61842296 | M9: 29 | N9: 1
A10: Bekaa | B10: Zahle | C10: 51231 | D10: Saadnayel | E10: Saïd Neil | F10: 7108 | G10: 1555 | H10: 12602 | I10: 19710 | J10: 0.0013666881 | K10: 0.014862637 | L10: 0.63937088 | M10: 32 | N10: 1
A11: Bekaa | B11: Baalbek | C11: 53453 | D11: Brital | E11: Brital | F11: 9682 | G11: 3151 | H11: 4994 | I11: 14676 | J11: 0.0027694111 | K11: 0.0058898594 | L11: 0.34028346 | M11: 36 | N11: 1
A12: Bekaa | B12: West Bekaa | C12: 52227 | D12: Ghazzé | E12: Ghazzé | F12: 4487 | G12: 1344 | H12: 9329 | I12: 13816 | J12: 0.0011812404 | K12: 0.011002503 | L12: 0.67523162 | M12: 43 | N12: 1
A13: Bekaa | B13: Zahle | C13: 51121 | D13: Zahlé El-Maallaqa | E13: Zahlé Maallaka Kerek | F13: 11877 | G13: 2599 | H13: 4513 | I13: 16390 | J13: 0.0022842588 | K13: 0.0053225742 | L13: 0.27535082 | M13: 46 | N13: 1
A14: Bekaa | B14: West Bekaa | C14: 52211 | D14: Joubb Jannine | E14: Jib Jénine | F14: 5652 | G14: 1693 | H14: 6484 | I14: 12136 | J14: 0.0014879762 | K14: 0.0076471462 | L14: 0.53427818 | M14: 49 | N14: 1
... A218: Bekaa | B218: West Bekaa | C218: 52181 | D218: Chebrqiyet Aammiq | E218: Chouberkié "Ammik" | F218: 0 | G218: 0 | H218: 0 | I218: 0 | J218: 0 | K218: 0 | L218: 0 | M218: 1385.5 | N218: 0
A219: Bekaa | B219: West Bekaa | C219: 52241 | D219: Soltan Yacoub el Aradi | F219: 36 | G219: 11 | H219: 0 | I219: 36 | J219: 9.6678904e-06 | K219: 0 | L219: 0 | M219: 1385.5 | N219: 0
A220: Bekaa | B220: West Bekaa | C220: 52131 | D220: Deir Aain Ej-Jaouzé | E220: Deir-Aïn-el-Jaouzé | F220: 12 | G220: 4 | H220: 0 | I220: 12 | J220: 3.5155965e-06 | K220: 0 | L220: 0 | M220: 1385.5 | N220: 0
A221: Bekaa | B221: Rachiaya | C221: 55167 | D221: Aain Aarab Rachaiya | E221: Aïn Arab | F221: 267 | G221: 80 | H221: 0 | I221: 267 | J221: 7.031193e-05 | K221: 0 | L221: 0 | M221: 1385.5 | N221: 0
A222: Bekaa | B222: Rachiaya | C222: 55191 | D222: Selsata (Mazraat Deir El-Aachaiyer) | E222: Mazraet el-Selasata | F222: 6 | G222: 2 | H222: 0 | I222: 6 | J222: 1.7577983e-06 | K222: 0 | L222: 0 | M222: 1385.5 | N222: 0
A223: Bekaa | B223: Rachiaya | C223: 55199 | D223: Nabi Safa | E223: Nabi Safa | F223: 36 | G223: 11 | H223: 0 | I223: 36 | J223: 9.6678904e-06 | K223: 0 | L223: 0 | M223: 1385.5 | N223: 0
A224: Bekaa | B224: West Bekaa | C224: 52287 | D224: Maydoun | E224: Maïdoune | F224: 0 | G224: 0 | H224: 0 | I224: 0 | J224: 0 | K224: 0 | L224: 0 | M224: 1385.5 | N224: 0
A225: Bekaa | B225: Rachiaya | C225: 55131 | D225: Tannoura | E225: Tannoura | F225: 695 | G225: 208 | H225: 0 | I225: 695 | J225: 0.00018281102 | K225: 0 | L225: 0 | M225: 1385.5 | N225: 0
A226: Bekaa | B226: Hermel | C226: 54114 | D226: Michaa Mrajhiné | E226: Michaa Mrajhiné | F226: 7 | G226: 2 | H226: 0 | I226: 7 | J226: 1.7577983e-06 | K226: 0 | L226: 0 | M226: 1385.5 | N226: 0
A227: Bekaa | B227: Hermel | C227: 0 | D227: Conflict | E227: Conflict | F227: 0 | G227: 0 | H227: 0 | I227: 0 | J227: 0 | K227: 0 | L227: 0 | M227: 1385.5 | N227: 0
A228: Bekaa | B228: Baalbek | C228: 0 | D228: Conflict | E228: Conflict | F228: 0 | G228: 0 | H228: 0 | I228: 0 | J228: 0 | K228: 0 | L228: 0 | M228: 1385.5 | N228: 0
A229: Bekaa | B229: Baalbek | C229: 0 | D229: Conflict | E229: Conflict | F229: 0 | G229: 0 | H229: 0 | I229: 0 | J229: 0 | K229: 0 | L229: 0 | M229: 1385.5 | N229: 0
A230: Bekaa | B230: Baalbek | C230: 0 | D230: Conflict | E230: Conflict | F230: 0 | G230: 0 | H230: 0 | I230: 0 | J230: 0 | K230: 0 | L230: 0 | M230: 1385.5 | N230: 0
A231: Bekaa | B231: Baalbek | C231: 0 | D231: Conflict | E231: Conflict | F231: 0 | G231: 0 | H231: 0 | I231: 0 | J231: 0 | K231: 0 | L231: 0 | M231: 1385.5 | N231: 0
... A241: Bekaa | B241: Rachiaya | C241: 0 | D241: Conflict | E241: Conflict | F241: 0 | G241: 0 | H241: 0 | I241: 0 | J241: 0 | K241: 0 | L241: 0 | M241: 1385.5 | N241: 0
