Workbook

Sheet Sheet6
B5: Jan 2014 | C5: 12 | D5: 13 | E5: 16 | F5: 18 | G5: 19 | H5: 20 | I5: 21 | J5: 22 | K5: 23 | L5: 24 | M5: 25 | N5: 26 | O5: 27 | P5: 28 | Q5: 29 | R5: 30 | S5: 31
B6: Daily Arrivals | C6: 18616 | D6: 8 | E6: 2000 | F6: 532 | G6: 0 | H6: 130 | I6: 3948 | J6: 127 | K6: 545 | L6: 1123 | M6: 738 | N6: 298 | O6: 621 | P6: 167 | Q6: 80 | R6: 119 | S6: 0
B9: Date | C9: 12 | D9: 13 | E9: 16 | F9: 18 | G9: 19 | H9: 20 | I9: 21 | J9: 22 | K9: 23 | L9: 24 | M9: 25 | N9: 26 | O9: 27 | P9: 28 | Q9: 29 | R9: 30 | S9: 31
B10: Daily Arrivals | C10: 18616 | D10: 8 | E10: 2000 | F10: 532 | G10: 0 | H10: 130 | I10: 3948 | J10: 127 | K10: 545 | L10: 1123 | M10: 738 | N10: 298 | O10: 621 | P10: 167 | Q10: 80 | R10: 119 | S10: 0
B30: Ethnicity | C30: Number
B31: Nuer | C31: 25594
B32: Anuak | C32: 2654
B33: Murle | C33: 488
B34: Dinka | C34: 316
B35: Total | C35: 29052

Sheet January Arrival Numbers
B2: Summary of South Sudanese New Arrivals in Gambella Region as at January 31, 2014
B4: Entry Point/Corridor | D4: Raad | E4: Matar | F4: Pochalla | G4: Pagak | I4: Burubiey | J4: Akobo | L4: Total
B5: Ethnicity | D5: Murle | E5: Nuer | F5: Anuak | G5: Dinka | H5: Nuer | I5: Nuer | J5: Anuak | K5: Nuer
B6: Arrival Dates in January 2014 | C6: 12 | D6: 350 | F6: 327 | G6: 316 | H6: 0 | I6: 499 | J6: 2304 | K6: 14820 | L6: =SUM(D6:K6) -> 18616
C7: 13 | D7: 8 | E7: 0 | F7: 0 | G7: 0 | H7: 0 | I7: 0 | J7: 0 | K7: 0 | L7: =SUM(D7:K7) -> 8
C8: 16 | D8: 0 | E8: 0 | F8: 0 | G8: 0 | H8: 0 | I8: 0 | J8: 0 | K8: 2000 | L8: =SUM(D8:K8) -> 2000
C9: 18 | D9: 0 | E9: 532 | F9: 0 | G9: 0 | H9: 0 | I9: 0 | J9: 0 | K9: 0 | L9: =SUM(D9:K9) -> 532
C10: 20 | D10: 130 | E10: 0 | F10: 0 | G10: 0 | H10: 0 | I10: 0 | J10: 0 | K10: 0 | L10: =SUM(D10:K10) -> 130
C11: 21 | D11: 0 | E11: 3231 | F11: 0 | G11: 0 | H11: 58 | I11: 0 | J11: 0 | K11: 659 | L11: =SUM(D11:K11) -> 3948
C12: 22 | D12: 0 | E12: 0 | F12: 0 | G12: 0 | H12: 127 | I12: 0 | J12: 0 | K12: 0 | L12: =SUM(D12:K12) -> 127
C13: 23 | D13: 0 | E13: 0 | F13: 0 | G13: 0 | H13: 0 | I13: 0 | J13: 0 | K13: 545 | L13: =SUM(D13:K13) -> 545
C14: 24 | D14: 0 | E14: 0 | F14: 0 | G14: 0 | H14: 0 | I14: 0 | J14: 0 | K14: 1123 | L14: =SUM(D14:K14) -> 1123
C15: 25 | D15: 0 | E15: 25 | F15: 0 | G15: 0 | H15: 0 | I15: 0 | J15: 0 | K15: 713 | L15: =SUM(D15:K15) -> 738
C16: 26 | D16: 0 | E16: 0 | F16: 0 | G16: 0 | H16: 202 | I16: 0 | J16: 0 | K16: 96 | L16: =SUM(D16:K16) -> 298
C17: 27 | D17: 0 | E17: 0 | F17: 0 | G17: 0 | H17: 0 | I17: 0 | J17: 0 | K17: 621 | L17: =SUM(D17:K17) -> 621
C18: 28 | D18: 0 | E18: 0 | F18: 0 | G18: 0 | H18: 0 | I18: 0 | J18: 23 | K18: 144 | L18: =SUM(D18:K18) -> 167
... C20: 30 | D20: 0 | E20: 0 | F20: 0 | G20: 0 | H20: 0 | I20: 0 | J20: 0 | K20: 119 | L20: =SUM(D20:K20) -> 119
B21: Total: Jan 2014 | D21: =SUM(D6:D20) -> 488 | E21: =SUM(E6:E20) -> 3788 | F21: =SUM(F6:F20) -> 327 | G21: =SUM(G6:G20) -> 316 | H21: =SUM(H6:H20) -> 387 | I21: =SUM(I6:I20) -> 499 | J21: =SUM(J6:J20) -> 2327 | K21: =SUM(K6:K20) -> 20920 | L21: =SUM(L6:L20) -> 29052
B22: Total per entry point | D22: =D21 -> 488 | E22: =E21 -> 3788 | F22: =F21 -> 327 | G22: =G21+H21 -> 703 | I22: =I21 -> 499 | J22: =J21+K21 -> 23247
C24: Ethnicity | D24: Number | E24: Proportion
C25: Murle | D25: =D21 -> 488 | E25: =D25/$D$29 -> 0.016797467
C26: Nuer | D26: =E21+H21+I21+K21 -> 25594 | E26: =D26/$D$29 -> 0.88097205
C27: Anuak | D27: =F21+J21 -> 2654 | E27: =D27/$D$29 -> 0.091353435
C28: Dinka | D28: =G21 -> 316 | E28: =D28/$D$29 -> 0.010877048
C29: Total | D29: =SUM(D25:D28) -> 29052 | E29: =D29/$D$29 -> 1
B32: Arrival Trend of South Sudanese Asylum Seekers into Gambella Region, Ethiopia
B33: as at January 31, 2014
B54: Total Arrivals: | D54: =L21 -> 29052

Sheet February Arrival Numbers
B2: Summary of South Sudanese New Arrivals in Gambella Region as at February 25, 2014 | Q2: Arrival Trend of South Sudanese Asylum Seekers into Gambella Region in February 2014
B4: Entry Point/Corridor | D4: Raad | E4: Matar | F4: Pochalla | G4: Pagak | J4: Burubiey | K4: Akobo | M4: Pugnido | O4: Total per
B5: Ethnicity | D5: Murle | E5: Nuer | F5: Anuak | G5: Dinka | H5: Anuak | I5: Nuer | J5: Nuer | K5: Anuak | L5: Nuer | M5: Nuer | N5: Anuak | O5: Day
B6: Arrival Dates in February 2014 | C6: 1 | D6: 0 | E6: 0 | F6: 0 | G6: 0 | H6: 0 | I6: 131 | J6: 0 | K6: 0 | L6: 0 | M6: 0 | N6: 0 | O6: =SUM(D6:N6) -> 131
C7: 2 | D7: 0 | E7: 0 | F7: 0 | G7: 0 | H7: 0 | I7: 473 | J7: 0 | K7: 0 | L7: 0 | M7: 0 | N7: 0 | O7: =SUM(D7:N7) -> 473
C8: 3 | D8: 0 | E8: 0 | F8: 0 | G8: 0 | H8: 0 | I8: 1278 | J8: 0 | K8: 0 | L8: 0 | M8: 0 | N8: 0 | O8: =SUM(D8:N8) -> 1278
C9: 5 | D9: 0 | E9: 0 | F9: 0 | G9: 0 | H9: 0 | I9: 1542 | J9: 0 | K9: 0 | L9: 0 | M9: 0 | N9: 0 | O9: =SUM(D9:N9) -> 1542
C10: 6 | D10: 0 | E10: 0 | F10: 0 | G10: 0 | H10: 0 | I10: 0 | J10: 0 | K10: 0 | L10: 435 | M10: 0 | N10: 0 | O10: =SUM(D10:N10) -> 435
C11: 7 | D11: 0 | E11: 0 | F11: 0 | G11: 0 | H11: 0 | I11: 3124 | J11: 0 | K11: 0 | L11: 521 | M11: 0 | N11: 0 | O11: =SUM(D11:N11) -> 3645
C12: 8 | D12: 0 | E12: 0 | F12: 0 | G12: 0 | H12: 0 | I12: 1821 | J12: 0 | K12: 0 | L12: 427 | M12: 0 | N12: 0 | O12: =SUM(D12:N12) -> 2248
C13: 10 | D13: 0 | E13: 0 | F13: 0 | G13: 5 | H13: 0 | I13: 3501 | J13: 0 | K13: 0 | L13: 0 | M13: 0 | N13: 0 | O13: =SUM(D13:N13) -> 3506
C14: 11 | D14: 0 | E14: 0 | F14: 0 | G14: 0 | H14: 0 | I14: 0 | J14: 0 | K14: 0 | L14: 0 | M14: 0 | N14: 142 | O14: =SUM(D14:N14) -> 142
C15: 12 | D15: 0 | E15: 0 | F15: 0 | G15: 0 | H15: =-I24970 -> 0 | I15: 932 | J15: 0 | K15: 0 | L15: 0 | M15: 63 | N15: 5 | O15: =SUM(D15:N15) -> 1000
C16: 13 | D16: 0 | E16: 0 | F16: 0 | G16: 0 | H16: =-I24971 -> 0 | I16: 0 | J16: 0 | K16: 0 | L16: 0 | M16: 18 | N16: 0 | O16: =SUM(D16:N16) -> 18
C17: 14 | D17: 0 | E17: 1173 | F17: 0 | G17: 0 | H17: =-I24972 -> 0 | I17: 0 | J17: 0 | K17: 0 | L17: 0 | M17: 8 | N17: 70 | O17: =SUM(D17:N17) -> 1251
C18: 15 | D18: 0 | E18: 0 | F18: 0 | G18: 0 | H18: =-I24973 -> 0 | I18: 1150 | J18: 0 | K18: 0 | L18: 0 | M18: 0 | N18: 0 | O18: =SUM(D18:N18) -> 1150
C19: 17 | D19: 0 | E19: 0 | F19: 0 | G19: 0 | H19: =-I24974 -> 0 | I19: 1947 | J19: 0 | K19: 0 | L19: 0 | M19: 0 | N19: 0 | O19: =SUM(D19:N19) -> 1947
C20: 18 | D20: 0 | E20: 0 | F20: 0 | G20: 0 | H20: =-I24975 -> 0 | I20: 1242 | J20: 0 | K20: 0 | L20: 0 | M20: 29 | N20: 4 | O20: =SUM(D20:N20) -> 1275
C21: 19 | D21: 0 | E21: 0 | F21: 0 | G21: 0 | H21: =-I24976 -> 0 | I21: 0 | J21: 0 | K21: 0 | L21: 0 | M21: 0 | N21: 0 | O21: =SUM(D21:N21) -> 0
C22: 20 | D22: 42 | E22: 0 | F22: 0 | G22: 0 | H22: =-I24977 -> 0 | I22: 1579 | J22: 0 | K22: 0 | L22: 0 | M22: 28 | N22: 0 | O22: =SUM(D22:N22) -> 1649
C23: 21 | D23: 0 | E23: 0 | F23: 0 | G23: 0 | H23: 42 | J23: 0 | K23: 0 | L23: 0 | M23: 0 | N23: 0 | O23: =SUM(D23:N23) -> 42
C24: 22 | D24: 0 | E24: 0 | F24: 0 | G24: 0 | H24: =-I24979 -> 0 | I24: 971 | J24: 0 | K24: 0 | L24: 0 | M24: 0 | N24: 0 | O24: =SUM(D24:N24) -> 971
C25: 23 | D25: 0 | E25: 0 | F25: 0 | G25: 0 | H25: =-I24980 -> 0 | I25: - | J25: 0 | K25: 0 | L25: 0 | M25: 0 | N25: 0 | O25: =SUM(D25:N25) -> 0
C26: 24 | D26: 0 | E26: 0 | F26: 0 | G26: 0 | H26: =-I24981 -> 0 | I26: 1540 | J26: 0 | K26: 0 | L26: 85 | M26: 0 | N26: 0 | O26: =SUM(D26:N26) -> 1625 | Q26: Total Arrivals: | S26: =O31 -> 25749
C27: 25 | D27: 0 | E27: 0 | F27: 0 | G27: 0 | H27: 27 | I27: 1394 | J27: 0 | K27: 0 | L27: 0 | M27: 0 | N27: 0 | O27: =SUM(D27:N27) -> 1421
C28: 26 | D28: 0 | E28: 0 | F28: 0 | G28: 0 | H28: =-I24983 -> 0 | I28: 0 | J28: 0 | K28: 0 | L28: 0 | M28: 0 | N28: 0 | O28: =SUM(D28:N28) -> 0
C29: 27 | D29: 0 | E29: 0 | F29: 0 | G29: 0 | H29: =-I24984 -> 0 | I29: 0 | J29: 0 | K29: 0 | L29: 0 | M29: 0 | N29: 0 | O29: =SUM(D29:N29) -> 0
C30: 28 | D30: 0 | E30: 0 | F30: 0 | G30: 0 | H30: =-I24985 -> 0 | I30: 0 | J30: 0 | K30: 0 | L30: 0 | M30: 0 | N30: 0 | O30: =SUM(D30:N30) -> 0
B31: Total: Feb 2014 | D31: =SUM(D6:D30) -> 42 | E31: =SUM(E6:E30) -> 1173 | F31: =SUM(F6:F30) -> 0 | G31: =SUM(G6:G30) -> 5 | H31: =SUM(H6:H30) -> 69 | I31: =SUM(I6:I30) -> 22625 | J31: =SUM(J6:J30) -> 0 | K31: =SUM(K6:K30) -> 0 | ... O31: =SUM(O6:O30) -> 25749
B32: Total Since start of the emergency | D32: ='January Arrival Numbers'!D21+'February Arrival Numbers'!D31 -> 530 | E32: ='January Arrival Numbers'!E21+'February Arrival Numbers'!E31 -> 4961 | F32: ='January Arrival Numbers'!F21+'February Arrival Numbers'!F31 -> 327 | G32: ='January Arrival Numbers'!G21+'February Arrival Numbers'!G31 -> 321 | H32: =H31 -> 69 | I32: ='January Arrival Numbers'!H21+'February Arrival Numbers'!I31 -> 23012 | J32: ='January Arrival Numbers'!I21+'February Arrival Numbers'!J31 -> 499 | K32: ='January Arrival Numbers'!J21+'February Arrival Numbers'!K31 -> 2327 | L32: ='January Arrival Numbers'!K21+'February Arrival Numbers'!L31 -> 22388 | M32: =M31 -> 146 | N32: =N31 -> 221 | O32: ='January Arrival Numbers'!L21+'February Arrival Numbers'!O31 -> 54801
B34: Note: Pagak entries are not actual arrival dates but registration dates (Their arrival dates are unknown)
C39: Ethnicity Breakdown
C41: Ethnicity | D41: Number | E41: Proportion
C42: Murle | D42: ='January Arrival Numbers'!D25+'February Arrival Numbers'!D31 -> 530 | E42: =D42/$D$46 -> 0.0096713564
C43: Nuer | D43: ='January Arrival Numbers'!D26+'February Arrival Numbers'!E31+'February Arrival Numbers'!I31+'February Arrival Numbers'!J31+'February Arrival Numbers'!L31+'February Arrival Numbers'!M31 -> 51006 | E43: =D43/$D$46 -> 0.93074944
C44: Anuak | D44: ='January Arrival Numbers'!D27+'February Arrival Numbers'!F31+'February Arrival Numbers'!H31+'February Arrival Numbers'!K31+'February Arrival Numbers'!N31 -> 2944 | E44: =D44/$D$46 -> 0.053721647
C45: Dinka | D45: ='January Arrival Numbers'!D28+'February Arrival Numbers'!G31 -> 321 | E45: =D45/$D$46 -> 0.0058575573
C46: Total | D46: =SUM(D42:D45) -> 54801 | E46: =D46/$D$46 -> 1
I49: Breakdown by Ethnicity
C50: Entry Point Breakdown from 15/12/13
C52: Entry Point | D52: Number | E52: Proportion
C53: Raad | D53: =D32 -> 530 | E53: =D53/$D$46 -> 0.0096713564
C54: Matar | D54: =E32 -> 4961 | E54: =D54/$D$46 -> 0.090527545
C55: Pochalla | D55: =F32 -> 327 | E55: =D55/$D$46 -> 0.0059670444
C56: Pagak | D56: =G32+H32+I32 -> 23402 | E56: =D56/$D$46 -> 0.427036
C57: Burubiey | D57: =J32 -> 499 | E57: =D57/$D$46 -> 0.0091056733
C58: Akobo | D58: =K32+L32 -> 24715 | E58: =D58/$D$46 -> 0.45099542
C59: Pugnido | D59: =M32+N32 -> 367 | E59: =D59/$D$46 -> 0.0066969581 | G59: Pugnido*: This are referrals from Addis Ababa and Gambella
C60: Total | D60: =SUM(D53:D59) -> 54801 | E60: =D60/$D$46 -> 1
C62: Total no. of arrivals to-date
C63: =O32 -> 54801
A65: * Some 56 South Sudanese of Nuer ethnicity who were studying and residing in Addis Ababa were transferred to Pugnido camp this raising the figure from 42, 310 to 42, 366

Sheet March Arrival Numbers
B2: Summary of South Sudanese New Arrivals in Gambella Region as at March 01, 2014 | Q2: Arrival Trend of South Sudanese Asylum Seekers into Gambella Region in March 2014
B4: Entry Point/Corridor | D4: Raad | E4: Matar | F4: Pochalla | G4: Pagak | J4: Burubiey | K4: Akobo | M4: Pugnido | O4: Total per
B5: Ethnicity | D5: Murle | E5: Nuer | F5: Anuak | G5: Dinka | H5: Anuak | I5: Nuer | J5: Nuer | K5: Anuak | L5: Nuer | M5: Nuer | N5: Anuak | O5: Day
B6: Arrival Dates in March 2014 | C6: 1 | D6: 0 | E6: 0 | F6: 0 | G6: 0 | H6: 0 | I6: 0 | J6: 0 | K6: 0 | L6: 0 | M6: 0 | N6: 0 | O6: =SUM(D6:N6) -> 0
C7: 2 | D7: 0 | E7: 0 | F7: 0 | G7: 0 | H7: 0 | I7: 0 | J7: 0 | K7: 0 | L7: 0 | M7: 0 | N7: 0 | O7: =SUM(D7:N7) -> 0
C8: 3 | D8: 0 | E8: 0 | F8: 0 | G8: 0 | H8: 0 | I8: 0 | J8: 0 | K8: 0 | L8: 0 | M8: 0 | N8: 0 | O8: =SUM(D8:N8) -> 0
C9: 4 | D9: 0 | E9: 0 | F9: 0 | G9: 0 | H9: 0 | I9: 0 | J9: 0 | K9: 0 | L9: 0 | M9: 0 | N9: 0 | O9: =SUM(D9:N9) -> 0
C10: 5 | D10: 0 | E10: 0 | F10: 0 | G10: 0 | H10: 0 | I10: 0 | J10: 0 | K10: 0 | L10: 0 | M10: 0 | N10: 0 | O10: =SUM(D10:N10) -> 0
C11: 6 | D11: 0 | E11: 0 | F11: 0 | G11: 0 | H11: 0 | I11: 0 | J11: 0 | K11: 0 | L11: 0 | M11: 0 | N11: 0 | O11: =SUM(D11:N11) -> 0
C12: 7 | D12: 0 | E12: 0 | F12: 0 | G12: 0 | H12: 0 | I12: 0 | J12: 0 | K12: 0 | L12: 0 | M12: 0 | N12: 0 | O12: =SUM(D12:N12) -> 0
C13: 8 | D13: 0 | E13: 0 | F13: 0 | G13: 0 | H13: 0 | I13: 0 | J13: 0 | K13: 0 | L13: 0 | M13: 0 | N13: 0 | O13: =SUM(D13:N13) -> 0
C14: 9 | D14: 0 | E14: 0 | F14: 0 | G14: 0 | H14: 0 | I14: 0 | J14: 0 | K14: 0 | L14: 0 | M14: 0 | N14: 0 | O14: =SUM(D14:N14) -> 0
C15: 10 | D15: 0 | E15: 0 | F15: 0 | G15: 0 | H15: =-I24976 -> 0 | I15: 0 | J15: 0 | K15: 0 | L15: 0 | M15: 0 | N15: 0 | O15: =SUM(D15:N15) -> 0
C16: 11 | D16: 0 | E16: 0 | F16: 0 | G16: 0 | H16: =-I24977 -> 0 | I16: 0 | J16: 0 | K16: 0 | L16: 0 | M16: 0 | N16: 0 | O16: =SUM(D16:N16) -> 0
C17: 12 | D17: 0 | E17: 0 | F17: 0 | G17: 0 | H17: =-I24978 -> 0 | I17: 0 | J17: 0 | K17: 0 | L17: 0 | M17: 0 | N17: 0 | O17: =SUM(D17:N17) -> 0
C18: 13 | D18: 0 | E18: 0 | F18: 0 | G18: 0 | H18: =-I24979 -> 0 | I18: 0 | J18: 0 | K18: 0 | L18: 0 | M18: 0 | N18: 0 | O18: =SUM(D18:N18) -> 0
C19: 14 | D19: 0 | E19: 0 | F19: 0 | G19: 0 | H19: =-I24980 -> 0 | I19: 0 | J19: 0 | K19: 0 | L19: 0 | M19: 0 | N19: 0 | O19: =SUM(D19:N19) -> 0
C20: 15 | D20: 0 | E20: 0 | F20: 0 | G20: 0 | H20: =-I24981 -> 0 | I20: 0 | J20: 0 | K20: 0 | L20: 0 | M20: 0 | N20: 0 | O20: =SUM(D20:N20) -> 0
C21: 16 | D21: 0 | E21: 0 | F21: 0 | G21: 0 | H21: =-I24982 -> 0 | I21: 0 | J21: 0 | K21: 0 | L21: 0 | M21: 0 | N21: 0 | O21: =SUM(D21:N21) -> 0
C22: 17 | D22: 0 | E22: 0 | F22: 0 | G22: 0 | H22: =-I24983 -> 0 | I22: 0 | J22: 0 | K22: 0 | L22: 0 | M22: 0 | N22: 0 | O22: =SUM(D22:N22) -> 0
C23: 18 | D23: 0 | E23: 0 | F23: 0 | G23: 0 | H23: =-I24984 -> 0 | I23: 0 | J23: 0 | K23: 0 | L23: 0 | M23: 0 | N23: 0 | O23: =SUM(D23:N23) -> 0
C24: 19 | D24: 0 | E24: 0 | F24: 0 | G24: 0 | H24: =-I24985 -> 0 | I24: 0 | J24: 0 | K24: 0 | L24: 0 | M24: 0 | N24: 0 | O24: =SUM(D24:N24) -> 0
C25: 20 | D25: 0 | E25: 0 | F25: 0 | G25: 0 | H25: =-I24986 -> 0 | I25: 0 | J25: 0 | K25: 0 | L25: 0 | M25: 0 | N25: 0 | O25: =SUM(D25:N25) -> 0
C26: 21 | D26: 0 | E26: 0 | F26: 0 | G26: 0 | H26: =-I24987 -> 0 | I26: - | J26: 0 | K26: 0 | L26: 0 | M26: 0 | N26: 0 | O26: =SUM(D26:N26) -> 0 | Q26: Total Arrivals: | S26: =O37 -> 0
C27: 22 | D27: 0 | E27: 0 | F27: 0 | G27: 0 | H27: =-I24988 -> 0 | I27: 0 | J27: 0 | K27: 0 | L27: 0 | M27: 0 | N27: 0 | O27: =SUM(D27:N27) -> 0
C28: 23 | D28: 0 | E28: 0 | F28: 0 | G28: 0 | H28: =-I24989 -> 0 | I28: 0 | J28: 0 | K28: 0 | L28: 0 | M28: 0 | N28: 0 | O28: =SUM(D28:N28) -> 0
C29: 24 | D29: 0 | E29: 0 | F29: 0 | G29: 0 | H29: =-I24990 -> 0 | I29: 0 | J29: 0 | K29: 0 | L29: 0 | M29: 0 | N29: 0 | O29: =SUM(D29:N29) -> 0
C30: 25 | D30: 0 | E30: 0 | F30: 0 | G30: 0 | H30: =-I24991 -> 0 | I30: 0 | J30: 0 | K30: 0 | L30: 0 | M30: 0 | N30: 0 | O30: =SUM(D30:N30) -> 0
C31: 26 | D31: 0 | E31: 0 | F31: 0 | G31: 0 | H31: =-I24992 -> 0 | I31: 0 | J31: 0 | K31: 0 | L31: 0 | M31: 0 | N31: 0 | O31: =SUM(D31:N31) -> 0
C32: 27 | D32: 0 | E32: 0 | F32: 0 | G32: 0 | H32: =-I24993 -> 0 | I32: 0 | J32: 0 | K32: 0 | L32: 0 | M32: 0 | N32: 0 | O32: =SUM(D32:N32) -> 0
C33: 28 | D33: 0 | E33: 0 | F33: 0 | G33: 0 | H33: =-I24994 -> 0 | I33: 0 | J33: 0 | K33: 0 | L33: 0 | M33: 0 | N33: 0 | O33: =SUM(D33:N33) -> 0
C34: 29 | D34: 0 | E34: 0 | F34: 0 | G34: 0 | H34: =-I24995 -> 0 | I34: 0 | J34: 0 | K34: 0 | L34: 0 | M34: 0 | N34: 0 | O34: =SUM(D34:N34) -> 0
C35: 30 | D35: 0 | E35: 0 | F35: 0 | G35: 0 | H35: =-I24996 -> 0 | I35: 0 | J35: 0 | K35: 0 | L35: 0 | M35: 0 | N35: 0 | O35: =SUM(D35:N35) -> 0
C36: 31 | D36: 0 | E36: 0 | F36: 0 | G36: 0 | H36: =-I24997 -> 0 | I36: 0 | J36: 0 | K36: 0 | L36: 0 | M36: 0 | N36: 0 | O36: =SUM(D36:N36) -> 0
B37: Total: Mar 2014 | D37: =SUM(D6:D36) -> 0 | E37: =SUM(E6:E36) -> 0 | F37: =SUM(F6:F36) -> 0 | G37: =SUM(G6:G36) -> 0 | H37: =SUM(H6:H36) -> 0 | I37: =SUM(I6:I36) -> 0 | J37: =SUM(J6:J36) -> 0 | K37: =SUM(K6:K36) -> 0 | ... O37: =SUM(O6:O36) -> 0
B38: Total Since start of the emergency | D38: ='February Arrival Numbers'!D32+'March Arrival Numbers'!D37 -> 530 | E38: ='February Arrival Numbers'!E32+'March Arrival Numbers'!E37 -> 4961 | F38: ='February Arrival Numbers'!F32+'March Arrival Numbers'!F37 -> 327 | G38: ='February Arrival Numbers'!G32+'March Arrival Numbers'!G37 -> 321 | H38: ='February Arrival Numbers'!H32+'March Arrival Numbers'!H37 -> 69 | I38: ='February Arrival Numbers'!I32+'March Arrival Numbers'!I37 -> 23012 | J38: ='February Arrival Numbers'!J32+'March Arrival Numbers'!J37 -> 499 | K38: ='February Arrival Numbers'!K32+'March Arrival Numbers'!K37 -> 2327 | ... O38: ='February Arrival Numbers'!O32+'March Arrival Numbers'!O37 -> 54801
B40: Note: Pagak entries are not actual arrival dates but registration dates (Their arrival dates are unknown)
C45: Ethnicity Breakdown
C47: Ethnicity | D47: Number | E47: Proportion
C48: Murle | D48: ='February Arrival Numbers'!D42+'March Arrival Numbers'!D37 -> 530 | E48: =D48/$D$52 -> 0.0096713564
C49: Nuer | D49: ='February Arrival Numbers'!D43+'March Arrival Numbers'!E37+'March Arrival Numbers'!I37+'March Arrival Numbers'!J37+'March Arrival Numbers'!L37+'March Arrival Numbers'!M37 -> 51006 | E49: =D49/$D$52 -> 0.93074944
C50: Anuak | D50: ='February Arrival Numbers'!D44+'March Arrival Numbers'!F37+'March Arrival Numbers'!H37+'March Arrival Numbers'!K37+'March Arrival Numbers'!N37 -> 2944 | E50: =D50/$D$52 -> 0.053721647
C51: Dinka | D51: ='February Arrival Numbers'!D45+'March Arrival Numbers'!G37 -> 321 | E51: =D51/$D$52 -> 0.0058575573
C52: Total | D52: =SUM(D48:D51) -> 54801 | E52: =D52/$D$52 -> 1
I55: Breakdown by Ethnicity
C56: Entry Point Breakdown from 15/12/13
C58: Entry Point | D58: Number | E58: Proportion
C59: Raad | D59: =D38 -> 530 | E59: =D59/$D$52 -> 0.0096713564
C60: Matar | D60: =E38 -> 4961 | E60: =D60/$D$52 -> 0.090527545
C61: Pochalla | D61: =F38 -> 327 | E61: =D61/$D$52 -> 0.0059670444
C62: Pagak | D62: =G38+H38+I38 -> 23402 | E62: =D62/$D$52 -> 0.427036
C63: Burubiey | D63: =J38 -> 499 | E63: =D63/$D$52 -> 0.0091056733
C64: Akobo | D64: =K38+L38 -> 24715 | E64: =D64/$D$52 -> 0.45099542
C65: Pugnido | D65: =M38+N38 -> 367 | E65: =D65/$D$52 -> 0.0066969581 | G65: Pugnido*: This are referrals from Addis Ababa and Gambella
C66: Total | D66: =SUM(D59:D65) -> 54801 | E66: =D66/$D$52 -> 1
C68: Total no. of arrivals to-date
C69: =O38 -> 54801
A71: * Some 56 South Sudanese of Nuer ethnicity who were studying and residing in Addis Ababa were transferred to Pugnido camp this raising the figure from 42, 310 to 42, 366

Sheet April Arrival Numbers
B2: Summary of South Sudanese New Arrivals in Gambella Region as at April 01, 2014 | Q2: Arrival Trend of South Sudanese Asylum Seekers into Gambella Region in April 2014
B4: Entry Point/Corridor | D4: Raad | E4: Matar | F4: Pochalla | G4: Pagak | J4: Burubiey | K4: Akobo | M4: Pugnido | O4: Total per
B5: Ethnicity | D5: Murle | E5: Nuer | F5: Anuak | G5: Dinka | H5: Anuak | I5: Nuer | J5: Nuer | K5: Anuak | L5: Nuer | M5: Nuer | N5: Anuak | O5: Day
B6: Arrival Dates in April 2014 | C6: 1 | D6: 0 | E6: 0 | F6: 0 | G6: 0 | H6: 0 | I6: 0 | J6: 0 | K6: 0 | L6: 0 | M6: 0 | N6: 0 | O6: =SUM(D6:N6) -> 0
C7: 2 | D7: 0 | E7: 0 | F7: 0 | G7: 0 | H7: 0 | I7: 0 | J7: 0 | K7: 0 | L7: 0 | M7: 0 | N7: 0 | O7: =SUM(D7:N7) -> 0
C8: 3 | D8: 0 | E8: 0 | F8: 0 | G8: 0 | H8: 0 | I8: 0 | J8: 0 | K8: 0 | L8: 0 | M8: 0 | N8: 0 | O8: =SUM(D8:N8) -> 0
C9: 4 | D9: 0 | E9: 0 | F9: 0 | G9: 0 | H9: 0 | I9: 0 | J9: 0 | K9: 0 | L9: 0 | M9: 0 | N9: 0 | O9: =SUM(D9:N9) -> 0
C10: 5 | D10: 0 | E10: 0 | F10: 0 | G10: 0 | H10: 0 | I10: 0 | J10: 0 | K10: 0 | L10: 0 | M10: 0 | N10: 0 | O10: =SUM(D10:N10) -> 0
C11: 6 | D11: 0 | E11: 0 | F11: 0 | G11: 0 | H11: 0 | I11: 0 | J11: 0 | K11: 0 | L11: 0 | M11: 0 | N11: 0 | O11: =SUM(D11:N11) -> 0
C12: 7 | D12: 0 | E12: 0 | F12: 0 | G12: 0 | H12: 0 | I12: 0 | J12: 0 | K12: 0 | L12: 0 | M12: 0 | N12: 0 | O12: =SUM(D12:N12) -> 0
C13: 8 | D13: 0 | E13: 0 | F13: 0 | G13: 0 | H13: 0 | I13: 0 | J13: 0 | K13: 0 | L13: 0 | M13: 0 | N13: 0 | O13: =SUM(D13:N13) -> 0
C14: 9 | D14: 0 | E14: 0 | F14: 0 | G14: 0 | H14: 0 | I14: 0 | J14: 0 | K14: 0 | L14: 0 | M14: 0 | N14: 0 | O14: =SUM(D14:N14) -> 0
C15: 10 | D15: 0 | E15: 0 | F15: 0 | G15: 0 | H15: =-I24975 -> 0 | I15: 0 | J15: 0 | K15: 0 | L15: 0 | M15: 0 | N15: 0 | O15: =SUM(D15:N15) -> 0
C16: 11 | D16: 0 | E16: 0 | F16: 0 | G16: 0 | H16: =-I24976 -> 0 | I16: 0 | J16: 0 | K16: 0 | L16: 0 | M16: 0 | N16: 0 | O16: =SUM(D16:N16) -> 0
C17: 12 | D17: 0 | E17: 0 | F17: 0 | G17: 0 | H17: =-I24977 -> 0 | I17: 0 | J17: 0 | K17: 0 | L17: 0 | M17: 0 | N17: 0 | O17: =SUM(D17:N17) -> 0
C18: 13 | D18: 0 | E18: 0 | F18: 0 | G18: 0 | H18: =-I24978 -> 0 | I18: 0 | J18: 0 | K18: 0 | L18: 0 | M18: 0 | N18: 0 | O18: =SUM(D18:N18) -> 0
C19: 14 | D19: 0 | E19: 0 | F19: 0 | G19: 0 | H19: =-I24979 -> 0 | I19: 0 | J19: 0 | K19: 0 | L19: 0 | M19: 0 | N19: 0 | O19: =SUM(D19:N19) -> 0
C20: 15 | D20: 0 | E20: 0 | F20: 0 | G20: 0 | H20: =-I24980 -> 0 | I20: 0 | J20: 0 | K20: 0 | L20: 0 | M20: 0 | N20: 0 | O20: =SUM(D20:N20) -> 0
C21: 16 | D21: 0 | E21: 0 | F21: 0 | G21: 0 | H21: =-I24981 -> 0 | I21: 0 | J21: 0 | K21: 0 | L21: 0 | M21: 0 | N21: 0 | O21: =SUM(D21:N21) -> 0
C22: 17 | D22: 0 | E22: 0 | F22: 0 | G22: 0 | H22: =-I24982 -> 0 | I22: 0 | J22: 0 | K22: 0 | L22: 0 | M22: 0 | N22: 0 | O22: =SUM(D22:N22) -> 0
C23: 18 | D23: 0 | E23: 0 | F23: 0 | G23: 0 | H23: =-I24983 -> 0 | I23: 0 | J23: 0 | K23: 0 | L23: 0 | M23: 0 | N23: 0 | O23: =SUM(D23:N23) -> 0
C24: 19 | D24: 0 | E24: 0 | F24: 0 | G24: 0 | H24: =-I24984 -> 0 | I24: 0 | J24: 0 | K24: 0 | L24: 0 | M24: 0 | N24: 0 | O24: =SUM(D24:N24) -> 0
C25: 20 | D25: 0 | E25: 0 | F25: 0 | G25: 0 | H25: =-I24985 -> 0 | I25: 0 | J25: 0 | K25: 0 | L25: 0 | M25: 0 | N25: 0 | O25: =SUM(D25:N25) -> 0
C26: 21 | D26: 0 | E26: 0 | F26: 0 | G26: 0 | H26: =-I24986 -> 0 | I26: - | J26: 0 | K26: 0 | L26: 0 | M26: 0 | N26: 0 | O26: =SUM(D26:N26) -> 0 | Q26: Total Arrivals: | S26: =O36 -> 0
C27: 22 | D27: 0 | E27: 0 | F27: 0 | G27: 0 | H27: =-I24987 -> 0 | I27: 0 | J27: 0 | K27: 0 | L27: 0 | M27: 0 | N27: 0 | O27: =SUM(D27:N27) -> 0
C28: 23 | D28: 0 | E28: 0 | F28: 0 | G28: 0 | H28: =-I24988 -> 0 | I28: 0 | J28: 0 | K28: 0 | L28: 0 | M28: 0 | N28: 0 | O28: =SUM(D28:N28) -> 0
C29: 24 | D29: 0 | E29: 0 | F29: 0 | G29: 0 | H29: =-I24989 -> 0 | I29: 0 | J29: 0 | K29: 0 | L29: 0 | M29: 0 | N29: 0 | O29: =SUM(D29:N29) -> 0
C30: 25 | D30: 0 | E30: 0 | F30: 0 | G30: 0 | H30: =-I24990 -> 0 | I30: 0 | J30: 0 | K30: 0 | L30: 0 | M30: 0 | N30: 0 | O30: =SUM(D30:N30) -> 0
C31: 26 | D31: 0 | E31: 0 | F31: 0 | G31: 0 | H31: =-I24991 -> 0 | I31: 0 | J31: 0 | K31: 0 | L31: 0 | M31: 0 | N31: 0 | O31: =SUM(D31:N31) -> 0
C32: 27 | D32: 0 | E32: 0 | F32: 0 | G32: 0 | H32: =-I24992 -> 0 | I32: 0 | J32: 0 | K32: 0 | L32: 0 | M32: 0 | N32: 0 | O32: =SUM(D32:N32) -> 0
C33: 28 | D33: 0 | E33: 0 | F33: 0 | G33: 0 | H33: =-I24993 -> 0 | I33: 0 | J33: 0 | K33: 0 | L33: 0 | M33: 0 | N33: 0 | O33: =SUM(D33:N33) -> 0
C34: 29 | D34: 0 | E34: 0 | F34: 0 | G34: 0 | H34: =-I24994 -> 0 | I34: 0 | J34: 0 | K34: 0 | L34: 0 | M34: 0 | N34: 0 | O34: =SUM(D34:N34) -> 0
C35: 30 | D35: 0 | E35: 0 | F35: 0 | G35: 0 | H35: =-I24995 -> 0 | I35: 0 | J35: 0 | K35: 0 | L35: 0 | M35: 0 | N35: 0 | O35: =SUM(D35:N35) -> 0
B36: Total: Apr 2014 | D36: =SUM(D6:D35) -> 0 | E36: =SUM(E6:E35) -> 0 | F36: =SUM(F6:F35) -> 0 | G36: =SUM(G6:G35) -> 0 | H36: =SUM(H6:H35) -> 0 | I36: =SUM(I6:I35) -> 0 | J36: =SUM(J6:J35) -> 0 | K36: =SUM(K6:K35) -> 0 | ... O36: =SUM(O6:O35) -> 0
B37: Total Since start of the emergency | D37: ='March Arrival Numbers'!D38+'April Arrival Numbers'!D36 -> 530 | E37: ='March Arrival Numbers'!E38+'April Arrival Numbers'!E36 -> 4961 | F37: ='March Arrival Numbers'!F38+'April Arrival Numbers'!F36 -> 327 | G37: ='March Arrival Numbers'!G38+'April Arrival Numbers'!G36 -> 321 | H37: ='March Arrival Numbers'!H38+'April Arrival Numbers'!H36 -> 69 | I37: ='March Arrival Numbers'!I38+'April Arrival Numbers'!I36 -> 23012 | J37: ='March Arrival Numbers'!J38+'April Arrival Numbers'!J36 -> 499 | K37: ='March Arrival Numbers'!K38+'April Arrival Numbers'!K36 -> 2327 | ... O37: ='March Arrival Numbers'!O38+'April Arrival Numbers'!O36 -> 54801
B39: Note: Pagak entries are not actual arrival dates but registration dates (Their arrival dates are unknown)
C44: Ethnicity Breakdown
C46: Ethnicity | D46: Number | E46: Proportion
C47: Murle | D47: ='March Arrival Numbers'!D48+'April Arrival Numbers'!D36 -> 530 | E47: =D47/$D$51 -> 0.0096713564
C48: Nuer | D48: ='March Arrival Numbers'!D49+'April Arrival Numbers'!E36+'April Arrival Numbers'!I36+'April Arrival Numbers'!J36+'April Arrival Numbers'!L36+'April Arrival Numbers'!M36 -> 51006 | E48: =D48/$D$51 -> 0.93074944
C49: Anuak | D49: ='March Arrival Numbers'!D50+'April Arrival Numbers'!F36+'April Arrival Numbers'!H36+'April Arrival Numbers'!K36+'April Arrival Numbers'!N36 -> 2944 | E49: =D49/$D$51 -> 0.053721647
C50: Dinka | D50: ='March Arrival Numbers'!D51+'April Arrival Numbers'!G36 -> 321 | E50: =D50/$D$51 -> 0.0058575573
C51: Total | D51: =SUM(D47:D50) -> 54801 | E51: =D51/$D$51 -> 1
I54: Breakdown by Ethnicity
C55: Entry Point Breakdown from 15/12/13
C57: Entry Point | D57: Number | E57: Proportion
C58: Raad | D58: =D37 -> 530 | E58: =D58/$D$51 -> 0.0096713564
C59: Matar | D59: =E37 -> 4961 | E59: =D59/$D$51 -> 0.090527545
C60: Pochalla | D60: =F37 -> 327 | E60: =D60/$D$51 -> 0.0059670444
C61: Pagak | D61: =G37+H37+I37 -> 23402 | E61: =D61/$D$51 -> 0.427036
C62: Burubiey | D62: =J37 -> 499 | E62: =D62/$D$51 -> 0.0091056733
C63: Akobo | D63: =K37+L37 -> 24715 | E63: =D63/$D$51 -> 0.45099542
C64: Pugnido | D64: =M37+N37 -> 367 | E64: =D64/$D$51 -> 0.0066969581 | G64: Pugnido*: This are referrals from Addis Ababa and Gambella
C65: Total | D65: =SUM(D58:D64) -> 54801 | E65: =D65/$D$51 -> 1
C67: Total no. of arrivals to-date
C68: =O37 -> 54801
A70: * Some 56 South Sudanese of Nuer ethnicity who were studying and residing in Addis Ababa were transferred to Pugnido camp this raising the figure from 42, 310 to 42, 366

Sheet May Arrival Numbers
B2: Summary of South Sudanese New Arrivals in Gambella Region as at May 01, 2014 | Q2: Arrival Trend of South Sudanese Asylum Seekers into Gambella Region in May 2014
B4: Entry Point/Corridor | D4: Raad | E4: Matar | F4: Pochalla | G4: Pagak | J4: Burubiey | K4: Akobo | M4: Pugnido | O4: Total per
B5: Ethnicity | D5: Murle | E5: Nuer | F5: Anuak | G5: Dinka | H5: Anuak | I5: Nuer | J5: Nuer | K5: Anuak | L5: Nuer | M5: Nuer | N5: Anuak | O5: Day
B6: Arrival Dates in May 2014 | C6: 1 | D6: 0 | E6: 0 | F6: 0 | G6: 0 | H6: 0 | I6: 0 | J6: 0 | K6: 0 | L6: 0 | M6: 0 | N6: 0 | O6: =SUM(D6:N6) -> 0
C7: 2 | D7: 0 | E7: 0 | F7: 0 | G7: 0 | H7: 0 | I7: 0 | J7: 0 | K7: 0 | L7: 0 | M7: 0 | N7: 0 | O7: =SUM(D7:N7) -> 0
C8: 3 | D8: 0 | E8: 0 | F8: 0 | G8: 0 | H8: 0 | I8: 0 | J8: 0 | K8: 0 | L8: 0 | M8: 0 | N8: 0 | O8: =SUM(D8:N8) -> 0
C9: 4 | D9: 0 | E9: 0 | F9: 0 | G9: 0 | H9: 0 | I9: 0 | J9: 0 | K9: 0 | L9: 0 | M9: 0 | N9: 0 | O9: =SUM(D9:N9) -> 0
C10: 5 | D10: 0 | E10: 0 | F10: 0 | G10: 0 | H10: 0 | I10: 0 | J10: 0 | K10: 0 | L10: 0 | M10: 0 | N10: 0 | O10: =SUM(D10:N10) -> 0
C11: 6 | D11: 0 | E11: 0 | F11: 0 | G11: 0 | H11: 0 | I11: 0 | J11: 0 | K11: 0 | L11: 0 | M11: 0 | N11: 0 | O11: =SUM(D11:N11) -> 0
C12: 7 | D12: 0 | E12: 0 | F12: 0 | G12: 0 | H12: 0 | I12: 0 | J12: 0 | K12: 0 | L12: 0 | M12: 0 | N12: 0 | O12: =SUM(D12:N12) -> 0
C13: 8 | D13: 0 | E13: 0 | F13: 0 | G13: 0 | H13: 0 | I13: 0 | J13: 0 | K13: 0 | L13: 0 | M13: 0 | N13: 0 | O13: =SUM(D13:N13) -> 0
C14: 9 | D14: 0 | E14: 0 | F14: 0 | G14: 0 | H14: 0 | I14: 0 | J14: 0 | K14: 0 | L14: 0 | M14: 0 | N14: 0 | O14: =SUM(D14:N14) -> 0
C15: 10 | D15: 0 | E15: 0 | F15: 0 | G15: 0 | H15: =-I24976 -> 0 | I15: 0 | J15: 0 | K15: 0 | L15: 0 | M15: 0 | N15: 0 | O15: =SUM(D15:N15) -> 0
C16: 11 | D16: 0 | E16: 0 | F16: 0 | G16: 0 | H16: =-I24977 -> 0 | I16: 0 | J16: 0 | K16: 0 | L16: 0 | M16: 0 | N16: 0 | O16: =SUM(D16:N16) -> 0
C17: 12 | D17: 0 | E17: 0 | F17: 0 | G17: 0 | H17: =-I24978 -> 0 | I17: 0 | J17: 0 | K17: 0 | L17: 0 | M17: 0 | N17: 0 | O17: =SUM(D17:N17) -> 0
C18: 13 | D18: 0 | E18: 0 | F18: 0 | G18: 0 | H18: =-I24979 -> 0 | I18: 0 | J18: 0 | K18: 0 | L18: 0 | M18: 0 | N18: 0 | O18: =SUM(D18:N18) -> 0
C19: 14 | D19: 0 | E19: 0 | F19: 0 | G19: 0 | H19: =-I24980 -> 0 | I19: 0 | J19: 0 | K19: 0 | L19: 0 | M19: 0 | N19: 0 | O19: =SUM(D19:N19) -> 0
C20: 15 | D20: 0 | E20: 0 | F20: 0 | G20: 0 | H20: =-I24981 -> 0 | I20: 0 | J20: 0 | K20: 0 | L20: 0 | M20: 0 | N20: 0 | O20: =SUM(D20:N20) -> 0
C21: 16 | D21: 0 | E21: 0 | F21: 0 | G21: 0 | H21: =-I24982 -> 0 | I21: 0 | J21: 0 | K21: 0 | L21: 0 | M21: 0 | N21: 0 | O21: =SUM(D21:N21) -> 0
C22: 17 | D22: 0 | E22: 0 | F22: 0 | G22: 0 | H22: =-I24983 -> 0 | I22: 0 | J22: 0 | K22: 0 | L22: 0 | M22: 0 | N22: 0 | O22: =SUM(D22:N22) -> 0
C23: 18 | D23: 0 | E23: 0 | F23: 0 | G23: 0 | H23: =-I24984 -> 0 | I23: 0 | J23: 0 | K23: 0 | L23: 0 | M23: 0 | N23: 0 | O23: =SUM(D23:N23) -> 0
C24: 19 | D24: 0 | E24: 0 | F24: 0 | G24: 0 | H24: =-I24985 -> 0 | I24: 0 | J24: 0 | K24: 0 | L24: 0 | M24: 0 | N24: 0 | O24: =SUM(D24:N24) -> 0
C25: 20 | D25: 0 | E25: 0 | F25: 0 | G25: 0 | H25: =-I24986 -> 0 | I25: 0 | J25: 0 | K25: 0 | L25: 0 | M25: 0 | N25: 0 | O25: =SUM(D25:N25) -> 0
C26: 21 | D26: 0 | E26: 0 | F26: 0 | G26: 0 | H26: =-I24987 -> 0 | I26: - | J26: 0 | K26: 0 | L26: 0 | M26: 0 | N26: 0 | O26: =SUM(D26:N26) -> 0 | Q26: Total Arrivals: | S26: =O37 -> 0
C27: 22 | D27: 0 | E27: 0 | F27: 0 | G27: 0 | H27: =-I24988 -> 0 | I27: 0 | J27: 0 | K27: 0 | L27: 0 | M27: 0 | N27: 0 | O27: =SUM(D27:N27) -> 0
C28: 23 | D28: 0 | E28: 0 | F28: 0 | G28: 0 | H28: =-I24989 -> 0 | I28: 0 | J28: 0 | K28: 0 | L28: 0 | M28: 0 | N28: 0 | O28: =SUM(D28:N28) -> 0
C29: 24 | D29: 0 | E29: 0 | F29: 0 | G29: 0 | H29: =-I24990 -> 0 | I29: 0 | J29: 0 | K29: 0 | L29: 0 | M29: 0 | N29: 0 | O29: =SUM(D29:N29) -> 0
C30: 25 | D30: 0 | E30: 0 | F30: 0 | G30: 0 | H30: =-I24991 -> 0 | I30: 0 | J30: 0 | K30: 0 | L30: 0 | M30: 0 | N30: 0 | O30: =SUM(D30:N30) -> 0
C31: 26 | D31: 0 | E31: 0 | F31: 0 | G31: 0 | H31: =-I24992 -> 0 | I31: 0 | J31: 0 | K31: 0 | L31: 0 | M31: 0 | N31: 0 | O31: =SUM(D31:N31) -> 0
C32: 27 | D32: 0 | E32: 0 | F32: 0 | G32: 0 | H32: =-I24993 -> 0 | I32: 0 | J32: 0 | K32: 0 | L32: 0 | M32: 0 | N32: 0 | O32: =SUM(D32:N32) -> 0
C33: 28 | D33: 0 | E33: 0 | F33: 0 | G33: 0 | H33: =-I24994 -> 0 | I33: 0 | J33: 0 | K33: 0 | L33: 0 | M33: 0 | N33: 0 | O33: =SUM(D33:N33) -> 0
C34: 29 | D34: 0 | E34: 0 | F34: 0 | G34: 0 | H34: =-I24995 -> 0 | I34: 0 | J34: 0 | K34: 0 | L34: 0 | M34: 0 | N34: 0 | O34: =SUM(D34:N34) -> 0
C35: 30 | D35: 0 | E35: 0 | F35: 0 | G35: 0 | H35: =-I24996 -> 0 | I35: 0 | J35: 0 | K35: 0 | L35: 0 | M35: 0 | N35: 0 | O35: =SUM(D35:N35) -> 0
C36: 31 | D36: 0 | E36: 0 | F36: 0 | G36: 0 | H36: =-I24996 -> 0 | I36: 0 | J36: 0 | K36: 0 | L36: 0 | M36: 0 | N36: 0 | O36: =SUM(D36:N36) -> 0
B37: Total: May 2014 | D37: =SUM(D6:D36) -> 0 | E37: =SUM(E6:E36) -> 0 | F37: =SUM(F6:F36) -> 0 | G37: =SUM(G6:G36) -> 0 | H37: =SUM(H6:H36) -> 0 | I37: =SUM(I6:I36) -> 0 | J37: =SUM(J6:J36) -> 0 | K37: =SUM(K6:K36) -> 0 | ... O37: =SUM(O6:O36) -> 0
B38: Total Since start of the emergency | D38: ='April Arrival Numbers'!D37+'May Arrival Numbers'!D37 -> 530 | E38: ='April Arrival Numbers'!E37+'May Arrival Numbers'!E37 -> 4961 | F38: ='April Arrival Numbers'!F37+'May Arrival Numbers'!F37 -> 327 | G38: ='April Arrival Numbers'!G37+'May Arrival Numbers'!G37 -> 321 | H38: ='April Arrival Numbers'!H37+'May Arrival Numbers'!H37 -> 69 | I38: ='April Arrival Numbers'!I37+'May Arrival Numbers'!I37 -> 23012 | J38: ='April Arrival Numbers'!J37+'May Arrival Numbers'!J37 -> 499 | K38: ='April Arrival Numbers'!K37+'May Arrival Numbers'!K37 -> 2327 | ... O38: ='April Arrival Numbers'!O37+'May Arrival Numbers'!O37 -> 54801
B40: Note: Pagak entries are not actual arrival dates but registration dates (Their arrival dates are unknown)
C45: Ethnicity Breakdown
C47: Ethnicity | D47: Number | E47: Proportion
C48: Murle | D48: ='April Arrival Numbers'!D47+'May Arrival Numbers'!D37 -> 530 | E48: =D48/$D$52 -> 0.0096713564
C49: Nuer | D49: ='April Arrival Numbers'!D48+'May Arrival Numbers'!E37+'May Arrival Numbers'!I37+'May Arrival Numbers'!J37+'May Arrival Numbers'!L37+'May Arrival Numbers'!M37 -> 51006 | E49: =D49/$D$52 -> 0.93074944
C50: Anuak | D50: ='April Arrival Numbers'!D49+'May Arrival Numbers'!F37+'May Arrival Numbers'!H37+'May Arrival Numbers'!K37+'May Arrival Numbers'!N37 -> 2944 | E50: =D50/$D$52 -> 0.053721647
C51: Dinka | D51: ='April Arrival Numbers'!D50+'May Arrival Numbers'!G37 -> 321 | E51: =D51/$D$52 -> 0.0058575573
C52: Total | D52: =SUM(D48:D51) -> 54801 | E52: =D52/$D$52 -> 1
I55: Breakdown by Ethnicity
C56: Entry Point Breakdown from 15/12/13
C58: Entry Point | D58: Number | E58: Proportion
C59: Raad | D59: =D38 -> 530 | E59: =D59/$D$52 -> 0.0096713564
C60: Matar | D60: =E38 -> 4961 | E60: =D60/$D$52 -> 0.090527545
C61: Pochalla | D61: =F38 -> 327 | E61: =D61/$D$52 -> 0.0059670444
C62: Pagak | D62: =G38+H38+I38 -> 23402 | E62: =D62/$D$52 -> 0.427036
C63: Burubiey | D63: =J38 -> 499 | E63: =D63/$D$52 -> 0.0091056733
C64: Akobo | D64: =K38+L38 -> 24715 | E64: =D64/$D$52 -> 0.45099542
C65: Pugnido | D65: =M38+N38 -> 367 | E65: =D65/$D$52 -> 0.0066969581 | G65: Pugnido*: This are referrals from Addis Ababa and Gambella
C66: Total | D66: =SUM(D59:D65) -> 54801 | E66: =D66/$D$52 -> 1
C68: Total no. of arrivals to-date
C69: =O38 -> 54801
A71: * Some 56 South Sudanese of Nuer ethnicity who were studying and residing in Addis Ababa were transferred to Pugnido camp this raising the figure from 42, 310 to 42, 366

Sheet June Arrival Numbers
B2: Summary of South Sudanese New Arrivals in Gambella Region as at June 01, 2014 | Q2: Arrival Trend of South Sudanese Asylum Seekers into Gambella Region in June 2014
B4: Entry Point/Corridor | D4: Raad | E4: Matar | F4: Pochalla | G4: Pagak | J4: Burubiey | K4: Akobo | M4: Pugnido | O4: Total per
B5: Ethnicity | D5: Murle | E5: Nuer | F5: Anuak | G5: Dinka | H5: Anuak | I5: Nuer | J5: Nuer | K5: Anuak | L5: Nuer | M5: Nuer | N5: Anuak | O5: Day
B6: Arrival Dates in June 2014 | C6: 1 | D6: 0 | E6: 0 | F6: 0 | G6: 0 | H6: 0 | I6: 0 | J6: 0 | K6: 0 | L6: 0 | M6: 0 | N6: 0 | O6: =SUM(D6:N6) -> 0
C7: 2 | D7: 0 | E7: 0 | F7: 0 | G7: 0 | H7: 0 | I7: 0 | J7: 0 | K7: 0 | L7: 0 | M7: 0 | N7: 0 | O7: =SUM(D7:N7) -> 0
C8: 3 | D8: 0 | E8: 0 | F8: 0 | G8: 0 | H8: 0 | I8: 0 | J8: 0 | K8: 0 | L8: 0 | M8: 0 | N8: 0 | O8: =SUM(D8:N8) -> 0
C9: 4 | D9: 0 | E9: 0 | F9: 0 | G9: 0 | H9: 0 | I9: 0 | J9: 0 | K9: 0 | L9: 0 | M9: 0 | N9: 0 | O9: =SUM(D9:N9) -> 0
C10: 5 | D10: 0 | E10: 0 | F10: 0 | G10: 0 | H10: 0 | I10: 0 | J10: 0 | K10: 0 | L10: 0 | M10: 0 | N10: 0 | O10: =SUM(D10:N10) -> 0
C11: 6 | D11: 0 | E11: 0 | F11: 0 | G11: 0 | H11: 0 | I11: 0 | J11: 0 | K11: 0 | L11: 0 | M11: 0 | N11: 0 | O11: =SUM(D11:N11) -> 0
C12: 7 | D12: 0 | E12: 0 | F12: 0 | G12: 0 | H12: 0 | I12: 0 | J12: 0 | K12: 0 | L12: 0 | M12: 0 | N12: 0 | O12: =SUM(D12:N12) -> 0
C13: 8 | D13: 0 | E13: 0 | F13: 0 | G13: 0 | H13: 0 | I13: 0 | J13: 0 | K13: 0 | L13: 0 | M13: 0 | N13: 0 | O13: =SUM(D13:N13) -> 0
C14: 9 | D14: 0 | E14: 0 | F14: 0 | G14: 0 | H14: 0 | I14: 0 | J14: 0 | K14: 0 | L14: 0 | M14: 0 | N14: 0 | O14: =SUM(D14:N14) -> 0
C15: 10 | D15: 0 | E15: 0 | F15: 0 | G15: 0 | H15: =-I24975 -> 0 | I15: 0 | J15: 0 | K15: 0 | L15: 0 | M15: 0 | N15: 0 | O15: =SUM(D15:N15) -> 0
C16: 11 | D16: 0 | E16: 0 | F16: 0 | G16: 0 | H16: =-I24976 -> 0 | I16: 0 | J16: 0 | K16: 0 | L16: 0 | M16: 0 | N16: 0 | O16: =SUM(D16:N16) -> 0
C17: 12 | D17: 0 | E17: 0 | F17: 0 | G17: 0 | H17: =-I24977 -> 0 | I17: 0 | J17: 0 | K17: 0 | L17: 0 | M17: 0 | N17: 0 | O17: =SUM(D17:N17) -> 0
C18: 13 | D18: 0 | E18: 0 | F18: 0 | G18: 0 | H18: =-I24978 -> 0 | I18: 0 | J18: 0 | K18: 0 | L18: 0 | M18: 0 | N18: 0 | O18: =SUM(D18:N18) -> 0
C19: 14 | D19: 0 | E19: 0 | F19: 0 | G19: 0 | H19: =-I24979 -> 0 | I19: 0 | J19: 0 | K19: 0 | L19: 0 | M19: 0 | N19: 0 | O19: =SUM(D19:N19) -> 0
C20: 15 | D20: 0 | E20: 0 | F20: 0 | G20: 0 | H20: =-I24980 -> 0 | I20: 0 | J20: 0 | K20: 0 | L20: 0 | M20: 0 | N20: 0 | O20: =SUM(D20:N20) -> 0
C21: 16 | D21: 0 | E21: 0 | F21: 0 | G21: 0 | H21: =-I24981 -> 0 | I21: 0 | J21: 0 | K21: 0 | L21: 0 | M21: 0 | N21: 0 | O21: =SUM(D21:N21) -> 0
C22: 17 | D22: 0 | E22: 0 | F22: 0 | G22: 0 | H22: =-I24982 -> 0 | I22: 0 | J22: 0 | K22: 0 | L22: 0 | M22: 0 | N22: 0 | O22: =SUM(D22:N22) -> 0
C23: 18 | D23: 0 | E23: 0 | F23: 0 | G23: 0 | H23: =-I24983 -> 0 | I23: 0 | J23: 0 | K23: 0 | L23: 0 | M23: 0 | N23: 0 | O23: =SUM(D23:N23) -> 0
C24: 19 | D24: 0 | E24: 0 | F24: 0 | G24: 0 | H24: =-I24984 -> 0 | I24: 0 | J24: 0 | K24: 0 | L24: 0 | M24: 0 | N24: 0 | O24: =SUM(D24:N24) -> 0
C25: 20 | D25: 0 | E25: 0 | F25: 0 | G25: 0 | H25: =-I24985 -> 0 | I25: 0 | J25: 0 | K25: 0 | L25: 0 | M25: 0 | N25: 0 | O25: =SUM(D25:N25) -> 0
C26: 21 | D26: 0 | E26: 0 | F26: 0 | G26: 0 | H26: =-I24986 -> 0 | I26: - | J26: 0 | K26: 0 | L26: 0 | M26: 0 | N26: 0 | O26: =SUM(D26:N26) -> 0 | Q26: Total Arrivals: | S26: =O36 -> 0
C27: 22 | D27: 0 | E27: 0 | F27: 0 | G27: 0 | H27: =-I24987 -> 0 | I27: 0 | J27: 0 | K27: 0 | L27: 0 | M27: 0 | N27: 0 | O27: =SUM(D27:N27) -> 0
C28: 23 | D28: 0 | E28: 0 | F28: 0 | G28: 0 | H28: =-I24988 -> 0 | I28: 0 | J28: 0 | K28: 0 | L28: 0 | M28: 0 | N28: 0 | O28: =SUM(D28:N28) -> 0
C29: 24 | D29: 0 | E29: 0 | F29: 0 | G29: 0 | H29: =-I24989 -> 0 | I29: 0 | J29: 0 | K29: 0 | L29: 0 | M29: 0 | N29: 0 | O29: =SUM(D29:N29) -> 0
C30: 25 | D30: 0 | E30: 0 | F30: 0 | G30: 0 | H30: =-I24990 -> 0 | I30: 0 | J30: 0 | K30: 0 | L30: 0 | M30: 0 | N30: 0 | O30: =SUM(D30:N30) -> 0
C31: 26 | D31: 0 | E31: 0 | F31: 0 | G31: 0 | H31: =-I24991 -> 0 | I31: 0 | J31: 0 | K31: 0 | L31: 0 | M31: 0 | N31: 0 | O31: =SUM(D31:N31) -> 0
C32: 27 | D32: 0 | E32: 0 | F32: 0 | G32: 0 | H32: =-I24992 -> 0 | I32: 0 | J32: 0 | K32: 0 | L32: 0 | M32: 0 | N32: 0 | O32: =SUM(D32:N32) -> 0
C33: 28 | D33: 0 | E33: 0 | F33: 0 | G33: 0 | H33: =-I24993 -> 0 | I33: 0 | J33: 0 | K33: 0 | L33: 0 | M33: 0 | N33: 0 | O33: =SUM(D33:N33) -> 0
C34: 29 | D34: 0 | E34: 0 | F34: 0 | G34: 0 | H34: =-I24994 -> 0 | I34: 0 | J34: 0 | K34: 0 | L34: 0 | M34: 0 | N34: 0 | O34: =SUM(D34:N34) -> 0
C35: 30 | D35: 0 | E35: 0 | F35: 0 | G35: 0 | H35: =-I24995 -> 0 | I35: 0 | J35: 0 | K35: 0 | L35: 0 | M35: 0 | N35: 0 | O35: =SUM(D35:N35) -> 0
B36: Total: June 2014 | D36: =SUM(D6:D35) -> 0 | E36: =SUM(E6:E35) -> 0 | F36: =SUM(F6:F35) -> 0 | G36: =SUM(G6:G35) -> 0 | H36: =SUM(H6:H35) -> 0 | I36: =SUM(I6:I35) -> 0 | J36: =SUM(J6:J35) -> 0 | K36: =SUM(K6:K35) -> 0 | ... O36: =SUM(O6:O35) -> 0
B37: Total Since start of the emergency | D37: ='May Arrival Numbers'!D38+'June Arrival Numbers'!D36 -> 530 | E37: ='May Arrival Numbers'!E38+'June Arrival Numbers'!E36 -> 4961 | F37: ='May Arrival Numbers'!F38+'June Arrival Numbers'!F36 -> 327 | G37: ='May Arrival Numbers'!G38+'June Arrival Numbers'!G36 -> 321 | H37: ='May Arrival Numbers'!H38+'June Arrival Numbers'!H36 -> 69 | I37: ='May Arrival Numbers'!I38+'June Arrival Numbers'!I36 -> 23012 | J37: ='May Arrival Numbers'!J38+'June Arrival Numbers'!J36 -> 499 | K37: ='May Arrival Numbers'!K38+'June Arrival Numbers'!K36 -> 2327 | ... O37: ='May Arrival Numbers'!O38+'June Arrival Numbers'!O36 -> 54801
B39: Note: Pagak entries are not actual arrival dates but registration dates (Their arrival dates are unknown)
C44: Ethnicity Breakdown
C46: Ethnicity | D46: Number | E46: Proportion
C47: Murle | D47: ='May Arrival Numbers'!D48+'June Arrival Numbers'!D36 -> 530 | E47: =D47/$D$51 -> 0.0096713564
C48: Nuer | D48: ='May Arrival Numbers'!D49+'June Arrival Numbers'!E36+'June Arrival Numbers'!I36+'June Arrival Numbers'!J36+'June Arrival Numbers'!L36+'June Arrival Numbers'!M36 -> 51006 | E48: =D48/$D$51 -> 0.93074944
C49: Anuak | D49: ='May Arrival Numbers'!D50+'June Arrival Numbers'!F36+'June Arrival Numbers'!H36+'June Arrival Numbers'!K36+'June Arrival Numbers'!N36 -> 2944 | E49: =D49/$D$51 -> 0.053721647
C50: Dinka | D50: ='May Arrival Numbers'!D51+'June Arrival Numbers'!G36 -> 321 | E50: =D50/$D$51 -> 0.0058575573
C51: Total | D51: =SUM(D47:D50) -> 54801 | E51: =D51/$D$51 -> 1
I54: Breakdown by Ethnicity
C55: Entry Point Breakdown from 15/12/13
C57: Entry Point | D57: Number | E57: Proportion
C58: Raad | D58: =D37 -> 530 | E58: =D58/$D$51 -> 0.0096713564
C59: Matar | D59: =E37 -> 4961 | E59: =D59/$D$51 -> 0.090527545
C60: Pochalla | D60: =F37 -> 327 | E60: =D60/$D$51 -> 0.0059670444
C61: Pagak | D61: =G37+H37+I37 -> 23402 | E61: =D61/$D$51 -> 0.427036
C62: Burubiey | D62: =J37 -> 499 | E62: =D62/$D$51 -> 0.0091056733
C63: Akobo | D63: =K37+L37 -> 24715 | E63: =D63/$D$51 -> 0.45099542
C64: Pugnido | D64: =M37+N37 -> 367 | E64: =D64/$D$51 -> 0.0066969581 | G64: Pugnido*: This are referrals from Addis Ababa and Gambella
C65: Total | D65: =SUM(D58:D64) -> 54801 | E65: =D65/$D$51 -> 1
C67: Total no. of arrivals to-date
C68: =O37 -> 54801
A70: * Some 56 South Sudanese of Nuer ethnicity who were studying and residing in Addis Ababa were transferred to Pugnido camp this raising the figure from 42, 310 to 42, 366

Sheet Monthly Arrival # Summary
B2: Monthly Arrival Summary: South Sudanese New Arrivals in Gambella Region in 2014
B9: Month | C9: Total No.
B10: Jan | C10: ='January Arrival Numbers'!L21 -> 29052
B11: Feb | C11: ='February Arrival Numbers'!O31 -> 25749
B12: Mar | C12: ='March Arrival Numbers'!O37 -> 0
B13: Apr | C13: ='April Arrival Numbers'!O36 -> 0
B14: May | C14: ='May Arrival Numbers'!O37 -> 0
B15: Jun | C15: ='June Arrival Numbers'!O36 -> 0
B16: Jul | C16: 0
B17: Aug | C17: 0
B18: Sep | C18: 0
B19: Oct | C19: 0
B20: Nov | C20: 0
B21: Dec | C21: 0
B22: Total | C22: =SUM(C10:C21) -> 54801
