Workbook

Sheet Summary
A1: Health SECTOR | B1: Version 1.0
A2: Lead Ministry | B2: Ministry of Public Health (MoPH)
A3: Coordinating Agency | B3: WHO UNHCR
A4: Contact Information | B4: MoPH - Dr. Randa Hamadeh (randa_ham@hotmail.com) WHO - Dr. Alissar Rady (radya@who.int) UNHCR - Stephanie Laba (labas@unhcr.org)
A6: Budget | C6: 2018 | D6: 2019 | E6: 2020 | F6: 2021 | G6: 2022
A7: HEALTH Sector: Total budget (USD) | C7: 296330428 | D7: =SUM(F23:F36) -> 267350835 | E7: =I23+I24+I25+I26+I27+I29+I30+I32+I33+I34+I36+I37 -> #VALUE! | F7: =325483324.456-23000000 -> 3.0248332e+08 | G7: 299712568
A8: % Humanitarian | C8: 0.83 | D8: 0.55 | E8: 0.45 | F8: 0.53 | G8: 0.53
A9: % Stabilization | C9: 0.17 | D9: 0.45 | E9: 0.55 | F9: 0.47 | G9: 0.47
A11: Persons in Need | C11: Targeted 2018 | D11: Indicative Target 2019 | E11: Indicative Target 2020 | F11: Indicative Target 2021 | G11: Indicative Target 2022
A12: All Population | B12: =SUM(B13:B16) -> 3635062.8 | C12: =SUM(C13:C16) -> 1564800 | D12: =ROUND(SUM(D13:D16),-3) -> 1564000 | E12: =ROUND(SUM(E13:E16),-3) -> 1893000 | F12: =PIN!D8 -> 2476681.4 | G12: 2475000
A13: Persons Displaced from Syria | B13: 1365000 | C13: 760800 | D13: 765000 | E13: 1095000 | F13: =PIN!D5 -> 1365000 | G13: 1365000
A14: Vulnerable Lebanese | B14: 2125362.8 | C14: 750000 | D14: 750000 | E14: 750000 | F14: =PIN!D4 -> 1062681.4 | G14: 1062681.4
A15: PRS | B15: 27700 | C15: 34000 | D15: 28800 | E15: 27700 | F15: =PIN!D6 -> 29000 | G15: 27700
A16: PRL | B16: 117000 | C16: 20000 | D16: 20000 | E16: 20000 | F16: =PIN!D7 -> 20000 | G16: 20000
A17: Institutions (List them) | B17: MoPH MoPH-PHCCs Dispensaries Public Hospitals Private Hospitals Public Schools | C17: MoPH MoPH-PHCCs Dispensaries Public Hospitals Private Hospitals Public Schools | D17: 218 MoPH-PHCCs 27 Public & Private Hospitals 1250 Public Schools | E17: MoPH 234 MoPH-PHCCs Dispensaries 40 Public & Private Hospitals 1275 Public Schools | F17: MoPH 250 MoPH-PHCCs Dispensaries 40 Public & Private Hospitals 1300 Public Schools | G17: MoPH 246 MoPH-PHCCs Dispensaries 40 Public & Private Hospitals 50 Public Schools
A20: Outcome | B20: Output | C20: 2018 | F20: 2019 | I20: 2020 | L20: 2021 | O20: 2022
C21: Budget | D21: % Humanitarian | E21: % Stabilization | F21: Budget | G21: % Humanitarian | H21: % Stabilization | I21: Budget | J21: % Humanitarian | K21: % Stabilization | L21: Budget | M21: % Humanitarian | N21: % Stabilization | O21: Budget | P21: % Humanitarian | Q21: % Stabilization
A22: Outcome 1: Improve access to comprehensive primary healthcare (PHC)
A23: Output 1.1: Financial subsidies and health promotion provided to targeted population for improved access to a comprehensive primary healthcare (PHC) package | C23: 38240000 | D23: 0.75 | E23: 0.25 | F23: 38240000 | G23: 0.7 | H23: 0.3 | I23: 47000000 | J23: 0.7 | K23: 0.3 | L23: 58750000 | M23: 0.7 | N23: 0.3 | O23: 58780854 | P23: 0.7 | Q23: 0.3
A24: Output 1.2 Free of charge noncommunicable diseases (NCD) medication provided at primary healthcare centre level | C24: 8755000 | D24: 0.5 | E24: 0.5 | F24: 9250000 | G24: 0.3 | H24: 0.7 | I24: 10000000 | J24: 0.25 | K24: 0.75 | L24: 13000000 | M24: 0.25 | N24: 0.75 | O24: 13000000 | P24: 0.25 | Q24: 0.75
A25: Output 1.3: Free of charge acute disease medication, medical supplies and reproductive health (RH) commodities provided at PHC level | C25: 20060000 | D25: 0.5 | E25: 0.5 | F25: 20060000 | G25: 0.5 | H25: 0.5 | I25: 24605100 | J25: 0.5 | K25: 0.5 | L25: 32179958 | M25: 0.5 | N25: 0.5 | O25: 32196858 | P25: 0.5 | Q25: 0.5
A26: Output 1.4: Free of charge routine vaccination provided for all children under 5 at PHC level and through vaccination campaigns | C26: 17500000 | D26: 0.5 | E26: 0.5 | F26: 17500000 | G26: 0.5 | H26: 0.5 | I26: 17500000 | J26: 0.5 | K26: 0.5 | L26: 20000000 | M26: 0.5 | N26: 0.5 | O26: 20000000 | P26: 0.5 | Q26: 0.5
A27: Output 1.5: Primary healthcare institutions’ service delivery supported | C27: 16114326 | D27: 0.5 | E27: 0.5 | F27: 12000000 | G27: 0.5 | H27: 0.5 | I27: 12000000 | J27: 0.5 | K27: 0.5 | L27: 12000000 | M27: 0.5 | N27: 0.5 | O27: 12000000 | P27: 0.5 | Q27: 0.5
A28: Outcome 2: Improve access to hospital (including. Emergency Room (ER) Care) and advanced referral care (including advanced diagnostic laboratory and radiology care)
A29: Output 2.1: Financial support provided to targeted population for improved access to hospital and advanced referral care | C29: 178161102 | D29: 1 | E29: 0 | F29: 169530835 | G29: 1 | H29: 0 | I29: 163662134 | J29: 0 | K29: 1 | L29: 1.6439337e+08 | M29: 0.47 | N29: 0.53 | O29: 1.6152283e+08 | P29: 0.47 | Q29: 0.53
A30: Output 2.2: Public and private hospital service delivery supported | C30: 15000000 | D30: 0.5 | E30: 0.5 | F30: 0 | G30: 0 | H30: 0 | I30: 0 | J30: 0 | K30: 0 | L30: 60000 | M30: 0.5 | N30: 0.5 | O30: 60000 | P30: 0.5 | Q30: 0.5
A31: Outcome 3: Improve Outbreak & Infectious Diseases Control
A32: Output 3.1: The National Early Warning and Response System (EWARS) expanded and reinforced | C32: 1500000 | D32: 0.5 | E32: 0.5 | F32: 170000 | G32: 0.5 | H32: 0.5 | I32: 300000 | J32: 0.5 | K32: 0.5 | L32: 450000 | M32: 0.5 | N32: 0.5 | O32: 450000 | P32: 0.5 | Q32: 0.5
A33: Output 3.2: Availability of selected contingency supplies ensured | C33: 500000 | D33: 0.5 | E33: 0.5 | F33: 100000 | G33: 0.5 | H33: 0.5 | I33: 150000 | J33: 0.5 | K33: 0.5 | L33: 1000000 | M33: 0.5 | N33: 0.5 | O33: 1000000 | P33: 0.5 | Q33: 0.5
A34: Output 3.3: The National Tuberculosis and (Acquired Immunodeficiency Syndrome) AIDS Programmes strengthened | C34: NA | D34: NA | E34: NA | F34: 500000 | G34: 0.9 | H34: 0.1 | I34: 600000 | J34: 0.1 | K34: 0.9 | L34: 600000 | M34: 0.9 | N34: 0.1 | O34: 600000 | P34: 0.9 | Q34: 0.1
A35: Outcome 4 – Women, men and youth (children, boys and girls, PWD) have their fundamental rights respected and have access to basic services and information (health, education)
A36: Output 4.1 Health awareness and information strengthened at the institutions level | C36: NA | D36: NA | E36: NA | F36: NA | G36: NA | H36: NA | I36: NA | J36: NA | K36: NA | L36: NA | M36: NA | N36: NA | O36: 50000 | P36: 0.5 | Q36: 0.5
A37: Output 4.2 Equitable access to healthcare information to women, men and youth (children, boys and girls) increased at community level | C37: NA | D37: NA | E37: NA | F37: NA | G37: NA | H37: NA | I37: NA | J37: NA | K37: NA | L37: NA | M37: NA | N37: NA | O37: 50000 | P37: 0.5 | Q37: 0.5

Sheet Logframe
A1: HEALTH SECTOR LOGFRAME - 2017-2022
J3: 2017 | L3: 2018 | N3: 2019 | S3: 2020 | W3: 2021 | AB3: 2022
A4: Result | B4: ID | C4: Indicators | D4: Unit | E4: Description/ definition | F4: MoV / Responsible | G4: Frequency | H4: Beneficiary | I4: Baseline | J4: Target | K4: Results | L4: Target | M4: Results | N4: Target | O4: Q1 - Results | P4: Q2 - Results | Q4: Q3 - Results | R4: Q4 - Results | S4: Target | T4: S1 - Results | U4: Q3 - Results | V4: Q4 - Results | W4: Target | X4: Q1 - Results | Y4: Q2 - Results | Z4: Q3 - Results | AA4: Q4 - Results | AB4: Target | AC4: Q1 - Results | AD4: Q2 - Results | AE4: Q3 - Results | AF4: Q4 - Results
A5: Outcome 1: Improve access to comprehensive primary healthcare (PHC) | B5: A | C5: % of displaced Syrians, vulnerable Lebanese, Palestine Refugees from Syria (PRS) and Palestine Refugees in Lebanon (PRL) accessing primary healthcare services | D5: % | E5: Number of displaced Syrians, vulnerable Lebanese, Palestinian Refugees from Syria (PRS) and Palestinian Refugees in Lebanon (PRL) accessing primary healthcare services out of those who report needing primary healthcare services. | F5: Vulnerability Assessment of Syrian Refugees (VASyR) UNHCR Health Access an Utilization Survey (HAUS) Ministry of Public Health (MoPH) Health Information System (HIS) UNRWA Assessments UNRWA Health Information System | G5: Yearly | H5: SYR | I5: 0.89 | K5: 0.89 | L5: 1 | M5: 0.87 | N5: 1 | O5: N/A | P5: N/A | Q5: 0.9 | R5: 0.9 | S5: 1 | V5: 0.9 | W5: 1 | AB5: 1
H6: PRS | L6: 1 | N6: 1 | O6: N/A | P6: N/A | Q6: N/A | R6: N/A | S6: 1 | V6: N/A | W6: 1 | AB6: 1
H7: PRL | L7: 1 | N7: 1 | O7: N/A | P7: N/A | Q7: N/A | R7: N/A | S7: 1 | V7: N/A | W7: 1 | AB7: 1
H8: LEB | L8: 1 | N8: 1 | O8: N/A | P8: N/A | Q8: N/A | R8: N/A | S8: 1 | V8: N/A | W8: 1 | AB8: 1
H9: Others | L9: 1 | N9: 1 | O9: N/A | P9: N/A | Q9: N/A | R9: N/A | S9: 1 | V9: N/A | W9: 1 | AB9: 1
B10: B | C10: % of vaccination coverage among children under 5 residing in Lebanon | D10: % | E10: Percentage of infants who received: - The 1st (DTP1) / 3rd (DTP3) dose, respectively, of diphtheria and tetanus toxoid with pertussis containing vaccine - The 3rd dose of polio (Pol3) containing vaccine. May be either oral or inactivated polio vaccine. - One dose of inactivated polio vaccine (IPV1) - The 1st dose of measles containing vaccine (MCV1) - The 2nd dose of measles containing vaccine (MCV2) - The 1st dose of rubella containing vaccine (RCV1) - The 3rd dose of hepatitis B containing vaccine following the birth dose. (HepB3) - The 3rd dose of Hemophilus influenza type b containing vaccine. (Hib3) Percentage of births which received: - A dose of hepatitis B vaccine (HepB) within 24 hours of delivery (Source: WHO and UNICEF estimates of national immunization coverage - July 4, 2017) | F10: MoPH/WHO Expanded Programme on Immunization (EPI) cluster survey | G10: Yearly | H10: SYR | I10: N/A | K10: N/A | L10: 1 | M10: N/A | N10: 1 | O10: N/A | P10: N/A | Q10: N/A | R10: N/A | S10: 1 | V10: N/A | W10: 1 | AB10: 1
H11: PRS | L11: 1 | N11: 1 | O11: N/A | P11: N/A | Q11: N/A | R11: N/A | S11: 1 | V11: N/A | W11: 1 | AB11: 1
H12: PRL | L12: 1 | N12: 1 | O12: N/A | P12: N/A | Q12: N/A | R12: N/A | S12: 1 | V12: N/A | W12: 1 | AB12: 1
H13: LEB | L13: 1 | N13: 1 | O13: N/A | P13: N/A | Q13: N/A | R13: N/A | S13: 1 | V13: N/A | W13: 1 | AB13: 1
H14: Others | L14: 1 | N14: 1 | O14: N/A | P14: N/A | Q14: N/A | R14: N/A | S14: 1 | V14: N/A | W14: 1 | AB14: 1
J16: 2017 | L16: 2018 | N16: 2019 | S16: 2020 | W16: 2021 | AB16: 2022
A17: Result | B17: ID | C17: Indicators | D17: Unit | E17: Description/ definition | F17: MoV / Responsible | G17: Frequency | H17: Beneficiary | I17: Baseline | J17: Target | K17: Results | L17: Target | M17: Results | N17: Target | O17: Q1 - Cumulative Results | P17: Q2 - Cumulative Results | Q17: Q3 - Cumulative Results | R17: Q4 - Cumulative Results | S17: Target | T17: S1 - Results | U17: Q3 - Cumulative Results | V17: Q4 - Cumulative Results | W17: Target | X17: Q1 - Cumulative Results | Y17: Q2 - Cumulative Results | Z17: Q3 - Cumulative Results | AA17: Q4 - Cumulative Results | AB17: Target | AC17: Q1 - Cumulative Results | AD17: Q2 - Cumulative Results | AE17: Q3 - Cumulative Results | AF17: Q4 - Cumulative Results | AH17: Budget | AI17: 2018 | AJ17: 2019 | AK17: 2020 | AL17: 2021 | AM17: 2022
A18: Output 1.1 Financial subsidies and health promotion provided to targeted population for improved access to a comprehensive primary healthcare (PHC) package | B18: A | C18: # of subsidized primary healthcare consultations | D18: Consultations | E18: 1. Subsidized refers to financial aid being provided to individuals to receive a primary healthcare consultation. This is done to address the most important barrier to access PHC services which is cost. 2. Disaggregation is by population cohort, sex and age. 3. The cumulative number of ANC, NCD and MH consultations DO NOT add up to the total. 4) Target for Syrians is calculated based on the number of Syrians targeted * 2 visits/person/year. | F18: Activity Info MoPH HIS | G18: Monthly | H18: TOTAL | I18: =SUM(I19:I23) -> 1591197 | J18: =SUM(J19:J23) -> 0 | K18: =SUM(K19:K23) -> 1881702 | L18: =SUM(L19:L23) -> 2152000 | M18: =SUM(M19:M23) -> 1603037 | N18: =SUM(N19:N23) -> 2150000 | O18: =SUM(O19:O23) -> 377536 | P18: =SUM(P19:P23) -> 732763 | ... U18: =SUM(U19:U23) -> 967009 | V18: =SUM(V19:V22) -> 1388599 | W18: =SUM(W19:W22) -> 4950762.8 | X18: =SUM(X19:X23) -> 414906 | Y18: =SUM(Y19:Y23) -> 848670 | Z18: =SUM(Z19:Z23) -> 1487937 | AB18: =SUM(AB19:AB22) -> 4953362.8 | AH18: Output Budget (USD) | AI18: 38240000 | AJ18: 38240000 | AK18: 47000000 | AL18: =AK18+(0.25*AK18) -> 58750000 | AM18: 58780854
H19: SYR | I19: 1089836 | K19: 1437621 | L19: 1521600 | M19: 1182704 | N19: 1500000 | O19: 247885 | P19: 482958 | Q19: 735447 | R19: 1076311 | S19: =PIN!C5*2 -> 2730000 | T19: 361371 | U19: 599128 | V19: 850843 | W19: =PIN!D5*2 -> 2730000 | X19: 233613 | Y19: 469128 | Z19: 793239 | AB19: =PIN!D5*2 -> 2730000 | AH19: % Humanitarian | AI19: 0.75 | AJ19: 0.7 | AK19: 0.7 | AL19: 0.7 | AM19: 0.7
H20: PRS | I20: 148785 | K20: 150536 | L20: 150000 | M20: 144351 | N20: 150000 | O20: 30860 | P20: 58466 | Q20: 87871 | R20: 107913 | S20: =PIN!D6*2 -> 58000 | T20: 1592 | U20: 2392 | V20: 3078 | W20: =27700*2 -> 55400 | X20: 950 | Y20: 2055 | Z20: 3570 | AB20: =PIN!D6*2 -> 58000 | AH20: % Stabilization | AI20: 0.25 | AJ20: 0.3 | AK20: 0.3 | AL20: 0.3 | AM20: 0.3
H21: PRL | I21: 5191 | K21: 5645 | L21: 100000 | M21: 3802 | N21: 100000 | O21: 707 | P21: 1741 | Q21: 2572 | R21: 3289 | S21: =PIN!D7*2 -> 40000 | T21: 2169 | U21: 3591 | V21: 5294 | W21: =PIN!D7*2 -> 40000 | X21: 1417 | Y21: 2789 | Z21: 5002 | AB21: =PIN!D7*2 -> 40000
H22: LEB | I22: 347385 | K22: 287900 | L22: 380400 | M22: 272180 | N22: 400000 | O22: 98084 | P22: 189598 | Q22: 306537 | R22: 541176 | S22: =PIN!D4/4*2 -> 531340.7 | T22: 209036 | U22: 361898 | V22: 529384 | W22: =PIN!D4*2 -> 2125362.8 | X22: 175968 | Y22: 367953 | Z22: 675258 | AB22: =PIN!D4*2 -> 2125362.8
H23: Others | I23: NA | J23: NA | K23: NA | L23: NA | M23: NA | N23: NA | O23: NA | P23: NA | Q23: NA | R23: NA | S23: NA | T23: NA | U23: NA | V23: NA | W23: NA | X23: 2958 | Y23: 6745 | Z23: 10868 | AB23: NA
B24: B | C24: # of subsidized ante-natal care (ANC) consultations out of total | D24: Consultations | E24: 1. Disaggregation is by population cohort and sex. 2. Target: SYR, PRS & PRL: 5% * target population * 2 visits/person/year; LEB: 2.5% * target population * 2 visits/person/year. | F24: Activity Info MoPH HIS | G24: Monthly | H24: TOTAL | I24: =SUM(I25:I29) -> 95182 | J24: =SUM(J25:J29) -> 0 | K24: =SUM(K25:K29) -> 100951 | L24: =SUM(L25:L29) -> 0 | M24: =SUM(M25:M29) -> 101092 | N24: =SUM(N25:N29) -> 104700 | O24: =SUM(O25:O29) -> 27298 | P24: =SUM(P25:P29) -> 56809 | ... U24: =SUM(U25:U29) -> 65509 | V24: =SUM(V25:V28) -> 87733 | W24: =SUM(W25:W28) -> 247538.14 | X24: =SUM(X25:X29) -> 26157 | Y24: =SUM(Y25:Y29) -> 55445 | Z24: =SUM(Z25:Z29) -> 91651 | AB24: =SUM(AB25:AB28) -> 247668.14
H25: SYR | I25: 82571 | K25: 88096 | M25: 91465 | N25: 90828 | O25: 23656 | P25: 49328 | Q25: 73823 | R25: 98234 | S25: =S19*2.5%*2 -> 136500 | T25: 34706 | U25: 53899 | V25: 71589 | W25: =W19*2.5%*2 -> 136500 | X25: 20267 | Y25: 42771 | Z25: 69360 | AB25: =AB19*2.5%*2 -> 136500
H26: PRS | I26: 2 | K26: 13 | M26: 398 | N26: 2 | O26: 0 | P26: 22 | Q26: 87 | R26: 133 | S26: =S20*2.5%*2 -> 2900 | T26: 8 | U26: 25 | V26: 55 | W26: =W20*2.5%*2 -> 2770 | X26: 26 | Y26: 53 | Z26: 113 | AB26: =AB20*2.5%*2 -> 2900
H27: PRL | I27: 16 | K27: 20 | M27: 164 | N27: 18 | O27: 0 | P27: 0 | Q27: 0 | R27: 0 | S27: =S21*2.5%*2 -> 2000 | T27: 3 | U27: 3 | V27: 10 | W27: =W21*2.5%*2 -> 2000 | X27: 5 | Y27: 5 | Z27: 16 | AB27: =AB21*2.5%*2 -> 2000
H28: LEB | I28: 12593 | K28: 12822 | M28: 9065 | N28: 13852 | O28: 3642 | P28: 7459 | Q28: 11502 | R28: 16064 | S28: =S22*2.5%*2 -> 26567.035 | T28: 7519 | U28: 11582 | V28: 16079 | W28: =W22*2.5%*2 -> 106268.14 | X28: 5762 | Y28: 12339 | Z28: 21750 | AB28: =AB22*2.5%*2 -> 106268.14
H29: Others | I29: NA | J29: NA | K29: NA | L29: NA | M29: NA | N29: NA | O29: NA | P29: NA | Q29: NA | R29: NA | S29: NA | T29: NA | U29: NA | V29: NA | W29: NA | X29: 97 | Y29: 277 | Z29: 412 | AB29: NA
B30: C | C30: # of subsidized non-communicable diseases (NCD) consultations out of total | D30: Consultations | E30: 1. Disaggregation is by population cohort and sex 2. Target: 10% of total consultations | F30: Activity Info MoPH HIS | G30: Monthly | H30: TOTAL | I30: =SUM(I31:I35) -> 35009 | J30: =SUM(J31:J35) -> 0 | K30: =SUM(K31:K35) -> 56933 | L30: =SUM(L31:L35) -> 0 | M30: =SUM(M31:M35) -> 87745 | N30: =SUM(N31:N35) -> 38509 | O30: =SUM(O31:O35) -> 29311 | P30: =SUM(P31:P35) -> 59776 | ... U30: =SUM(U31:U35) -> 126031 | V30: =SUM(V31:V34) -> 184841 | W30: =SUM(W31:W35) -> 353806.28 | X30: =SUM(X31:X35) -> 64890 | Y30: =SUM(Y31:Y35) -> 123133 | Z30: =SUM(Z31:Z35) -> 201523 | AB30: =SUM(AB31:AB35) -> 353936.28
H31: SYR | I31: 23043 | K31: 39896 | M31: 53786 | N31: 25347 | O31: 12683 | P31: 26368 | Q31: 40384 | R31: 71038 | S31: =10%*S19/2 -> 136500 | T31: 32904 | U31: 55857 | V31: 80016 | W31: =10%*W19/2 -> 136500 | X31: 24122 | Y31: 45246 | Z31: 70671 | AB31: =10%*AB19/2 -> 136500
H32: PRS | I32: 3 | K32: 78 | M32: 15 | N32: 3 | O32: 0 | P32: 1 | Q32: 27 | R32: 316 | S32: =10%*S20/2 -> 2900 | T32: 15 | U32: 56 | V32: 100 | W32: =10%*W20/2 -> 2770 | X32: 26 | Y32: 107 | Z32: 201 | AB32: =10%*AB20/2 -> 2900
H33: PRL | K33: 349 | M33: 12 | N33: 0 | O33: 0 | P33: 5 | Q33: 5 | R33: 5 | S33: =10%*S21/2 -> 2000 | T33: 169 | U33: 315 | V33: 642 | W33: =10%*W21/2 -> 2000 | X33: 166 | Y33: 221 | Z33: 414 | AB33: =10%*AB21/2 -> 2000
H34: LEB | I34: 11963 | K34: 16610 | M34: 33932 | N34: 13159 | O34: 16628 | P34: 33402 | Q34: 51717 | R34: 72617 | S34: =10%*S22 -> 53134.07 | T34: 39415 | U34: 69803 | V34: 104083 | W34: =10%*W22 -> 212536.28 | X34: 40127 | Y34: 76261 | Z34: 128225 | AB34: =10%*AB22 -> 212536.28
H35: Others | I35: NA | J35: NA | K35: NA | L35: NA | M35: NA | N35: NA | O35: NA | P35: NA | Q35: NA | R35: NA | S35: NA | T35: NA | U35: NA | V35: NA | W35: NA | X35: 449 | Y35: 1298 | Z35: 2012 | AB35: NA
B36: D | C36: # of subsidized mental health (MH) consultations out of total | D36: Consultations | E36: 1. Disaggregation is by population cohort and sex 2. Specialized consultations are given by psychiatrists and psychotherapists. 3. Target: 5% of total consultations. (before 2022). After 2022, 20%. | F36: Activity Info MoPH HIS | G36: Monthly | H36: TOTAL | I36: =SUM(I37:I41) -> 42971 | J36: =SUM(J37:J41) -> 0 | K36: =SUM(K37:K41) -> 43111 | L36: =SUM(L37:L41) -> 0 | M36: =SUM(M37:M41) -> 51868 | N36: =SUM(N37:N41) -> 47268 | O36: =SUM(O37:O41) -> 13156 | P36: =SUM(P37:P41) -> 27309 | ... U36: =SUM(U37:U41) -> 56157 | V36: =SUM(V37:V40) -> 79985 | W36: =SUM(W37:W40) -> 247538.14 | X36: =SUM(X37:X41) -> 25374 | Y36: =SUM(Y37:Y41) -> 48919 | Z36: =SUM(Z37:Z41) -> 77036 | AB36: =SUM(AB37:AB40) -> 990672.56
H37: SYR | I37: 32586 | K37: 32726 | M37: 37474 | N37: 35845 | O37: 9474 | P37: 19094 | Q37: 29661 | R37: 45247 | S37: =5%*S19 -> 136500 | T37: 19890 | U37: 32634 | V37: 46505 | W37: =5%*W19 -> 136500 | X37: 15888 | Y37: 31200 | Z37: 46897 | AB37: =20%*AB19 -> 546000
H38: PRS | I38: 134 | K38: 134 | M38: 344 | N38: 147 | O38: 3163 | P38: 198 | Q38: 287 | R38: 421 | S38: =5%*S20 -> 2900 | T38: 158 | U38: 245 | V38: 354 | W38: =5%*W20 -> 2770 | X38: 106 | Y38: 153 | Z38: 204 | AB38: =20%*AB20 -> 11600
H39: PRL | I39: 684 | K39: 684 | M39: 1705 | N39: 752 | O39: 459 | P39: 922 | Q39: 1408 | R39: 1809 | S39: =5%*S21 -> 2000 | T39: 777 | U39: 1156 | V39: 1499 | W39: =5%*W21 -> 2000 | X39: 298 | Y39: 555 | Z39: 788 | AB39: =20%*AB21 -> 8000
H40: LEB | I40: 9567 | K40: 9567 | M40: 12345 | N40: 10524 | O40: 60 | P40: 7095 | Q40: 11832 | R40: 22253 | S40: =5%*S22 -> 26567.035 | T40: 13630 | U40: 22122 | V40: 31627 | W40: =5%*W22 -> 106268.14 | X40: 8590 | Y40: 16072 | Z40: 27695 | AB40: =20%*AB22 -> 425072.56
H41: Others | I41: NA | J41: NA | K41: NA | L41: NA | M41: NA | N41: NA | O41: NA | P41: NA | Q41: NA | R41: NA | S41: NA | T41: NA | U41: NA | V41: NA | W41: NA | X41: 492 | Y41: 939 | Z41: 1452 | AB41: NA
B42: E | C42: # of persons accessing family planning services | D42: Persons | E42: 1. Family planning services include contraception, counselling, intra-uterine device (IUD) insertion. 2. Disaggregation is by population cohort and sex. 3. Target: ANC /2. | F42: Means of Verification: MoPH HIS/Reports for MoPH-PHCCs and other reports for dispensaries/MMUs Responsibility: MoPH, Partners receiving RH commodities | G42: Quarterly | H42: TOTAL | I42: =SUM(I43:I47) -> 0 | J42: =SUM(J43:J47) -> 0 | K42: =SUM(K43:K47) -> 0 | L42: =SUM(L43:L47) -> 0 | M42: =SUM(M43:M47) -> 10783 | N42: =SUM(N43:N47) -> 104700 | O42: =SUM(O43:O47) -> 2488 | P42: =SUM(P43:P47) -> 5595 | ... U42: =SUM(U43:U47) -> 9157 | V42: =SUM(V43:V46) -> 11500 | W42: =SUM(W43:W46) -> 176903.14 | X42: =SUM(X43:X47) -> 4237 | Y42: =SUM(Y43:Y47) -> 6728 | Z42: =SUM(Z43:Z47) -> 15771 | AB42: =SUM(AB43:AB46) -> 176968.14
H43: SYR | K43: NA | M43: 10119 | N43: 90828 | O43: 2367 | P43: 5280 | Q43: 7693 | R43: 10376 | S43: =S25/2 -> 68250 | T43: 5367 | U43: 8434 | V43: 10620 | W43: =W31/2 -> 68250 | X43: 3926 | Y43: 5941 | Z43: 13103 | AB43: =AB31/2 -> 68250
H44: PRS | K44: NA | M44: 0 | N44: 2 | O44: 0 | P44: 4 | Q44: 4 | R44: 4 | S44: =S26/2 -> 1450 | T44: 0 | U44: 0 | V44: 0 | W44: =W32/2 -> 1385 | X44: 0 | Y44: 0 | Z44: 0 | AB44: =AB32/2 -> 1450
H45: PRL | K45: NA | M45: 1 | N45: 18 | O45: 0 | P45: 6 | Q45: 6 | R45: 6 | S45: =S27/2 -> 1000 | T45: 0 | U45: 0 | V45: 2 | W45: =W33/2 -> 1000 | X45: 0 | Y45: 20 | Z45: 20 | AB45: =AB33/2 -> 1000
H46: LEB | K46: NA | M46: 663 | N46: 13852 | O46: 121 | P46: 305 | Q46: 433 | R46: 560 | S46: =S28/2 -> 13283.518 | T46: 439 | U46: 723 | V46: 878 | W46: =W34/2 -> 106268.14 | X46: 311 | Y46: 765 | Z46: 2645 | AB46: =AB34/2 -> 106268.14
H47: Others | I47: NA | K47: NA | L47: NA | M47: NA | N47: NA | O47: NA | P47: NA | Q47: NA | R47: NA | S47: NA | T47: NA | U47: NA | V47: NA | W47: NA | X47: 0 | Y47: 2 | Z47: 3 | AB47: NA
B48: F | C48: # of children aged 6-59 months who received multiple micronutrients supplementation children | D48: 6-59 Children | E48: Target is 70% of children under five (Ref. population package) From 2017 to 2021, the number represent both CU5 & PLW | F48: Means of Verification: HIS Responsibility: MoPH | G48: Quarterly | H48: TOTAL | I48: =SUM(I49:I53) -> 0 | J48: =SUM(J49:J53) -> 0 | K48: =SUM(K49:K53) -> 0 | L48: =SUM(L49:L53) -> 123000 | M48: =SUM(M49:M53) -> 0 | N48: =SUM(N49:N53) -> 0 | O48: =SUM(O49:O53) -> 0 | P48: =SUM(P49:P53) -> 0 | ... U48: =SUM(U49:U53) -> 6473 | V48: =SUM(V49:V52) -> 15114 | W48: =SUM(W49:W53) -> 50000 | X48: =SUM(X49:X53) -> 3706 | Y48: =SUM(Y49:Y53) -> 16370 | Z48: =SUM(Z49:Z53) -> 22644 | AB48: =SUM(AB49:AB53) -> 382048.4
H49: SYR | K49: NA | L49: 123000 | N49: CU5 166,000 PLW 38,250 | O49: 0 | P49: 0 | Q49: - | R49: 174 | S49: =50000*40% -> 20000 | T49: 1560 | U49: 3959 | V49: 9179 | W49: =50000*40% -> 20000 | X49: 2141 | Y49: 9462 | Z49: 14242 | AB49: =14.2%*1500000 -> 213000
H50: PRS | K50: NA | O50: 0 | P50: 0 | Q50: - | R50: 3 | S50: 0 | T50: 9 | U50: 11 | V50: 20 | W50: 0 | X50: 19 | Y50: 23 | Z50: 55 | AB50: =9.7%*29000 -> 2813
H51: PRL | K51: NA | O51: 0 | P51: 0 | Q51: - | R51: 13 | S51: 0 | T51: 63 | U51: 165 | V51: 348 | W51: 0 | X51: 107 | Y51: 248 | Z51: 291 | AB51: =9.7%*180000 -> 17460
H52: LEB | K52: NA | N52: CU5 41,000 PLW 37,500 | O52: 0 | P52: 0 | Q52: - | R52: 46 | S52: 30000 | T52: 748 | U52: 2338 | V52: 5567 | W52: 30000 | X52: 1399 | Y52: 6515 | Z52: 7867 | AB52: =70%*5.5%*3864296 -> 148775.4
H53: Others | I53: NA | K53: NA | L53: NA | M53: NA | N53: NA | O53: NA | P53: NA | Q53: NA | R53: NA | S53: NA | T53: NA | U53: NA | V53: NA | W53: NA | X53: 40 | Y53: 122 | Z53: 189 | AB53: NA
B54: G | C54: # pregnant women receiving preventative iron supplementation (multiple micronutrient supplements or iron and folic) | D54: PW | E54: Target is 70% of PW. The assumption is that PWs constitute 5% of the displaced population | F54: Means of Verification: HIS Responsibility: MoPH | G54: Quarterly | H54: TOTAL | I54: NA | J54: NA | K54: NA | L54: NA | M54: NA | N54: NA | O54: NA | P54: NA | Q54: NA | R54: NA | S54: NA | T54: NA | U54: NA | V54: NA | W54: NA | X54: NA | Y54: NA | Z54: NA | AB54: =SUM(AB55:AB58) -> 195065.36
H55: SYR | I55: NA | J55: NA | K55: NA | L55: NA | M55: NA | N55: NA | O55: NA | P55: NA | Q55: NA | R55: NA | S55: NA | T55: NA | U55: NA | V55: NA | W55: NA | X55: NA | Y55: NA | Z55: NA | AB55: =70%*1500000*5% -> 52500
H56: PRS | I56: NA | J56: NA | K56: NA | L56: NA | M56: NA | N56: NA | O56: NA | P56: NA | Q56: NA | R56: NA | S56: NA | T56: NA | U56: NA | V56: NA | W56: NA | X56: NA | Y56: NA | Z56: NA | AB56: =70%*29000*5% -> 1015
H57: PRL | I57: NA | J57: NA | K57: NA | L57: NA | M57: NA | N57: NA | O57: NA | P57: NA | Q57: NA | R57: NA | S57: NA | T57: NA | U57: NA | V57: NA | W57: NA | X57: NA | Y57: NA | Z57: NA | AB57: =70%*180000*5% -> 6300
H58: LEB | I58: NA | J58: NA | K58: NA | L58: NA | M58: NA | N58: NA | O58: NA | P58: NA | Q58: NA | R58: NA | S58: NA | T58: NA | U58: NA | V58: NA | W58: NA | X58: NA | Y58: NA | Z58: NA | AB58: =70%*3864296*5% -> 135250.36
H59: Others | I59: NA | J59: NA | K59: NA | L59: NA | M59: NA | N59: NA | O59: NA | P59: NA | Q59: NA | R59: NA | S59: NA | T59: NA | U59: NA | V59: NA | W59: NA | X59: NA | Y59: NA | Z59: NA | AB59: NA
B60: H | C60: # of children 6-59 months screened for acute malnutrition at PHC level | D60: Children | E60: At PHC level, screening by MUAC, and if possible height and weight Target: 70% from PIN (Before 2022, target was 30% from PIN) No cost | F60: Activity Info and HIS MoPH Reports | G60: Annual | H60: TOTAL | I60: =SUM(I61:I65) -> 0 | J60: =SUM(J61:J65) -> 0 | K60: =SUM(K61:K65) -> 0 | L60: =SUM(L61:L65) -> 0 | M60: =SUM(M61:M65) -> 0 | N60: =SUM(N61:N65) -> 0 | O60: =SUM(O61:O65) -> 0 | P60: =SUM(P61:P65) -> 0 | ... U60: =SUM(U61:U65) -> 0 | V60: NA | W60: =SUM(W61:W65) -> 132694 | X60: =SUM(X61:X65) -> 0 | Y60: =SUM(Y61:Y65) -> 0 | AB60: =SUM(AB61:AB65) -> 3901307.2
H61: SYR | I61: NA | J61: NA | K61: NA | L61: NA | M61: NA | N61: NA | O61: NA | P61: NA | Q61: NA | R61: NA | S61: NA | T61: NA | U61: NA | V61: NA | W61: 36549 | X61: 0 | Y61: 0 | Z61: 0 | AB61: =70%*PIN!B5 -> 1050000
H62: PRS | I62: NA | J62: NA | K62: NA | L62: NA | M62: NA | N62: NA | O62: NA | P62: NA | Q62: NA | R62: NA | S62: NA | T62: NA | U62: NA | V62: NA | W62: 666 | X62: 0 | Y62: 0 | Z62: 0 | AB62: =70%*PIN!B6 -> 20300
H63: PRL | I63: NA | J63: NA | K63: NA | L63: NA | M63: NA | N63: NA | O63: NA | P63: NA | Q63: NA | R63: NA | S63: NA | T63: NA | U63: NA | V63: NA | W63: 4459 | X63: 0 | Y63: 0 | Z63: 0 | AB63: =70%*PIN!B7 -> 126000
H64: LEB | I64: NA | J64: NA | K64: NA | L64: NA | M64: NA | N64: NA | O64: NA | P64: NA | Q64: NA | R64: NA | S64: NA | T64: NA | U64: NA | V64: NA | W64: 91020 | X64: 0 | Y64: 0 | Z64: 0 | AB64: =70%*PIN!B4 -> 2705007.2
H65: Others | I65: NA | J65: NA | K65: NA | L65: NA | M65: NA | N65: NA | O65: NA | P65: NA | Q65: NA | R65: NA | S65: NA | T65: NA | U65: NA | V65: NA | W65: NA | X65: 0 | Y65: 0 | Z65: 0 | AB65: NA
A67: List Activities under this output 1.1
A68: Activity 1: Provide subsidized medical consultations (incl. ANC, NCD and MH) and laboratory diagnostics to displaced Syrians, vulnerable Lebanese, PRL and PRS through fixed primary health care outlets
A69: Activity 2: Provide emergency primary health care services through mobile medical units where primary health care facilities are hard to reach
A70: Activity 3: Provide health awareness/promotion activities at PHC facility-level and community outreach awareness/promotion activities linked to the health facility
A71: Activity 4: Provide family planning counselling to targeted population at PHC facility level
A72: Activity 5: Provide children under 5 and pregnant and lactating women (PLW) with micro-nutrients
J73: 2017 | L73: 2018 | N73: 2019 | S73: 2020 | W73: 2021 | AB73: 2022
A74: Result | B74: ID | C74: Indicators | D74: Unit | E74: Description/ definition | F74: MoV / Responsible | G74: Frequency | H74: Beneficiary | I74: Baseline | J74: Target | K74: Results | L74: Target | M74: Results | N74: Target | O74: Q1 - Cumulative Results | P74: Q2 - Cumulative Results | Q74: Q3 - Cumulative Results | R74: Q4 - Cumulative Results | S74: Target | T74: S1 - Results | U74: Q3 - Cumulative Results | V74: Q4 - Cumulative Results | W74: Target | X74: Q1 - Cumulative Results | Y74: Q2 - Cumulative Results | Z74: Q3 - Cumulative Results | AA74: Q4 - Cumulative Results | AB74: Target | AC74: Q1 - Cumulative Results | AD74: Q2 - Cumulative Results | AE74: Q3 - Cumulative Results | AF74: Q4 - Cumulative Results | AH74: Budget | AI74: 2018 | AJ74: 2019 | AK74: 2020 | AL74: 2021 | AM74: 2022
A75: Output 1.2 Free of charge noncommunicable diseases (NCD) medication provided at primary healthcare center level | B75: A | C75: # of patients who received chronic disease medication | D75: Individuals | E75: 1. Target Calculation: Total population targeted: 185,000 (75% Leb 25% Syr PRS & PRL) 2. Disaggregation is by population cohort and sex | F75: MoPH/YMCA data UNRWA data Health partners data | G75: Monthly/ Quarterly | H75: TOTAL | I75: =SUM(I76:I80) -> 151477 | J75: =SUM(J76:J80) -> 0 | K75: =SUM(K76:K80) -> 173852 | L75: =SUM(L76:L80) -> 175100 | M75: =SUM(M76:M80) -> 185233.33 | N75: =SUM(N76:N80) -> 180000 | O75: =SUM(O76:O80) -> 188378 | P75: =SUM(P76:P80) -> 189304 | ... U75: =SUM(U76:U80) -> 209171 | V75: =SUM(V76:V79) -> 216524 | W75: =SUM(W76:W80) -> 230000 | X75: =SUM(X76:X80) -> 234037 | Y75: =SUM(Y76:Y80) -> 240925 | Z75: =SUM(Z76:Z80) -> 240925 | AA75: =SUM(AA76:AA80) -> 0 | AB75: =SUM(AB76:AB80) -> 230000 | AH75: Output Budget (USD) | AI75: 8755000 | AJ75: 9250000 | AK75: 10000000 | AL75: 13000000 | AM75: 13000000
H76: SYR | I76: 13402 | K76: 18014 | L76: 25000 | M76: 27785 | N76: 27000 | O76: 23473 | P76: 24977 | Q76: 26371 | R76: 27783 | S76: 33300 | T76: 30363 | U76: 32089 | V76: 34618 | W76: 41400 | X76: 37102 | Y76: 38514 | Z76: 38514 | AB76: 41400 | AH76: % Humanitarian | AI76: 0.5 | AJ76: 0.3 | AK76: 0.25 | AL76: 0.25 | AM76: 0.25
H77: PRS | K77: 0 | L77: 3400 | M77: 3704 | N77: 3600 | O77: 1180 | P77: 1022 | Q77: 1025 | R77: 1000 | S77: 7400 | T77: 1000 | U77: 1000 | V77: 1004 | W77: 9177 | AB77: 9177 | AH77: % Stabilization | AI77: 0.5 | AJ77: 0.7 | AK77: 0.75 | AL77: 0.75 | AM77: 0.75
H78: PRL | K78: 0 | L78: 1700 | M78: 1853 | N78: 1800 | O78: 341 | P78: =1533/3 -> 511 | Q78: 513 | R78: 560 | S78: 5550 | T78: 488 | U78: 487 | V78: 490 | W78: 6923 | AB78: 6923
H79: LEB | I79: 138075 | K79: 155838 | L79: 145000 | M79: =82%*M75 -> 151891.33 | N79: 147600 | O79: 163384 | P79: 162794 | Q79: 166990 | R79: 174307 | S79: 138750 | T79: 172428 | U79: 175595 | V79: 180412 | W79: 172500 | X79: 195341 | Y79: 200811 | Z79: 200811 | AB79: 172500
H80: Others | I80: NA | J80: NA | K80: NA | L80: NA | M80: NA | N80: NA | O80: NA | P80: NA | Q80: NA | R80: NA | S80: NA | T80: NA | U80: NA | V80: NA | W80: NA | X80: 1594 | Y80: 1600 | Z80: 1600 | AB80: NA
A82: List Activities under this output 1.2
A83: Activity 1: Dispense chronic diseases medication to targeted population at primary healthcare level through enrolment in national channels (MoPH/YMCA, UNRWA)
A84: Activity 2: Dispense chronic diseases medication to targeted population at primary healthcare level which are not available through YMCA list (i.e. insulin) nor covered through UNRWA
J85: 2017 | L85: 2018 | N85: 2019 | S85: 2020 | W85: 2021 | AB85: 2022
A86: Result | B86: ID | C86: Indicators | D86: Unit | E86: Description/ definition | F86: MoV / Responsible | G86: Frequency | H86: Beneficiary | I86: Baseline | J86: Target | K86: Results | L86: Target | M86: Results | N86: Target | O86: Q1 - Cumulative Results | P86: Q2 - Cumulative Results | Q86: Q3 - Cumulative Results | R86: Q4 - Cumulative Results | S86: Target | T86: S1 - Results | U86: Q3 - Cumulative Results | V86: Q4 - Cumulative Results | W86: Target | X86: Q1 - Cumulative Results | Y86: Q2 - Cumulative Results | Z86: Q3 - Cumulative Results | AA86: Q4 - Cumulative Results | AB86: Target | AC86: Q1 - Cumulative Results | AD86: Q2 - Cumulative Results | AE86: Q3 - Cumulative Results | AF86: Q4 - Cumulative Results | AH86: Budget | AI86: 2018 | AJ86: 2019 | AK86: 2020 | AL86: 2021 | AM86: 2022
A87: Output 1.3 Free of charge acute disease medication, medical supplies and reproductive health (RH) commodities provided at PHC level | B87: A | C87: # of patients who received acute disease medication | D87: Individuals | E87: 1. Targets are similar to the sector targets under the LCRP for acute medication. 2. Disaggregation is by population cohort and sex. | F87: MoPH Reports | G87: Quarterly | H87: TOTAL | I87: =SUM(I88:I92) -> 510873 | J87: =SUM(J88:J92) -> 5419.5 | K87: =SUM(K88:K92) -> 603321 | L87: =SUM(L88:L92) -> 1564800 | M87: =SUM(M88:M92) -> 371252 | N87: =SUM(N88:N92) -> 1563800 | O87: =SUM(O88:O92) -> 0 | P87: =SUM(P88:P92) -> 0 | ... U87: =SUM(U88:U92) -> 0 | V87: 109909 | W87: =SUM(W88:W91) -> 2475381.4 | X87: 227568 | Y87: =SUM(Y88:Y92) -> 176999 | Z87: 285977 | AA87: =SUM(AA88:AA92) -> 0 | AB87: =SUM(AB88:AB91) -> 2476681.4 | AH87: Output Budget (USD) | AI87: 20060000 | AJ87: 20060000 | AK87: =S87*13 -> 32196858 | AL87: =W87*13 -> 32179958 | AM87: 32196858
H88: SYR | I88: 340308 | K88: 546288 | L88: 760800 | M88: 306530 | N88: 765000 | O88: NA | P88: NA | Q88: NA | R88: NA | S88: =PIN!D5 -> 1365000 | T88: NA | U88: NA | V88: NA | W88: =PIN!D5 -> 1365000 | Y88: 91793 | AB88: =PIN!D5 -> 1365000 | AH88: % Humanitarian | AI88: 0.5 | AJ88: 0.5 | AK88: 0.5 | AL88: 0.5 | AM88: 0.5
H89: PRS | K89: 5801 | L89: 34000 | M89: 792 | N89: 28800 | O89: NA | P89: NA | Q89: NA | R89: NA | S89: =PIN!D6 -> 29000 | T89: NA | U89: NA | V89: NA | W89: 27700 | AB89: =PIN!D6 -> 29000 | AH89: % Stabilization | AI89: 0.5 | AJ89: 0.5 | AK89: 0.5 | AL89: 0.5 | AM89: 0.5
H90: PRL | K90: 654 | L90: 20000 | M90: 54 | N90: 20000 | O90: NA | P90: NA | Q90: NA | R90: NA | S90: =PIN!D7 -> 20000 | T90: NA | U90: NA | V90: NA | W90: =PIN!D7 -> 20000 | Y90: 523 | AB90: =PIN!D7 -> 20000
H91: LEB | I91: 170565 | J91: =(21678*25)/100 -> 5419.5 | K91: 50578 | L91: 750000 | M91: 63876 | N91: 750000 | O91: NA | P91: NA | Q91: NA | R91: NA | S91: =PIN!D4 -> 1062681.4 | T91: NA | U91: NA | V91: NA | W91: =PIN!D4 -> 1062681.4 | Y91: 83444 | AB91: =PIN!D4 -> 1062681.4
H92: Others | I92: NA | J92: NA | K92: NA | L92: NA | M92: NA | N92: NA | O92: NA | P92: NA | Q92: NA | R92: NA | S92: NA | T92: NA | U92: NA | V92: NA | W92: NA | Y92: 1239 | AB92: NA
B93: B | C93: # of health facilities where reproductive health commodities are available | D93: Individuals | E93: The target is all MoPH-PHCs to have reproductive health commodities (including PEP kits) are available | F93: MoPH Reports | G93: Quarterly | H93: INSTIT | I93: 218 | K93: 46 | M93: 47 | N93: 226 | O93: 83 | P93: 43 | Q93: 227 | R93: 238 | S93: 250 | T93: 319 | U93: =U94+U95 -> 320 | V93: =SUM(V94:V96) -> 325 | W93: =SUM(W94:W96) -> 250 | X93: =SUM(X94:X96) -> 326 | Y93: =SUM(Y94:Y96) -> 326 | Z93: =SUM(Z94:Z95) -> 328 | AB93: =SUM(AB94:AB96) -> 250
H94: MoPH-PHCCs | K94: 0 | O94: 0 | P94: 0 | Q94: 0 | R94: 0 | S94: 0 | T94: 237 | U94: 242 | V94: 243 | W94: 250 | X94: 244 | Y94: 244 | Z94: 246 | AB94: 250
H95: Dispensaries | K95: 0 | O95: - | P95: 0 | Q95: 0 | R95: 0 | S95: 0 | T95: 82 | U95: 78 | V95: 82 | X95: 82 | Y95: 82 | Z95: 82
I96: 0 | K96: 0 | O96: - | P96: 0 | Q96: 0 | R96: 0 | S96: 0 | V96: NA
B97: C | C97: # of CMR facilities where PEP kits are available | D97: Individuals | E97: CMR facilities include PHCCs and hospitals. New indicator for 2021 | F97: MoPH Reports | G97: Quarterly | H97: INSTIT | I97: NA | J97: NA | K97: NA | L97: NA | M97: NA | N97: NA | O97: NA | P97: NA | Q97: NA | R97: NA | S97: NA | T97: NA | U97: NA | V97: NA | W97: =SUM(W98:W100) -> 19 | X97: 19 | Y97: 19 | Z97: 19 | AB97: =SUM(AB98:AB100) -> 19
H98: MoPH-PHCCs | I98: NA | J98: NA | K98: NA | L98: NA | M98: NA | N98: NA | O98: NA | P98: NA | Q98: NA | R98: NA | S98: NA | T98: NA | U98: NA | V98: NA | W98: 14 | AB98: 14
H99: Hospitals | I99: NA | J99: NA | K99: NA | L99: NA | M99: NA | N99: NA | O99: NA | P99: NA | Q99: NA | R99: NA | S99: NA | T99: NA | U99: NA | V99: NA | W99: 5 | AB99: 5
I100: 0 | K100: 0 | O100: - | P100: 0 | Q100: 0 | R100: 0 | S100: 0 | V100: 0
A102: List Activities under this output 1.3
A103: Activity 1: Provide acute diseases medication to targeted population at primary healthcare level
A104: Activity 2: Provide medical supplies to primary health care facilities
A105: Activity 3: Provide reproductive health commodities including family planning commodities to targeted population at primary healthcare level
...

Sheet PIN
A1: Population Cohorts | B1: Total Population | C1: Total Population in Need | D1: Total Population Targeted | E1: a. people are targeted for protection and direct assistance | F1: b. people are targeted for service delivery, economic recovery and social stability | G1: Total Population Targeted
G3: # Female | H3: % Female* | I3: # Male | J3: % Male* | K3: # Children (0-17) | L3: % Children* | M3: # Adolescent (10-17) | N3: % Adolescent* (10-17) | O3: Add additional disaggregation (ex. With Sp Needs) | P3: % additional disaggregation
A4: Lebanese | B4: 3864296 | C4: 1500000 | D4: =B4*55%*50% -> 1062681.4 | E4: =D4/2 -> 531340.7 | F4: =D4/2 -> 531340.7 | G4: =D4*H4 -> 552594.33 | H4: 0.52 | I4: =D4*J4 -> 510087.07 | J4: 0.48 | K4: =D4*L4 -> 331025.26 | L4: 0.3115 | M4: =N4*D4 -> 173642.14 | N4: 0.1634 | O4: =P4*D4 -> 21253.628 | P4: 0.02
A5: Displaced Syrian | B5: 1500000 | C5: =B5*91% -> 1365000 | D5: =C5 -> 1365000 | E5: =D5/2 -> 682500 | F5: =D5/2 -> 682500 | G5: =D5*H5 -> 701610 | H5: 0.514 | I5: =D5*J5 -> 663390 | J5: =100%-H5 -> 0.486 | K5: =D5*L5 -> 723450 | L5: 0.53 | M5: =N5*D5 -> 263445 | N5: 0.193 | O5: =P5*D5 -> 27300 | P5: 0.02
A6: Palestine Refugee from Syria (PRS) | B6: 29000 | C6: 29000 | D6: 29000 | E6: =D6/2 -> 14500 | F6: =D6/2 -> 14500 | G6: =D6*H6 -> 15022 | H6: 0.518 | I6: =D6*J6 -> 13978 | J6: =100%-H6 -> 0.482 | K6: =D6*L6 -> 11695.7 | L6: 0.4033 | M6: =N6*D6 -> 4993.8628 | N6: 0.17220217 | O6: =P6*D6 -> 580 | P6: 0.02
A7: Palestine Refugee in Lebanon (PRL) | B7: 180000 | C7: =B7*79% -> 142200 | D7: 20000 | E7: =D7/2 -> 10000 | F7: =D7/2 -> 10000 | G7: =D7*H7 -> 9920 | H7: 0.496 | I7: =D7*J7 -> 10080 | J7: =100%-H7 -> 0.504 | K7: =D7*L7 -> 6956 | L7: 0.3478 | M7: =N7*D7 -> 3056.3629 | N7: 0.15281815 | O7: =P7*D7 -> 400 | P7: 0.02
A8: GRAND TOTAL | B8: =SUM(B4:B7) -> 5573296 | C8: =SUM(C4:C7) -> 3036200 | D8: =(SUM(D4:D7)) -> 2476681.4 | E8: =SUM(E4:E7) -> 1238340.7 | F8: =SUM(F4:F7) -> 1238340.7 | G8: =ROUND(SUM(G4:G7),-3) -> 1279000 | I8: =ROUND(SUM(I4:I7),-3) -> 1198000 | K8: =ROUND(SUM(K4:K7),-3) -> 1073000 | M8: =ROUND(SUM(M4:M7),-3) -> 445000
A10: Type of institution | C10: Total | D10: # Targeted | H10: * Source: LCRP 2022 population package. % of Female, Male, Children, Adolescent, Youth to be used if you do not have specific Sex Age Disaggregated Target for your sector
A11: CAS | C11: 1 | D11: 0
A12: Governors office | C12: 8 | D12: 0
A13: Lebanese Agriculture Research Institute | C13: 1 | D13: 0
A14: MEHE | C14: 1 | D14: 0
A15: MEHE/ Schools | C15: 1232 | D15: 50
A16: MEHE/ Universities | D16: 0
A17: MoAg | C17: 1 | D17: 0
A18: MoCulture | C18: 1 | D18: 0
A19: MoEnv | C19: 1 | D19: 0
A20: MoEW | C20: 1 | D20: 0
A21: MoFA | C21: 1 | D21: 0
A22: MoIM | C22: 1 | D22: 0
A23: MoInd | C23: 1 | D23: 0
A24: MoJustice | C24: 1 | D24: 0
A25: MoLabor | C25: 1 | D25: 0
A26: MoPH | C26: 1 | D26: 1
A27: MoPH/ PHC | C27: 246 | D27: 246
A28: MoPH/ SHC, THC, Hospitals | C28: 128 | D28: 40
... A40: Municipalities | C40: 1108 | D40: 0
A41: Water establishments | D41: 0
A42: Youth centers | D42: 0
