Workbook
Name Akkar: Lists!$E$1538:$E$1878
Name Aley: Lists!$E$539:$E$657
Name Baabda: Lists!$E$658:$E$759
Name baalbek: Lists!$E$95:$E$282
Name Bcharre: Lists!$E$1879:$E$1906
Name Beirut: Lists!$E$2:$E$94
Name Beirut1: list2!$J$5
Name BeirutGovernorate: list2!$J$5
Name Bekaa: list2!$I$5:$I$10
Name BentJbeil: Lists!$E$2295:$E$2338
Name Chouf: Lists!$E$760:$E$953
Name ElBatroun: Lists!$E$1907:$E$2034
Name ElHermel: Lists!$E$283:$E$372
Name ElKoura: Lists!$E$2035:$E$2090
Name ElMeten: Lists!$E$955:$E$1141
Name ElMinieDennie: Lists!$E$2091:$E$2180
Name ElNabatieh: Lists!$E$2339:$E$2402
Name gov: list2!$F$5:$F$9
Name Governorate: OFFSET(Lists!$C$2,0,0,COUNTA(Lists!$C$2:$C$2833))
Name Hasbaya: Lists!$E$2403:$E$2438
Name Jbeil: Lists!$E$1142:$E$1357
Name Jezzine: Lists!$E$2439:$E$2555
Name Kadaa: OFFSET(Lists!$D$2,0,0,COUNTA(Lists!$D$2:$D$2833))
Name Kesrwane: Lists!$E$1358:$E$1537
Name Marjaayoun: Lists!$E$2556:$E$2600
Name MountLebanon: list2!$H$5:$H$10
Name north: list2!$G$5:$G$11
Name Rachaya: Lists!$E$373:$E$413
Name Saida: Lists!$E$2601:$E$2713
Name Sour: Lists!$E$2714:$E$2833
Name South: list2!$K$5:$K$11
Name Tripoli: Lists!$E$2181:$E$2209
Name uniqgov: OFFSET(list2!$C$5,0,0,COUNT(IF(list2!$C$5:$C$2834="","",1)),1)
Name uniqkad: OFFSET(list2!$D$5,0,0,COUNT(IF(list2!$D$5:$D$1000="","",1)),1)
Name WestBekaa: Lists!$E$414:$E$461
Name Zahle: Lists!$E$462:$E$538
Name Zgharta: Lists!$E$2210:$E$2294

Sheet Assessment Inventory
A1: # | B1: Title | C1: Sector | D1: Sub-sector | E1: Type | F1: Lead agency and partners | G1: Location/s for Assessment: Governorate | H1: Location/s for Assessment: Caza | I1: Location (if unknown/unclear: caza) | J1: Lat | K1: Long | L1: GM LINK | M1: View on Google Maps | N1: Data Collection Start Date | O1: Data Collection End Date | P1: Report Release Date | Q1: Status | R1: Report availability
A2: 1 | B2: Rapid Assessment | C2: Multi-sectoral | E2: Rapid | F2: PU-AMI | G2: South | H2: Saida | I2: Saida | J2: =IF(I2="","",INDEX(Lists!A$2:A$2833,MATCH('Assessment Inventory'!I2,Lists!$E$2:$E$2833,0))) -> 33.562603 | K2: =IF(I2="","",INDEX(Lists!B$2:B$2833,MATCH('Assessment Inventory'!I2,Lists!$E$2:$E$2833,0))) -> 35.367789 | L2: =CONCATENATE("http://maps.google.com/maps?q=",J2,",",K2,"") -> http://maps.google.com/maps?q=33.56260281,35.36778884 | M2: =IF(I2="","",HYPERLINK(L2,"See on Google Maps")) -> See on Google Maps | N2: 41183 | O2: 41212 | P2: 41218 | Q2: complete | R2: Publicly available
G3: Mount Lebanon | H3: Chouf | I3: Chouf | J3: =IF(I3="","",INDEX(Lists!A$2:A$2833,MATCH('Assessment Inventory'!I3,Lists!$E$2:$E$2833,0))) -> 33.937438 | K3: =IF(I3="","",INDEX(Lists!B$2:B$2833,MATCH('Assessment Inventory'!I3,Lists!$E$2:$E$2833,0))) -> 35.702849 | L3: =CONCATENATE("http://maps.google.com/maps?q=",J3,",",K3,"") -> http://maps.google.com/maps?q=33.9374382291836,35.7028488171589 | M3: =IF(I3="","",HYPERLINK(L3,"See on Google Maps")) -> See on Google Maps
G4: Beirut | H4: Beirut | I4: Beirut | J4: =IF(I4="","",INDEX(Lists!A$2:A$2833,MATCH('Assessment Inventory'!I4,Lists!$E$2:$E$2833,0))) -> 33.888167 | K4: =IF(I4="","",INDEX(Lists!B$2:B$2833,MATCH('Assessment Inventory'!I4,Lists!$E$2:$E$2833,0))) -> 35.500906 | L4: =CONCATENATE("http://maps.google.com/maps?q=",J4,",",K4,"") -> http://maps.google.com/maps?q=33.88816677,35.50090618 | M4: =IF(I4="","",HYPERLINK(L4,"See on Google Maps")) -> See on Google Maps
A5: =A2+1 -> 2 | B5: Assessment of Reproductive Health and Gender-Based Violence among Displaced Syrian Women in Lebanon | C5: Health | D5: Reproductive health | E5: In-depth | F5: UNFPA | G5: North | H5: Akkar | I5: Wadi Khaled | J5: =IF(I5="","",INDEX(Lists!A$2:A$2833,MATCH('Assessment Inventory'!I5,Lists!$E$2:$E$2833,0))) -> 34.62552 | K5: =IF(I5="","",INDEX(Lists!B$2:B$2833,MATCH('Assessment Inventory'!I5,Lists!$E$2:$E$2833,0))) -> 36.397969 | L5: =CONCATENATE("http://maps.google.com/maps?q=",J5,",",K5,"") -> http://maps.google.com/maps?q=34.62551956,36.39796906 | M5: =IF(I5="","",HYPERLINK(L5,"See on Google Maps")) -> See on Google Maps | N5: 41091 | O5: 41182 | P5: pending | Q5: complete | R5: Presentation available
G6: Bekaa | H6: Baalbek | I6: Aarsal | J6: =IF(I6="","",INDEX(Lists!A$2:A$2833,MATCH('Assessment Inventory'!I6,Lists!$E$2:$E$2833,0))) -> 34.179236 | K6: =IF(I6="","",INDEX(Lists!B$2:B$2833,MATCH('Assessment Inventory'!I6,Lists!$E$2:$E$2833,0))) -> 36.419592 | L6: =CONCATENATE("http://maps.google.com/maps?q=",J6,",",K6,"") -> http://maps.google.com/maps?q=34.17923604,36.41959158 | M6: =IF(I6="","",HYPERLINK(L6,"See on Google Maps")) -> See on Google Maps
I7: Baalbek | J7: =IF(I7="","",INDEX(Lists!A$2:A$2833,MATCH('Assessment Inventory'!I7,Lists!$E$2:$E$2833,0))) -> 34.005186 | K7: =IF(I7="","",INDEX(Lists!B$2:B$2833,MATCH('Assessment Inventory'!I7,Lists!$E$2:$E$2833,0))) -> 36.207957 | L7: =CONCATENATE("http://maps.google.com/maps?q=",J7,",",K7,"") -> http://maps.google.com/maps?q=34.0051863,36.20795714 | M7: =IF(I7="","",HYPERLINK(L7,"See on Google Maps")) -> See on Google Maps
A8: =A5+1 -> 3 | B8: Child Protection Rapid Assessment - Syrian refugees in Lebanon | C8: Protection | D8: Child protection | E8: Rapid | F8: Save the Children | G8: Bekaa | H8: unknown | I8: unknown | J8: =IF(I8="","",INDEX(Lists!A$2:A$2833,MATCH('Assessment Inventory'!I8,Lists!$E$2:$E$2833,0))) -> #N/A | K8: =IF(I8="","",INDEX(Lists!B$2:B$2833,MATCH('Assessment Inventory'!I8,Lists!$E$2:$E$2833,0))) -> #N/A | L8: =CONCATENATE("http://maps.google.com/maps?q=",J8,",",K8,"") -> #N/A | M8: =IF(I8="","",HYPERLINK(L8,"See on Google Maps")) -> #N/A | N8: 41052 | O8: 41059 | P8: 406454 | Q8: complete | R8: Available on request. Contact: Sophie Perreard
B9: Rapid Child Protection Assessment | C9: Protection | D9: Child protection | F9: Save the Children | G9: North | H9: unknown | I9: unknown | J9: =IF(I9="","",INDEX(Lists!A$2:A$2833,MATCH('Assessment Inventory'!I9,Lists!$E$2:$E$2833,0))) -> #N/A | K9: =IF(I9="","",INDEX(Lists!B$2:B$2833,MATCH('Assessment Inventory'!I9,Lists!$E$2:$E$2833,0))) -> #N/A | L9: =CONCATENATE("http://maps.google.com/maps?q=",J9,",",K9,"") -> #N/A | M9: =IF(I9="","",HYPERLINK(L9,"See on Google Maps")) -> #N/A | N9: 41047 | O9: 41052 | P9: pending | Q9: complete
A10: =A8+1 -> 4 | B10: School basic need assesments in South Lebanon | C10: Education | E10: In-depth | F10: AVSI | G10: South | H10: Marjaayoun | I10: Aadaisse | J10: =IF(I10="","",INDEX(Lists!A$2:A$2833,MATCH('Assessment Inventory'!I10,Lists!$E$2:$E$2833,0))) -> 33.254431 | K10: =IF(I10="","",INDEX(Lists!B$2:B$2833,MATCH('Assessment Inventory'!I10,Lists!$E$2:$E$2833,0))) -> 35.541558 | L10: =CONCATENATE("http://maps.google.com/maps?q=",J10,",",K10,"") -> http://maps.google.com/maps?q=33.25443054,35.54155837 | M10: =IF(I10="","",HYPERLINK(L10,"See on Google Maps")) -> See on Google Maps | N10: unknown | O10: unknown | P10: 41204 | Q10: complete | R10: Publicly available
I11: Ain Aarab Marjaayoun | J11: =IF(I11="","",INDEX(Lists!A$2:A$2833,MATCH('Assessment Inventory'!I11,Lists!$E$2:$E$2833,0))) -> 33.296753 | K11: =IF(I11="","",INDEX(Lists!B$2:B$2833,MATCH('Assessment Inventory'!I11,Lists!$E$2:$E$2833,0))) -> 35.622669 | L11: =CONCATENATE("http://maps.google.com/maps?q=",J11,",",K11,"") -> http://maps.google.com/maps?q=33.29675272,35.62266947 | M11: =IF(I11="","",HYPERLINK(L11,"See on Google Maps")) -> See on Google Maps | O11: unknown | P11: 41204 | Q11: complete | R11: link
I12: Blat | J12: =IF(I12="","",INDEX(Lists!A$2:A$2833,MATCH('Assessment Inventory'!I12,Lists!$E$2:$E$2833,0))) -> 34.114003 | K12: =IF(I12="","",INDEX(Lists!B$2:B$2833,MATCH('Assessment Inventory'!I12,Lists!$E$2:$E$2833,0))) -> 35.661836 | L12: =CONCATENATE("http://maps.google.com/maps?q=",J12,",",K12,"") -> http://maps.google.com/maps?q=34.11400274,35.66183617 | M12: =IF(I12="","",HYPERLINK(L12,"See on Google Maps")) -> See on Google Maps
I13: Blida | J13: =IF(I13="","",INDEX(Lists!A$2:A$2833,MATCH('Assessment Inventory'!I13,Lists!$E$2:$E$2833,0))) -> 33.138239 | K13: =IF(I13="","",INDEX(Lists!B$2:B$2833,MATCH('Assessment Inventory'!I13,Lists!$E$2:$E$2833,0))) -> 35.516036 | L13: =CONCATENATE("http://maps.google.com/maps?q=",J13,",",K13,"") -> http://maps.google.com/maps?q=33.1382388,35.51603615 | M13: =IF(I13="","",HYPERLINK(L13,"See on Google Maps")) -> See on Google Maps
I14: Ebel es Saqi | J14: =IF(I14="","",INDEX(Lists!A$2:A$2833,MATCH('Assessment Inventory'!I14,Lists!$E$2:$E$2833,0))) -> 33.357294 | K14: =IF(I14="","",INDEX(Lists!B$2:B$2833,MATCH('Assessment Inventory'!I14,Lists!$E$2:$E$2833,0))) -> 35.62665 | L14: =CONCATENATE("http://maps.google.com/maps?q=",J14,",",K14,"") -> http://maps.google.com/maps?q=33.35729445,35.62664997 | M14: =IF(I14="","",HYPERLINK(L14,"See on Google Maps")) -> See on Google Maps
I15: Kfar Kila | J15: =IF(I15="","",INDEX(Lists!A$2:A$2833,MATCH('Assessment Inventory'!I15,Lists!$E$2:$E$2833,0))) -> 33.278175 | K15: =IF(I15="","",INDEX(Lists!B$2:B$2833,MATCH('Assessment Inventory'!I15,Lists!$E$2:$E$2833,0))) -> 35.551414 | L15: =CONCATENATE("http://maps.google.com/maps?q=",J15,",",K15,"") -> http://maps.google.com/maps?q=33.27817495,35.55141396 | M15: =IF(I15="","",HYPERLINK(L15,"See on Google Maps")) -> See on Google Maps
I16: Khiam | J16: =IF(I16="","",INDEX(Lists!A$2:A$2833,MATCH('Assessment Inventory'!I16,Lists!$E$2:$E$2833,0))) -> 33.329428 | K16: =IF(I16="","",INDEX(Lists!B$2:B$2833,MATCH('Assessment Inventory'!I16,Lists!$E$2:$E$2833,0))) -> 35.613933 | L16: =CONCATENATE("http://maps.google.com/maps?q=",J16,",",K16,"") -> http://maps.google.com/maps?q=33.32942769,35.6139334 | M16: =IF(I16="","",HYPERLINK(L16,"See on Google Maps")) -> See on Google Maps
I17: Marjaayoun | J17: =IF(I17="","",INDEX(Lists!A$2:A$2833,MATCH('Assessment Inventory'!I17,Lists!$E$2:$E$2833,0))) -> 33.364158 | K17: =IF(I17="","",INDEX(Lists!B$2:B$2833,MATCH('Assessment Inventory'!I17,Lists!$E$2:$E$2833,0))) -> 35.586228 | L17: =CONCATENATE("http://maps.google.com/maps?q=",J17,",",K17,"") -> http://maps.google.com/maps?q=33.36415837,35.58622783 | M17: =IF(I17="","",HYPERLINK(L17,"See on Google Maps")) -> See on Google Maps
I18: Markaba | J18: =IF(I18="","",INDEX(Lists!A$2:A$2833,MATCH('Assessment Inventory'!I18,Lists!$E$2:$E$2833,0))) -> 33.233414 | K18: =IF(I18="","",INDEX(Lists!B$2:B$2833,MATCH('Assessment Inventory'!I18,Lists!$E$2:$E$2833,0))) -> 35.515897 | L18: =CONCATENATE("http://maps.google.com/maps?q=",J18,",",K18,"") -> http://maps.google.com/maps?q=33.23341382,35.51589721 | M18: =IF(I18="","",HYPERLINK(L18,"See on Google Maps")) -> See on Google Maps
I19: Taibe | J19: =IF(I19="","",INDEX(Lists!A$2:A$2833,MATCH('Assessment Inventory'!I19,Lists!$E$2:$E$2833,0))) -> 33.958447 | K19: =IF(I19="","",INDEX(Lists!B$2:B$2833,MATCH('Assessment Inventory'!I19,Lists!$E$2:$E$2833,0))) -> 36.165553 | L19: =CONCATENATE("http://maps.google.com/maps?q=",J19,",",K19,"") -> http://maps.google.com/maps?q=33.9584472,36.16555281 | M19: =IF(I19="","",HYPERLINK(L19,"See on Google Maps")) -> See on Google Maps
H20: Bent Jbeil | I20: Aita Ech Chaab | J20: =IF(I20="","",INDEX(Lists!A$2:A$2833,MATCH('Assessment Inventory'!I20,Lists!$E$2:$E$2833,0))) -> 33.097567 | K20: =IF(I20="","",INDEX(Lists!B$2:B$2833,MATCH('Assessment Inventory'!I20,Lists!$E$2:$E$2833,0))) -> 35.334514 | L20: =CONCATENATE("http://maps.google.com/maps?q=",J20,",",K20,"") -> http://maps.google.com/maps?q=33.09756664,35.33451386 | M20: =IF(I20="","",HYPERLINK(L20,"See on Google Maps")) -> See on Google Maps
I21: Braachit | J21: =IF(I21="","",INDEX(Lists!A$2:A$2833,MATCH('Assessment Inventory'!I21,Lists!$E$2:$E$2833,0))) -> 33.175289 | K21: =IF(I21="","",INDEX(Lists!B$2:B$2833,MATCH('Assessment Inventory'!I21,Lists!$E$2:$E$2833,0))) -> 35.443097 | L21: =CONCATENATE("http://maps.google.com/maps?q=",J21,",",K21,"") -> http://maps.google.com/maps?q=33.17528884,35.44309723 | M21: =IF(I21="","",HYPERLINK(L21,"See on Google Maps")) -> See on Google Maps
I22: Chaqra | J22: =IF(I22="","",INDEX(Lists!A$2:A$2833,MATCH('Assessment Inventory'!I22,Lists!$E$2:$E$2833,0))) -> 33.193247 | K22: =IF(I22="","",INDEX(Lists!B$2:B$2833,MATCH('Assessment Inventory'!I22,Lists!$E$2:$E$2833,0))) -> 35.468158 | L22: =CONCATENATE("http://maps.google.com/maps?q=",J22,",",K22,"") -> http://maps.google.com/maps?q=33.19324719,35.4681583 | M22: =IF(I22="","",HYPERLINK(L22,"See on Google Maps")) -> See on Google Maps
I23: Haris | J23: =IF(I23="","",INDEX(Lists!A$2:A$2833,MATCH('Assessment Inventory'!I23,Lists!$E$2:$E$2833,0))) -> 33.174667 | K23: =IF(I23="","",INDEX(Lists!B$2:B$2833,MATCH('Assessment Inventory'!I23,Lists!$E$2:$E$2833,0))) -> 35.375725 | L23: =CONCATENATE("http://maps.google.com/maps?q=",J23,",",K23,"") -> http://maps.google.com/maps?q=33.1746667,35.37572496 | M23: =IF(I23="","",HYPERLINK(L23,"See on Google Maps")) -> See on Google Maps
I24: Khirbit Silim | J24: =IF(I24="","",INDEX(Lists!A$2:A$2833,MATCH('Assessment Inventory'!I24,Lists!$E$2:$E$2833,0))) -> 33.230197 | K24: =IF(I24="","",INDEX(Lists!B$2:B$2833,MATCH('Assessment Inventory'!I24,Lists!$E$2:$E$2833,0))) -> 35.424586 | L24: =CONCATENATE("http://maps.google.com/maps?q=",J24,",",K24,"") -> http://maps.google.com/maps?q=33.2301972,35.42458608 | M24: =IF(I24="","",HYPERLINK(L24,"See on Google Maps")) -> See on Google Maps
I25: Qalaouiye | J25: =IF(I25="","",INDEX(Lists!A$2:A$2833,MATCH('Assessment Inventory'!I25,Lists!$E$2:$E$2833,0))) -> 33.255192 | K25: =IF(I25="","",INDEX(Lists!B$2:B$2833,MATCH('Assessment Inventory'!I25,Lists!$E$2:$E$2833,0))) -> 35.416653 | L25: =CONCATENATE("http://maps.google.com/maps?q=",J25,",",K25,"") -> http://maps.google.com/maps?q=33.25519166,35.41665278 | M25: =IF(I25="","",HYPERLINK(L25,"See on Google Maps")) -> See on Google Maps
I26: Yater | J26: =IF(I26="","",INDEX(Lists!A$2:A$2833,MATCH('Assessment Inventory'!I26,Lists!$E$2:$E$2833,0))) -> 33.153694 | K26: =IF(I26="","",INDEX(Lists!B$2:B$2833,MATCH('Assessment Inventory'!I26,Lists!$E$2:$E$2833,0))) -> 35.328022 | L26: =CONCATENATE("http://maps.google.com/maps?q=",J26,",",K26,"") -> http://maps.google.com/maps?q=33.15369437,35.32802227 | M26: =IF(I26="","",HYPERLINK(L26,"See on Google Maps")) -> See on Google Maps
A27: =A10+1 -> 5 | B27: Syrian Women & Girls: Fleeing Death, Facing On-going Threats and Humiliation | C27: Protection | D27: SGBV | E27: Rapid | F27: IRC | G27: North | H27: Akkar | I27: Akkar | J27: =IF(I27="","",INDEX(Lists!A$2:A$2833,MATCH('Assessment Inventory'!I27,Lists!$E$2:$E$2833,0))) -> 33.937594 | K27: =IF(I27="","",INDEX(Lists!B$2:B$2833,MATCH('Assessment Inventory'!I27,Lists!$E$2:$E$2833,0))) -> 35.702817 | L27: =CONCATENATE("http://maps.google.com/maps?q=",J27,",",K27,"") -> http://maps.google.com/maps?q=33.9375936596474,35.7028167622317 | M27: =IF(I27="","",HYPERLINK(L27,"See on Google Maps")) -> See on Google Maps | N27: 41129 | O27: 41136 | P27: 41192 | Q27: complete | R27: Publicly available
B28: Syrian Women & Girls: Fleeing Death, Facing On-going Threats and Humiliation | D28: SGBV | F28: IRC | G28: Bekaa | H28: Baalbek | I28: Baalbek | J28: =IF(I28="","",INDEX(Lists!A$2:A$2833,MATCH('Assessment Inventory'!I28,Lists!$E$2:$E$2833,0))) -> 34.005186 | K28: =IF(I28="","",INDEX(Lists!B$2:B$2833,MATCH('Assessment Inventory'!I28,Lists!$E$2:$E$2833,0))) -> 36.207957 | L28: =CONCATENATE("http://maps.google.com/maps?q=",J28,",",K28,"") -> http://maps.google.com/maps?q=34.0051863,36.20795714 | M28: =IF(I28="","",HYPERLINK(L28,"See on Google Maps")) -> See on Google Maps | N28: 41129 | O28: 41136 | P28: 41192 | Q28: complete
A29: =A27+1 -> 6 | B29: Livelihood assessment - Syrian Refugees in Lebanon | C29: Livelihood | E29: In-depth | F29: IRC, Save the Children | G29: Bekaa | H29: Zahle | I29: Bar Elias | J29: =IF(I29="","",INDEX(Lists!A$2:A$2833,MATCH('Assessment Inventory'!I29,Lists!$E$2:$E$2833,0))) -> 33.776369 | K29: =IF(I29="","",INDEX(Lists!B$2:B$2833,MATCH('Assessment Inventory'!I29,Lists!$E$2:$E$2833,0))) -> 35.903289 | L29: =CONCATENATE("http://maps.google.com/maps?q=",J29,",",K29,"") -> http://maps.google.com/maps?q=33.77636945,35.90328887 | M29: =IF(I29="","",HYPERLINK(L29,"See on Google Maps")) -> See on Google Maps | N29: 41162 | O29: 41175 | P29: 41190 | Q29: complete | R29: Publicly available
B30: Livelihood assessment - Syrian Refugees in Lebanon | F30: IRC, Save the Children | H30: Baalbek | I30: Aarsal | J30: =IF(I30="","",INDEX(Lists!A$2:A$2833,MATCH('Assessment Inventory'!I30,Lists!$E$2:$E$2833,0))) -> 34.179236 | K30: =IF(I30="","",INDEX(Lists!B$2:B$2833,MATCH('Assessment Inventory'!I30,Lists!$E$2:$E$2833,0))) -> 36.419592 | L30: =CONCATENATE("http://maps.google.com/maps?q=",J30,",",K30,"") -> http://maps.google.com/maps?q=34.17923604,36.41959158 | M30: =IF(I30="","",HYPERLINK(L30,"See on Google Maps")) -> See on Google Maps | N30: 41162 | O30: 41175 | P30: 41190 | Q30: complete
B31: Livelihood assessment - Syrian Refugees in Lebanon | F31: IRC, Save the Children | H31: Baalbek | I31: Fakehe | J31: =IF(I31="","",INDEX(Lists!A$2:A$2833,MATCH('Assessment Inventory'!I31,Lists!$E$2:$E$2833,0))) -> 34.244703 | K31: =IF(I31="","",INDEX(Lists!B$2:B$2833,MATCH('Assessment Inventory'!I31,Lists!$E$2:$E$2833,0))) -> 36.402849 | L31: =CONCATENATE("http://maps.google.com/maps?q=",J31,",",K31,"") -> http://maps.google.com/maps?q=34.2447031,36.40284936 | M31: =IF(I31="","",HYPERLINK(L31,"See on Google Maps")) -> See on Google Maps | N31: 41162 | O31: 41175 | P31: 41190 | Q31: complete
B32: Livelihood assessment - Syrian Refugees in Lebanon | F32: IRC, Save the Children | H32: Baalbek | I32: Baalbek | J32: =IF(I32="","",INDEX(Lists!A$2:A$2833,MATCH('Assessment Inventory'!I32,Lists!$E$2:$E$2833,0))) -> 34.005186 | K32: =IF(I32="","",INDEX(Lists!B$2:B$2833,MATCH('Assessment Inventory'!I32,Lists!$E$2:$E$2833,0))) -> 36.207957 | L32: =CONCATENATE("http://maps.google.com/maps?q=",J32,",",K32,"") -> http://maps.google.com/maps?q=34.0051863,36.20795714 | M32: =IF(I32="","",HYPERLINK(L32,"See on Google Maps")) -> See on Google Maps | N32: 41162 | O32: 41175 | P32: 41190 | Q32: complete
B33: Livelihood assessment - Syrian Refugees in Lebanon | F33: IRC, Save the Children | G33: North | H33: Akkar | I33: Wadi Khaled | J33: =IF(I33="","",INDEX(Lists!A$2:A$2833,MATCH('Assessment Inventory'!I33,Lists!$E$2:$E$2833,0))) -> 34.62552 | K33: =IF(I33="","",INDEX(Lists!B$2:B$2833,MATCH('Assessment Inventory'!I33,Lists!$E$2:$E$2833,0))) -> 36.397969 | L33: =CONCATENATE("http://maps.google.com/maps?q=",J33,",",K33,"") -> http://maps.google.com/maps?q=34.62551956,36.39796906 | M33: =IF(I33="","",HYPERLINK(L33,"See on Google Maps")) -> See on Google Maps | N33: 41162 | O33: 41175 | P33: 41190 | Q33: complete
B34: Livelihood assessment - Syrian Refugees in Lebanon | F34: IRC, Save the Children | I34: Machta Hammoud | J34: =IF(I34="","",INDEX(Lists!A$2:A$2833,MATCH('Assessment Inventory'!I34,Lists!$E$2:$E$2833,0))) -> 34.631058 | K34: =IF(I34="","",INDEX(Lists!B$2:B$2833,MATCH('Assessment Inventory'!I34,Lists!$E$2:$E$2833,0))) -> 36.327142 | L34: =CONCATENATE("http://maps.google.com/maps?q=",J34,",",K34,"") -> http://maps.google.com/maps?q=34.63105842,36.32714158 | M34: =IF(I34="","",HYPERLINK(L34,"See on Google Maps")) -> See on Google Maps | N34: 41162 | O34: 41175 | P34: 41190 | Q34: complete
B35: Livelihood assessment - Syrian Refugees in Lebanon | F35: IRC, Save the Children | I35: Akroum | J35: =IF(I35="","",INDEX(Lists!A$2:A$2833,MATCH('Assessment Inventory'!I35,Lists!$E$2:$E$2833,0))) -> 34.5433 | K35: =IF(I35="","",INDEX(Lists!B$2:B$2833,MATCH('Assessment Inventory'!I35,Lists!$E$2:$E$2833,0))) -> 36.361855 | L35: =CONCATENATE("http://maps.google.com/maps?q=",J35,",",K35,"") -> http://maps.google.com/maps?q=34.54330005,36.36185548 | M35: =IF(I35="","",HYPERLINK(L35,"See on Google Maps")) -> See on Google Maps | N35: 41162 | O35: 41175 | P35: 41190 | Q35: complete
A36: =A29+1 -> 7 | B36: WASH Assessment Report for North and South Lebanon. | C36: Wash | E36: In-depth | F36: CISP, RI | G36: North | H36: Tripoli | I36: Abou Samra | J36: =IF(I36="","",INDEX(Lists!A$2:A$2833,MATCH('Assessment Inventory'!I36,Lists!$E$2:$E$2833,0))) -> 34.426014 | K36: =IF(I36="","",INDEX(Lists!B$2:B$2833,MATCH('Assessment Inventory'!I36,Lists!$E$2:$E$2833,0))) -> 35.842192 | L36: =CONCATENATE("http://maps.google.com/maps?q=",J36,",",K36,"") -> http://maps.google.com/maps?q=34.426014,35.842192 | M36: =IF(I36="","",HYPERLINK(L36,"See on Google Maps")) -> See on Google Maps | N36: 41091 | O36: 41153 | P36: 41183 | Q36: complete | R36: Publicly available
I37: Mankoubin | J37: =IF(I37="","",INDEX(Lists!A$2:A$2833,MATCH('Assessment Inventory'!I37,Lists!$E$2:$E$2833,0))) -> 34.439 | K37: =IF(I37="","",INDEX(Lists!B$2:B$2833,MATCH('Assessment Inventory'!I37,Lists!$E$2:$E$2833,0))) -> 35.848 | L37: =CONCATENATE("http://maps.google.com/maps?q=",J37,",",K37,"") -> http://maps.google.com/maps?q=34.439,35.848 | M37: =IF(I37="","",HYPERLINK(L37,"See on Google Maps")) -> See on Google Maps
H38: El Minieh-Dennie | I38: Bechtayel | J38: =IF(I38="","",INDEX(Lists!A$2:A$2833,MATCH('Assessment Inventory'!I38,Lists!$E$2:$E$2833,0))) -> 34.405511 | K38: =IF(I38="","",INDEX(Lists!B$2:B$2833,MATCH('Assessment Inventory'!I38,Lists!$E$2:$E$2833,0))) -> 35.990989 | L38: =CONCATENATE("http://maps.google.com/maps?q=",J38,",",K38,"") -> http://maps.google.com/maps?q=34.40551097,35.9909894 | M38: =IF(I38="","",HYPERLINK(L38,"See on Google Maps")) -> See on Google Maps
I39: El Beddaoui | J39: =IF(I39="","",INDEX(Lists!A$2:A$2833,MATCH('Assessment Inventory'!I39,Lists!$E$2:$E$2833,0))) -> 34.454039 | K39: =IF(I39="","",INDEX(Lists!B$2:B$2833,MATCH('Assessment Inventory'!I39,Lists!$E$2:$E$2833,0))) -> 35.863605 | L39: =CONCATENATE("http://maps.google.com/maps?q=",J39,",",K39,"") -> http://maps.google.com/maps?q=34.45403884,35.86360546 | M39: =IF(I39="","",HYPERLINK(L39,"See on Google Maps")) -> See on Google Maps
I40: El Minie | J40: =IF(I40="","",INDEX(Lists!A$2:A$2833,MATCH('Assessment Inventory'!I40,Lists!$E$2:$E$2833,0))) -> 34.480211 | K40: =IF(I40="","",INDEX(Lists!B$2:B$2833,MATCH('Assessment Inventory'!I40,Lists!$E$2:$E$2833,0))) -> 35.92933 | L40: =CONCATENATE("http://maps.google.com/maps?q=",J40,",",K40,"") -> http://maps.google.com/maps?q=34.48021105,35.92933049 | M40: =IF(I40="","",HYPERLINK(L40,"See on Google Maps")) -> See on Google Maps
...

Sheet Lists
A1: Village latitude | B1: Village longitude | C1: Governorate | D1: Kadaa | E1: Village or Site | F1: Village Alternate Name | G1: P-code | H1: View in Google Maps | I1: View in Google Maps - NOTE these coordinates need to be verified
A2: 33.878312 | B2: 35.520059 | C2: Beirut | D2: Beirut | E2: Aadlyeh | F2: Aadlyeh | G2: LBN11001 | H2: http://maps.google.com/maps?q=33.87831155,35.52005888 | I2: =HYPERLINK(H2, "See on Google Maps") -> See on Google Maps
A3: 33.885175 | B3: 35.519117 | C3: Beirut | D3: Beirut | E3: Achrafiye | F3: El Achrafiyé | G3: LBN11002 | H3: http://maps.google.com/maps?q=33.88517496,35.5191167 | I3: =HYPERLINK(H3, "See on Google Maps") -> See on Google Maps
A4: 33.900039 | B4: 35.485097 | C4: Beirut | D4: Beirut | E4: Ain Mreisse | F4: Aïn el Mraîssé | G4: LBN11003 | H4: http://maps.google.com/maps?q=33.90003929,35.48509691 | I4: =HYPERLINK(H4, "See on Google Maps") -> See on Google Maps
A5: 33.887895 | B5: 35.474884 | C5: Beirut | D5: Beirut | E5: Ain El Tine | F5: Aïn et Tîné | G5: LBN11004 | H5: http://maps.google.com/maps?q=33.88789506,35.47488425 | I5: =HYPERLINK(H5, "See on Google Maps") -> See on Google Maps
A6: 33.899034 | B6: 35.498826 | C6: Beirut | D6: Beirut | E6: Bab Idriss | F6: Bab Idriss | G6: LBN11005 | H6: http://maps.google.com/maps?q=33.89903412,35.49882594 | I6: =HYPERLINK(H6, "See on Google Maps") -> See on Google Maps
A7: 33.890572 | B7: 35.5029 | C7: Beirut | D7: Beirut | E7: Bachoura | F7: Bachoura | G7: LBN11006 | H7: http://maps.google.com/maps?q=33.89057219,35.50289999 | I7: =HYPERLINK(H7, "See on Google Maps") -> See on Google Maps
A8: 33.883405 | B8: 35.501487 | C8: Beirut | D8: Beirut | E8: Basta Faouka | F8: Basta el Faouqa | G8: LBN11007 | H8: http://maps.google.com/maps?q=33.88340466,35.50148677 | I8: =HYPERLINK(H8, "See on Google Maps") -> See on Google Maps
A9: 33.89012 | B9: 35.497419 | C9: Beirut | D9: Beirut | E9: Batrakiye | F9: Batrakiyé | G9: LBN11008 | H9: http://maps.google.com/maps?q=33.89011986,35.49741881 | I9: =HYPERLINK(H9, "See on Google Maps") -> See on Google Maps
A10: 33.888167 | B10: 35.500906 | C10: Beirut | D10: Beirut | E10: Beirut | F10: Basta el Tahta | G10: LBN11009 | H10: http://maps.google.com/maps?q=33.88816677,35.50090618 | I10: =HYPERLINK(H10, "See on Google Maps") -> See on Google Maps
A11: 33.882855 | B11: 35.498565 | C11: Beirut | D11: Beirut | E11: Bourj Abi Haidar | F11: Borj Abou Haïdar | G11: LBN11010 | H11: http://maps.google.com/maps?q=33.8828555,35.49856471 | I11: =HYPERLINK(H11, "See on Google Maps") -> See on Google Maps
A12: 33.876949 | B12: 35.509438 | C12: Beirut | D12: Beirut | E12: Champ de courses | F12: Champ de courses | G12: LBN11011 | H12: http://maps.google.com/maps?q=33.8769487,35.50943752 | I12: =HYPERLINK(H12, "See on Google Maps") -> See on Google Maps
A13: 33.88168 | B13: 35.525426 | C13: Beirut | D13: Beirut | E13: Corniche en Nahr | F13: Corniche en Nahr | G13: LBN11012 | H13: http://maps.google.com/maps?q=33.88167993,35.52542641 | I13: =HYPERLINK(H13, "See on Google Maps") -> See on Google Maps
... A59: 33.891806 | B59: 35.497924 | C59: Beirut | D59: Beirut | E59: Zoqaq el Blat | F59: Zqaq el Blat | G59: LBN11058 | H59: http://maps.google.com/maps?q=33.89180644,35.49792358 | I59: =HYPERLINK(H59, "See on Google Maps") -> See on Google Maps
A60: 33.889023 | B60: 35.502618 | C60: Beirut | D60: Beirut | E60: Basta Tahta | F60: Basta Tahta | H60: http://maps.google.com/maps?q=33.889023,35.502618 | I60: =HYPERLINK(H60, "See on Google Maps") -> See on Google Maps
A61: 33.9029 | B61: 35.5371 | C61: Beirut | D61: Beirut | E61: Jisr | H61: http://maps.google.com/maps?q=33.9029,35.5371 | I61: =HYPERLINK(H61, "See on Google Maps") -> See on Google Maps
A62: 33.9021 | B62: 35.5312 | C62: Beirut | D62: Beirut | E62: Khodr | H62: http://maps.google.com/maps?q=33.9021,35.5312 | I62: =HYPERLINK(H62, "See on Google Maps") -> See on Google Maps
A63: 33.8886 | B63: 35.5288 | C63: Beirut | D63: Beirut | E63: Ghabi | H63: http://maps.google.com/maps?q=33.8886,35.5288 | I63: =HYPERLINK(H63, "See on Google Maps") -> See on Google Maps
A64: 33.8838 | B64: 35.5268 | C64: Beirut | D64: Beirut | E64: Sioufi | H64: http://maps.google.com/maps?q=33.8838,35.5268 | I64: =HYPERLINK(H64, "See on Google Maps") -> See on Google Maps
A65: 33.8793 | B65: 35.5254 | C65: Beirut | D65: Beirut | E65: Palais De Justice | H65: http://maps.google.com/maps?q=33.8793,35.5254 | I65: =HYPERLINK(H65, "See on Google Maps") -> See on Google Maps
A66: 33.9001 | B66: 35.5234 | C66: Beirut | D66: Beirut | E66: Mar Mikhael | H66: http://maps.google.com/maps?q=33.9001,35.5234 | I66: =HYPERLINK(H66, "See on Google Maps") -> See on Google Maps
A67: 33.8935 | B67: 35.5155 | C67: Beirut | D67: Beirut | E67: Mar Nicolas | H67: http://maps.google.com/maps?q=33.8935,35.5155 | I67: =HYPERLINK(H67, "See on Google Maps") -> See on Google Maps
A68: 33.8809 | B68: 35.5152 | C68: Beirut | D68: Beirut | E68: Hotel Dieu | H68: http://maps.google.com/maps?q=33.8809,35.5152 | I68: =HYPERLINK(H68, "See on Google Maps") -> See on Google Maps
A69: 33.8783 | B69: 35.5148 | C69: Beirut | D69: Beirut | E69: Corniche El Naher | H69: http://maps.google.com/maps?q=33.8783,35.5148 | I69: =HYPERLINK(H69, "See on Google Maps") -> See on Google Maps
A70: 33.8733 | B70: 35.5129 | C70: Beirut | D70: Beirut | E70: Parc | H70: http://maps.google.com/maps?q=33.8733,35.5129 | I70: =HYPERLINK(H70, "See on Google Maps") -> See on Google Maps
A71: 33.8989 | B71: 35.5124 | C71: Beirut | D71: Beirut | E71: Marfaa | H71: http://maps.google.com/maps?q=33.8989,35.5124 | I71: =HYPERLINK(H71, "See on Google Maps") -> See on Google Maps
A72: 33.8851 | B72: 35.5117 | C72: Beirut | D72: Beirut | E72: Nasra | H72: http://maps.google.com/maps?q=33.8851,35.5117 | I72: =HYPERLINK(H72, "See on Google Maps") -> See on Google Maps
... A94: 33.8886 | B94: 35.4955 | C94: Beirut | D94: Beirut | E94: Jamia | H94: http://maps.google.com/maps?q=33.8886,35.4955 | I94: =HYPERLINK(H94, "See on Google Maps") -> See on Google Maps
A95: 34.028003 | B95: 36.10378 | C95: Bekaa | D95: Baalbek | E95: Aallaq | F95: Tell El Aallaïq | G95: LBN21001 | H95: http://maps.google.com/maps?q=34.02800281,36.1037805 | I95: =HYPERLINK(H95, "See on Google Maps") -> See on Google Maps
A96: 34.179236 | B96: 36.419592 | C96: Bekaa | D96: Baalbek | E96: Aarsal | F96: Aarsâl | G96: LBN21002 | H96: http://maps.google.com/maps?q=34.17923604,36.41959158 | I96: =HYPERLINK(H96, "See on Google Maps") -> See on Google Maps
A97: 34.263163 | B97: 36.128314 | C97: Bekaa | D97: Baalbek | E97: Aayoun Orghoush | F97: Aayoun Orghoush | G97: LBN21003 | H97: http://maps.google.com/maps?q=34.26316281,36.12831418 | I97: =HYPERLINK(H97, "See on Google Maps") -> See on Google Maps
A98: 33.991283 | B98: 36.200833 | C98: Bekaa | D98: Baalbek | E98: Ain Bourday | F98: Aïn Bourdaï | G98: LBN21004 | H98: http://maps.google.com/maps?q=33.99128331,36.20083326 | I98: =HYPERLINK(H98, "See on Google Maps") -> See on Google Maps
A99: 33.839022 | B99: 36.313958 | C99: Bekaa | D99: Baalbek | E99: Ain Ej Jaouze | F99: Aïn ej Jaouzé | G99: LBN21005 | H99: http://maps.google.com/maps?q=33.83902226,36.3139583 | I99: =HYPERLINK(H99, "See on Google Maps") -> See on Google Maps
A100: 33.911644 | B100: 36.225872 | C100: Bekaa | D100: Baalbek | E100: Ain El Bnaiye | F100: Aïn el Bounaya | G100: LBN21006 | H100: http://maps.google.com/maps?q=33.91164439,36.22587224 | I100: =HYPERLINK(H100, "See on Google Maps") -> See on Google Maps
A101: 33.997412 | B101: 36.097429 | C101: Bekaa | D101: Baalbek | E101: Ain es Saouda | F101: Aïn es Saouda | G101: LBN21007 | H101: http://maps.google.com/maps?q=33.99741209,36.09742858 | I101: =HYPERLINK(H101, "See on Google Maps") -> See on Google Maps
A102: 34.186642 | B102: 36.080333 | C102: Bekaa | D102: Baalbek | E102: Ainata | F102: Aïnâta | G102: LBN21008 | H102: http://maps.google.com/maps?q=34.18664163,36.0803334 | I102: =HYPERLINK(H102, "See on Google Maps") -> See on Google Maps
A103: 33.990317 | B103: 36.26385 | C103: Bekaa | D103: Baalbek | E103: Aamchki | F103: Aamishky | G103: LBN21009 | H103: http://maps.google.com/maps?q=33.99031667,36.26384992 | I103: =HYPERLINK(H103, "See on Google Maps") -> See on Google Maps
A104: 34.005186 | B104: 36.207957 | C104: Bekaa | D104: Baalbek | E104: Baalbek | F104: Baalbek | G104: LBN21010 | H104: http://maps.google.com/maps?q=34.0051863,36.20795714 | I104: =HYPERLINK(H104, "See on Google Maps") -> See on Google Maps
A105: 34.299721 | B105: 36.567454 | C105: Bekaa | D105: Baalbek | E105: Baayoun | F105: Baayoun | G105: LBN21011 | H105: http://maps.google.com/maps?q=34.2997207,36.56745388 | I105: =HYPERLINK(H105, "See on Google Maps") -> See on Google Maps
A106: 34.171569 | B106: 36.141167 | C106: Bekaa | D106: Baalbek | E106: Barqa | F106: Barqa | G106: LBN21012 | H106: http://maps.google.com/maps?q=34.17156938,36.1411666 | I106: =HYPERLINK(H106, "See on Google Maps") -> See on Google Maps
...

Sheet list2
A1: DO NOT DELETE ANY OF THESE COLUMNS PLEASE
A4: Organisation | C4: Governorate | D4: Kadaa | F4: Governorate | G4: North | H4: MountLebanon | I4: Bekaa | J4: Beirut | K4: South | N4: WASH | P4: Project status | R4: Areas of Need
A5: ACF | C5: {=INDEX(Governorate,MATCH(0,COUNTIF($C$4:C4, Governorate),0))} -> Beirut | D5: {=INDEX(Kadaa,MATCH(0,COUNTIF($D$4:D4,Kadaa)+(Governorate<>'Assessment Inventory'!#REF!),0))} -> #N/A | F5: North | G5: Akkar | H5: Aley | I5: Baalbek | J5: Beirut | K5: Bent Jbeil | N5: School WASH | P5: Planned | R5: Addressed
A6: ACTED | C6: {=INDEX(Governorate,MATCH(0,COUNTIF($C$4:C5, Governorate),0))} -> Bekaa | D6: {=INDEX(Kadaa,MATCH(0,COUNTIF($D$4:D5,Kadaa)+(Governorate<>'Assessment Inventory'!#REF!),0))} -> #N/A | F6: Mount Lebanon | G6: Bcharre | H6: Baabda | I6: El Hermel | K6: El Nabatieh | N6: Aqua tab Distribution | P6: Not yet Started | R6: Partially Addressed
A7: CISP | C7: {=INDEX(Governorate,MATCH(0,COUNTIF($C$4:C6, Governorate),0))} -> Mount Lebanon | D7: {=INDEX(Kadaa,MATCH(0,COUNTIF($D$4:D6,Kadaa)+(Governorate<>'Assessment Inventory'!#REF!),0))} -> #N/A | E7: =Beirut -> Bachoura | F7: Bekaa | G7: El Batroun | H7: Chouf | I7: Rachaya | K7: Hasbaya | N7: Water trucking | P7: Work in Progress | R7: Not Addressed
A8: CLMC | C8: {=INDEX(Governorate,MATCH(0,COUNTIF($C$4:C7, Governorate),0))} -> North | D8: {=INDEX(Kadaa,MATCH(0,COUNTIF($D$4:D7,Kadaa)+(Governorate<>'Assessment Inventory'!#REF!),0))} -> #N/A | F8: Beirut Governorate | G8: El Koura | H8: El Meten | I8: West Bekaa | K8: Jezzine | N8: Water trucking (Voucher System) | P8: Completed
A9: DRC | C9: {=INDEX(Governorate,MATCH(0,COUNTIF($C$4:C8, Governorate),0))} -> South | D9: {=INDEX(Kadaa,MATCH(0,COUNTIF($D$4:D8,Kadaa)+(Governorate<>'Assessment Inventory'!#REF!),0))} -> #N/A | F9: South | G9: El MiniehDennie | H9: Jbeil | I9: Zahle | K9: Marjaayoun | N9: Rehabilitation of Latrines | P9: Cancelled
A10: Handicap International | D10: {=INDEX(Kadaa,MATCH(0,COUNTIF($D$4:D9,Kadaa)+(Governorate<>'Assessment Inventory'!#REF!),0))} -> #N/A | G10: Tripoli | H10: Kesrwane | I10: Zahre | K10: Saida | N10: Water Tank Distribution (1,000 litre)
A11: IOCC | D11: {=INDEX(Kadaa,MATCH(0,COUNTIF($D$4:D10,Kadaa)+(Governorate<>'Assessment Inventory'!#REF!),0))} -> #N/A | G11: Zgharta | K11: Sour | N11: Water Tank Distribution (1,500 litre)
A12: IRD | D12: {=INDEX(Kadaa,MATCH(0,COUNTIF($D$4:D11,Kadaa)+(Governorate<>'Assessment Inventory'!#REF!),0))} -> #N/A | N12: Water tank repair
A13: Islamic Relief | D13: {=INDEX(Kadaa,MATCH(0,COUNTIF($D$4:D12,Kadaa)+(Governorate<>'Assessment Inventory'!#REF!),0))} -> #N/A | N13: Ceramic Filter Distribution
A14: Min. of Water Min. of Energy &Water | D14: {=INDEX(Kadaa,MATCH(0,COUNTIF($D$4:D13,Kadaa)+(Governorate<>'Assessment Inventory'!#REF!),0))} -> #N/A | N14: Hygiene Promotion
A15: Moviemiento por la Paz | D15: {=INDEX(Kadaa,MATCH(0,COUNTIF($D$4:D14,Kadaa)+(Governorate<>'Assessment Inventory'!#REF!),0))} -> #N/A | N15: Baby Hygiene Kit Distribution
A16: NRC | D16: {=INDEX(Kadaa,MATCH(0,COUNTIF($D$4:D15,Kadaa)+(Governorate<>'Assessment Inventory'!#REF!),0))} -> #N/A | N16: School WASH
A17: PU-AMI | D17: {=INDEX(Kadaa,MATCH(0,COUNTIF($D$4:D16,Kadaa)+(Governorate<>'Assessment Inventory'!#REF!),0))} -> #N/A | N17: De-sludging of Latrines
A18: Save the Children | D18: {=INDEX(Kadaa,MATCH(0,COUNTIF($D$4:D17,Kadaa)+(Governorate<>'Assessment Inventory'!#REF!),0))} -> #N/A | N18: NFI Kit Distribution
A19: UNDP | D19: {=INDEX(Kadaa,MATCH(0,COUNTIF($D$4:D18,Kadaa)+(Governorate<>'Assessment Inventory'!#REF!),0))} -> #N/A | N19: Hygiene Kit Distribution
A20: UNFPA | D20: {=INDEX(Kadaa,MATCH(0,COUNTIF($D$4:D19,Kadaa)+(Governorate<>'Assessment Inventory'!#REF!),0))} -> #N/A | N20: WASH Assessment
A21: UNHCR | D21: {=INDEX(Kadaa,MATCH(0,COUNTIF($D$4:D20,Kadaa)+(Governorate<>'Assessment Inventory'!#REF!),0))} -> #N/A | N21: Jerrycan Distribution
A22: UNICEF | D22: {=INDEX(Kadaa,MATCH(0,COUNTIF($D$4:D21,Kadaa)+(Governorate<>'Assessment Inventory'!#REF!),0))} -> #N/A | N22: Bucket Distribution
A23: WAR Child Holland | D23: {=INDEX(Kadaa,MATCH(0,COUNTIF($D$4:D22,Kadaa)+(Governorate<>'Assessment Inventory'!#REF!),0))} -> #N/A | N23: Bladder Tank Distribution
A24: WHO | D24: {=INDEX(Kadaa,MATCH(0,COUNTIF($D$4:D23,Kadaa)+(Governorate<>'Assessment Inventory'!#REF!),0))} -> #N/A | N24: Construction of Latrines
N25: Rehabilitation of Latrines
N26: Construction of Handwashing station
N27: Distribution of SOAP
N28: Shelter construction
N29: Construction of Showers
N30: Connection to WATER Network
N31: Construction Septic Tanks
N32: Well repairs
N33: New sewage lines
N34: New water system
