Workbook
Name Akkar: Lists!$E$1538:$E$1878
Name Aley: Lists!$E$539:$E$657
Name Baabda: Lists!$E$658:$E$759
Name baalbek: Lists!$E$95:$E$282
Name Bcharre: Lists!$E$1879:$E$1906
Name Beirut: Lists!$E$2:$E$94
Name Beirut1: list2!$J$5
Name BeirutGovernorate: list2!$J$5
Name Bekaa: list2!$I$5:$I$10
Name BentJbeil: Lists!$E$2295:$E$2338
Name Chouf: Lists!$E$760:$E$953
Name ElBatroun: Lists!$E$1907:$E$2034
Name ElHermel: Lists!$E$283:$E$372
Name ElKoura: Lists!$E$2035:$E$2090
Name ElMeten: Lists!$E$955:$E$1141
Name ElMinieDennie: Lists!$E$2091:$E$2180
Name ElNabatieh: Lists!$E$2339:$E$2402
Name gov: list2!$F$5:$F$9
Name Governorate: OFFSET(Lists!$C$2,0,0,COUNTA(Lists!$C$2:$C$2833))
Name Hasbaya: Lists!$E$2403:$E$2438
Name Jbeil: Lists!$E$1142:$E$1357
Name Jezzine: Lists!$E$2439:$E$2555
Name Kadaa: OFFSET(Lists!$D$2,0,0,COUNTA(Lists!$D$2:$D$2833))
Name Kesrwane: Lists!$E$1358:$E$1537
Name Marjaayoun: Lists!$E$2556:$E$2600
Name MountLebanon: list2!$H$5:$H$10
Name north: list2!$G$5:$G$11
Name Rachaya: Lists!$E$373:$E$413
Name Saida: Lists!$E$2601:$E$2713
Name Sour: Lists!$E$2714:$E$2833
Name South: list2!$K$5:$K$11
Name Tripoli: Lists!$E$2181:$E$2209
Name uniqgov: OFFSET(list2!$C$5,0,0,COUNT(IF(list2!$C$5:$C$2834="","",1)),1)
Name uniqkad: OFFSET(list2!$D$5,0,0,COUNT(IF(list2!$D$5:$D$1000="","",1)),1)
Name WestBekaa: Lists!$E$414:$E$461
Name Zahle: Lists!$E$462:$E$538
Name Zgharta: Lists!$E$2210:$E$2294

Sheet Assessment Inventory
A1: # | B1: Title | C1: Sector | D1: Sub-sector | E1: Type | F1: Lead agency and partners | G1: Location/s for Assessment: Governorate | H1: Location/s for Assessment: Caza | I1: Location (if unknown/unclear: caza) | J1: Lat | K1: Long | L1: GM LINK | M1: View on Google Maps | N1: Data Collection Start Date | O1: Data Collection End Date | P1: Report Release Date | Q1: Status | R1: Report availability
A2: 1 | B2: Rapid Assessment | C2: Multi-sectoral | E2: Rapid | F2: PU-AMI | G2: South | H2: Saida | I2: Saida | J2: =IF(I2="","",INDEX(Lists!A$2:A$2833,MATCH('Assessment Inventory'!I2,Lists!$E$2:$E$2833,0))) -> 33.562603 | K2: =IF(I2="","",INDEX(Lists!B$2:B$2833,MATCH('Assessment Inventory'!I2,Lists!$E$2:$E$2833,0))) -> 35.367789 | L2: =CONCATENATE("http://maps.google.com/maps?q=",J2,",",K2,"") -> http://maps.google.com/maps?q=33.56260281,35.36778884 | M2: =IF(I2="","",HYPERLINK(L2,"See on Google Maps")) -> See on Google Maps | N2: 41183 | O2: 41212 | P2: 41218 | Q2: complete | R2: Publicly available
G3: Mount Lebanon | H3: Chouf | I3: Chouf | J3: =IF(I3="","",INDEX(Lists!A$2:A$2833,MATCH('Assessment Inventory'!I3,Lists!$E$2:$E$2833,0))) -> 33.937438 | K3: =IF(I3="","",INDEX(Lists!B$2:B$2833,MATCH('Assessment Inventory'!I3,Lists!$E$2:$E$2833,0))) -> 35.702849 | L3: =CONCATENATE("http://maps.google.com/maps?q=",J3,",",K3,"") -> http://maps.google.com/maps?q=33.9374382291836,35.7028488171589 | M3: =IF(I3="","",HYPERLINK(L3,"See on Google Maps")) -> See on Google Maps
G4: Beirut | H4: Beirut | I4: Beirut | J4: =IF(I4="","",INDEX(Lists!A$2:A$2833,MATCH('Assessment Inventory'!I4,Lists!$E$2:$E$2833,0))) -> 33.888167 | K4: =IF(I4="","",INDEX(Lists!B$2:B$2833,MATCH('Assessment Inventory'!I4,Lists!$E$2:$E$2833,0))) -> 35.500906 | L4: =CONCATENATE("http://maps.google.com/maps?q=",J4,",",K4,"") -> http://maps.google.com/maps?q=33.88816677,35.50090618 | M4: =IF(I4="","",HYPERLINK(L4,"See on Google Maps")) -> See on Google Maps
A5: =A2+1 -> 2 | B5: Assessment of Reproductive Health and Gender-Based Violence among Displaced Syrian Women in Lebanon | C5: Health | D5: Reproductive health | E5: In-depth | F5: UNFPA | G5: North | H5: Akkar | I5: Wadi Khaled | J5: =IF(I5="","",INDEX(Lists!A$2:A$2833,MATCH('Assessment Inventory'!I5,Lists!$E$2:$E$2833,0))) -> 34.62552 | K5: =IF(I5="","",INDEX(Lists!B$2:B$2833,MATCH('Assessment Inventory'!I5,Lists!$E$2:$E$2833,0))) -> 36.397969 | L5: =CONCATENATE("http://maps.google.com/maps?q=",J5,",",K5,"") -> http://maps.google.com/maps?q=34.62551956,36.39796906 | M5: =IF(I5="","",HYPERLINK(L5,"See on Google Maps")) -> See on Google Maps | N5: 41091 | O5: 41182 | P5: pending | Q5: complete | R5: Presentation available
G6: Bekaa | H6: Baalbek | I6: Aarsal | J6: =IF(I6="","",INDEX(Lists!A$2:A$2833,MATCH('Assessment Inventory'!I6,Lists!$E$2:$E$2833,0))) -> 34.179236 | K6: =IF(I6="","",INDEX(Lists!B$2:B$2833,MATCH('Assessment Inventory'!I6,Lists!$E$2:$E$2833,0))) -> 36.419592 | L6: =CONCATENATE("http://maps.google.com/maps?q=",J6,",",K6,"") -> http://maps.google.com/maps?q=34.17923604,36.41959158 | M6: =IF(I6="","",HYPERLINK(L6,"See on Google Maps")) -> See on Google Maps
I7: Baalbek | J7: =IF(I7="","",INDEX(Lists!A$2:A$2833,MATCH('Assessment Inventory'!I7,Lists!$E$2:$E$2833,0))) -> 34.005186 | K7: =IF(I7="","",INDEX(Lists!B$2:B$2833,MATCH('Assessment Inventory'!I7,Lists!$E$2:$E$2833,0))) -> 36.207957 | L7: =CONCATENATE("http://maps.google.com/maps?q=",J7,",",K7,"") -> http://maps.google.com/maps?q=34.0051863,36.20795714 | M7: =IF(I7="","",HYPERLINK(L7,"See on Google Maps")) -> See on Google Maps
A8: =A5+1 -> 3 | B8: Child Protection Rapid Assessment - Syrian refugees in Lebanon | C8: Protection | D8: Child protection | E8: Rapid | F8: Save the Children | G8: Bekaa | H8: unknown | I8: unknown | J8: =IF(I8="","",INDEX(Lists!A$2:A$2833,MATCH('Assessment Inventory'!I8,Lists!$E$2:$E$2833,0))) -> #N/A | K8: =IF(I8="","",INDEX(Lists!B$2:B$2833,MATCH('Assessment Inventory'!I8,Lists!$E$2:$E$2833,0))) -> #N/A | L8: =CONCATENATE("http://maps.google.com/maps?q=",J8,",",K8,"") -> #N/A | M8: =IF(I8="","",HYPERLINK(L8,"See on Google Maps")) -> #N/A | N8: 41052 | O8: 41059 | P8: 406454 | Q8: complete | R8: Available on request. Contact: Sophie Perreard
B9: Rapid Child Protection Assessment | C9: Protection | D9: Child protection | F9: Save the Children | G9: North | H9: unknown | I9: unknown | J9: =IF(I9="","",INDEX(Lists!A$2:A$2833,MATCH('Assessment Inventory'!I9,Lists!$E$2:$E$2833,0))) -> #N/A | K9: =IF(I9="","",INDEX(Lists!B$2:B$2833,MATCH('Assessment Inventory'!I9,Lists!$E$2:$E$2833,0))) -> #N/A | L9: =CONCATENATE("http://maps.google.com/maps?q=",J9,",",K9,"") -> #N/A | M9: =IF(I9="","",HYPERLINK(L9,"See on Google Maps")) -> #N/A | N9: 41047 | O9: 41052 | P9: pending | Q9: complete
A10: =A8+1 -> 4 | B10: School basic need assesments in South Lebanon | C10: Education | E10: In-depth | F10: AVSI | G10: South | H10: Marjaayoun | I10: Aadaisse | J10: =IF(I10="","",INDEX(Lists!A$2:A$2833,MATCH('Assessment Inventory'!I10,Lists!$E$2:$E$2833,0))) -> 33.254431 | K10: =IF(I10="","",INDEX(Lists!B$2:B$2833,MATCH('Assessment Inventory'!I10,Lists!$E$2:$E$2833,0))) -> 35.541558 | L10: =CONCATENATE("http://maps.google.com/maps?q=",J10,",",K10,"") -> http://maps.google.com/maps?q=33.25443054,35.54155837 | M10: =IF(I10="","",HYPERLINK(L10,"See on Google Maps")) -> See on Google Maps | N10: unknown | O10: unknown | P10: 41204 | Q10: complete | R10: Publicly available
I11: Ain Aarab Marjaayoun | J11: =IF(I11="","",INDEX(Lists!A$2:A$2833,MATCH('Assessment Inventory'!I11,Lists!$E$2:$E$2833,0))) -> 33.296753 | K11: =IF(I11="","",INDEX(Lists!B$2:B$2833,MATCH('Assessment Inventory'!I11,Lists!$E$2:$E$2833,0))) -> 35.622669 | L11: =CONCATENATE("http://maps.google.com/maps?q=",J11,",",K11,"") -> http://maps.google.com/maps?q=33.29675272,35.62266947 | M11: =IF(I11="","",HYPERLINK(L11,"See on Google Maps")) -> See on Google Maps | O11: unknown | P11: 41204 | Q11: complete | R11: link
I12: Blat | J12: =IF(I12="","",INDEX(Lists!A$2:A$2833,MATCH('Assessment Inventory'!I12,Lists!$E$2:$E$2833,0))) -> 34.114003 | K12: =IF(I12="","",INDEX(Lists!B$2:B$2833,MATCH('Assessment Inventory'!I12,Lists!$E$2:$E$2833,0))) -> 35.661836 | L12: =CONCATENATE("http://maps.google.com/maps?q=",J12,",",K12,"") -> http://maps.google.com/maps?q=34.11400274,35.66183617 | M12: =IF(I12="","",HYPERLINK(L12,"See on Google Maps")) -> See on Google Maps
I13: Blida | J13: =IF(I13="","",INDEX(Lists!A$2:A$2833,MATCH('Assessment Inventory'!I13,Lists!$E$2:$E$2833,0))) -> 33.138239 | K13: =IF(I13="","",INDEX(Lists!B$2:B$2833,MATCH('Assessment Inventory'!I13,Lists!$E$2:$E$2833,0))) -> 35.516036 | L13: =CONCATENATE("http://maps.google.com/maps?q=",J13,",",K13,"") -> http://maps.google.com/maps?q=33.1382388,35.51603615 | M13: =IF(I13="","",HYPERLINK(L13,"See on Google Maps")) -> See on Google Maps
I14: Ebel es Saqi | J14: =IF(I14="","",INDEX(Lists!A$2:A$2833,MATCH('Assessment Inventory'!I14,Lists!$E$2:$E$2833,0))) -> 33.357294 | K14: =IF(I14="","",INDEX(Lists!B$2:B$2833,MATCH('Assessment Inventory'!I14,Lists!$E$2:$E$2833,0))) -> 35.62665 | L14: =CONCATENATE("http://maps.google.com/maps?q=",J14,",",K14,"") -> http://maps.google.com/maps?q=33.35729445,35.62664997 | M14: =IF(I14="","",HYPERLINK(L14,"See on Google Maps")) -> See on Google Maps
I15: Kfar Kila | J15: =IF(I15="","",INDEX(Lists!A$2:A$2833,MATCH('Assessment Inventory'!I15,Lists!$E$2:$E$2833,0))) -> 33.278175 | K15: =IF(I15="","",INDEX(Lists!B$2:B$2833,MATCH('Assessment Inventory'!I15,Lists!$E$2:$E$2833,0))) -> 35.551414 | L15: =CONCATENATE("http://maps.google.com/maps?q=",J15,",",K15,"") -> http://maps.google.com/maps?q=33.27817495,35.55141396 | M15: =IF(I15="","",HYPERLINK(L15,"See on Google Maps")) -> See on Google Maps
I16: Khiam | J16: =IF(I16="","",INDEX(Lists!A$2:A$2833,MATCH('Assessment Inventory'!I16,Lists!$E$2:$E$2833,0))) -> 33.329428 | K16: =IF(I16="","",INDEX(Lists!B$2:B$2833,MATCH('Assessment Inventory'!I16,Lists!$E$2:$E$2833,0))) -> 35.613933 | L16: =CONCATENATE("http://maps.google.com/maps?q=",J16,",",K16,"") -> http://maps.google.com/maps?q=33.32942769,35.6139334 | M16: =IF(I16="","",HYPERLINK(L16,"See on Google Maps")) -> See on Google Maps
I17: Marjaayoun | J17: =IF(I17="","",INDEX(Lists!A$2:A$2833,MATCH('Assessment Inventory'!I17,Lists!$E$2:$E$2833,0))) -> 33.364158 | K17: =IF(I17="","",INDEX(Lists!B$2:B$2833,MATCH('Assessment Inventory'!I17,Lists!$E$2:$E$2833,0))) -> 35.586228 | L17: =CONCATENATE("http://maps.google.com/maps?q=",J17,",",K17,"") -> http://maps.google.com/maps?q=33.36415837,35.58622783 | M17: =IF(I17="","",HYPERLINK(L17,"See on Google Maps")) -> See on Google Maps
I18: Markaba | J18: =IF(I18="","",INDEX(Lists!A$2:A$2833,MATCH('Assessment Inventory'!I18,Lists!$E$2:$E$2833,0))) -> 33.233414 | K18: =IF(I18="","",INDEX(Lists!B$2:B$2833,MATCH('Assessment Inventory'!I18,Lists!$E$2:$E$2833,0))) -> 35.515897 | L18: =CONCATENATE("http://maps.google.com/maps?q=",J18,",",K18,"") -> http://maps.google.com/maps?q=33.23341382,35.51589721 | M18: =IF(I18="","",HYPERLINK(L18,"See on Google Maps")) -> See on Google Maps
I19: Taibe | J19: =IF(I19="","",INDEX(Lists!A$2:A$2833,MATCH('Assessment Inventory'!I19,Lists!$E$2:$E$2833,0))) -> 33.958447 | K19: =IF(I19="","",INDEX(Lists!B$2:B$2833,MATCH('Assessment Inventory'!I19,Lists!$E$2:$E$2833,0))) -> 36.165553 | L19: =CONCATENATE("http://maps.google.com/maps?q=",J19,",",K19,"") -> http://maps.google.com/maps?q=33.9584472,36.16555281 | M19: =IF(I19="","",HYPERLINK(L19,"See on Google Maps")) -> See on Google Maps
H20: Bent Jbeil | I20: Aita Ech Chaab | J20: =IF(I20="","",INDEX(Lists!A$2:A$2833,MATCH('Assessment Inventory'!I20,Lists!$E$2:$E$2833,0))) -> 33.097567 | K20: =IF(I20="","",INDEX(Lists!B$2:B$2833,MATCH('Assessment Inventory'!I20,Lists!$E$2:$E$2833,0))) -> 35.334514 | L20: =CONCATENATE("http://maps.google.com/maps?q=",J20,",",K20,"") -> http://maps.google.com/maps?q=33.09756664,35.33451386 | M20: =IF(I20="","",HYPERLINK(L20,"See on Google Maps")) -> See on Google Maps
I21: Braachit | J21: =IF(I21="","",INDEX(Lists!A$2:A$2833,MATCH('Assessment Inventory'!I21,Lists!$E$2:$E$2833,0))) -> 33.175289 | K21: =IF(I21="","",INDEX(Lists!B$2:B$2833,MATCH('Assessment Inventory'!I21,Lists!$E$2:$E$2833,0))) -> 35.443097 | L21: =CONCATENATE("http://maps.google.com/maps?q=",J21,",",K21,"") -> http://maps.google.com/maps?q=33.17528884,35.44309723 | M21: =IF(I21="","",HYPERLINK(L21,"See on Google Maps")) -> See on Google Maps
I22: Chaqra | J22: =IF(I22="","",INDEX(Lists!A$2:A$2833,MATCH('Assessment Inventory'!I22,Lists!$E$2:$E$2833,0))) -> 33.193247 | K22: =IF(I22="","",INDEX(Lists!B$2:B$2833,MATCH('Assessment Inventory'!I22,Lists!$E$2:$E$2833,0))) -> 35.468158 | L22: =CONCATENATE("http://maps.google.com/maps?q=",J22,",",K22,"") -> http://maps.google.com/maps?q=33.19324719,35.4681583 | M22: =IF(I22="","",HYPERLINK(L22,"See on Google Maps")) -> See on Google Maps
I23: Haris | J23: =IF(I23="","",INDEX(Lists!A$2:A$2833,MATCH('Assessment Inventory'!I23,Lists!$E$2:$E$2833,0))) -> 33.174667 | K23: =IF(I23="","",INDEX(Lists!B$2:B$2833,MATCH('Assessment Inventory'!I23,Lists!$E$2:$E$2833,0))) -> 35.375725 | L23: =CONCATENATE("http://maps.google.com/maps?q=",J23,",",K23,"") -> http://maps.google.com/maps?q=33.1746667,35.37572496 | M23: =IF(I23="","",HYPERLINK(L23,"See on Google Maps")) -> See on Google Maps
I24: Khirbit Silim | J24: =IF(I24="","",INDEX(Lists!A$2:A$2833,MATCH('Assessment Inventory'!I24,Lists!$E$2:$E$2833,0))) -> 33.230197 | K24: =IF(I24="","",INDEX(Lists!B$2:B$2833,MATCH('Assessment Inventory'!I24,Lists!$E$2:$E$2833,0))) -> 35.424586 | L24: =CONCATENATE("http://maps.google.com/maps?q=",J24,",",K24,"") -> http://maps.google.com/maps?q=33.2301972,35.42458608 | M24: =IF(I24="","",HYPERLINK(L24,"See on Google Maps")) -> See on Google Maps
I25: Qalaouiye | J25: =IF(I25="","",INDEX(Lists!A$2:A$2833,MATCH('Assessment Inventory'!I25,Lists!$E$2:$E$2833,0))) -> 33.255192 | K25: =IF(I25="","",INDEX(Lists!B$2:B$2833,MATCH('Assessment Inventory'!I25,Lists!$E$2:$E$2833,0))) -> 35.416653 | L25: =CONCATENATE("http://maps.google.com/maps?q=",J25,",",K25,"") -> http://maps.google.com/maps?q=33.25519166,35.41665278 | M25: =IF(I25="","",HYPERLINK(L25,"See on Google Maps")) -> See on Google Maps
I26: Yater | J26: =IF(I26="","",INDEX(Lists!A$2:A$2833,MATCH('Assessment Inventory'!I26,Lists!$E$2:$E$2833,0))) -> 33.153694 | K26: =IF(I26="","",INDEX(Lists!B$2:B$2833,MATCH('Assessment Inventory'!I26,Lists!$E$2:$E$2833,0))) -> 35.328022 | L26: =CONCATENATE("http://maps.google.com/maps?q=",J26,",",K26,"") -> http://maps.google.com/maps?q=33.15369437,35.32802227 | M26: =IF(I26="","",HYPERLINK(L26,"See on Google Maps")) -> See on Google Maps
A27: =A10+1 -> 5 | B27: Syrian Women & Girls: Fleeing Death, Facing On-going Threats and Humiliation | C27: Protection | D27: SGBV | E27: Rapid | F27: IRC | G27: North | H27: Akkar | I27: Akkar | J27: =IF(I27="","",INDEX(Lists!A$2:A$2833,MATCH('Assessment Inventory'!I27,Lists!$E$2:$E$2833,0))) -> 33.937594 | K27: =IF(I27="","",INDEX(Lists!B$2:B$2833,MATCH('Assessment Inventory'!I27,Lists!$E$2:$E$2833,0))) -> 35.702817 | L27: =CONCATENATE("http://maps.google.com/maps?q=",J27,",",K27,"") -> http://maps.google.com/maps?q=33.9375936596474,35.7028167622317 | M27: =IF(I27="","",HYPERLINK(L27,"See on Google Maps")) -> See on Google Maps | N27: 41129 | O27: 41136 | P27: 41192 | Q27: complete | R27: Publicly available
B28: Syrian Women & Girls: Fleeing Death, Facing On-going Threats and Humiliation | D28: SGBV | F28: IRC | G28: Bekaa | H28: Baalbek | I28: Baalbek | J28: =IF(I28="","",INDEX(Lists!A$2:A$2833,MATCH('Assessment Inventory'!I28,Lists!$E$2:$E$2833,0))) -> 34.005186 | K28: =IF(I28="","",INDEX(Lists!B$2:B$2833,MATCH('Assessment Inventory'!I28,Lists!$E$2:$E$2833,0))) -> 36.207957 | L28: =CONCATENATE("http://maps.google.com/maps?q=",J28,",",K28,"") -> http://maps.google.com/maps?q=34.0051863,36.20795714 | M28: =IF(I28="","",HYPERLINK(L28,"See on Google Maps")) -> See on Google Maps | N28: 41129 | O28: 41136 | P28: 41192 | Q28: complete
A29: =A27+1 -> 6 | B29: Livelihood assessment - Syrian Refugees in Lebanon | C29: Livelihood | E29: In-depth | F29: IRC, Save the Children | G29: Bekaa | H29: Zahle | I29: Bar Elias | J29: =IF(I29="","",INDEX(Lists!A$2:A$2833,MATCH('Assessment Inventory'!I29,Lists!$E$2:$E$2833,0))) -> 33.776369 | K29: =IF(I29="","",INDEX(Lists!B$2:B$2833,MATCH('Assessment Inventory'!I29,Lists!$E$2:$E$2833,0))) -> 35.903289 | L29: =CONCATENATE("http://maps.google.com/maps?q=",J29,",",K29,"") -> http://maps.google.com/maps?q=33.77636945,35.90328887 | M29: =IF(I29="","",HYPERLINK(L29,"See on Google Maps")) -> See on Google Maps | N29: 41162 | O29: 41175 | P29: 41190 | Q29: complete | R29: Publicly available
B30: Livelihood assessment - Syrian Refugees in Lebanon | F30: IRC, Save the Children | H30: Baalbek | I30: Aarsal | J30: =IF(I30="","",INDEX(Lists!A$2:A$2833,MATCH('Assessment Inventory'!I30,Lists!$E$2:$E$2833,0))) -> 34.179236 | K30: =IF(I30="","",INDEX(Lists!B$2:B$2833,MATCH('Assessment Inventory'!I30,Lists!$E$2:$E$2833,0))) -> 36.419592 | L30: =CONCATENATE("http://maps.google.com/maps?q=",J30,",",K30,"") -> http://maps.google.com/maps?q=34.17923604,36.41959158 | M30: =IF(I30="","",HYPERLINK(L30,"See on Google Maps")) -> See on Google Maps | N30: 41162 | O30: 41175 | P30: 41190 | Q30: complete
B31: Livelihood assessment - Syrian Refugees in Lebanon | F31: IRC, Save the Children | H31: Baalbek | I31: Fakehe | J31: =IF(I31="","",INDEX(Lists!A$2:A$2833,MATCH('Assessment Inventory'!I31,Lists!$E$2:$E$2833,0))) -> 34.244703 | K31: =IF(I31="","",INDEX(Lists!B$2:B$2833,MATCH('Assessment Inventory'!I31,Lists!$E$2:$E$2833,0))) -> 36.402849 | L31: =CONCATENATE("http://maps.google.com/maps?q=",J31,",",K31,"") -> http://maps.google.com/maps?q=34.2447031,36.40284936 | M31: =IF(I31="","",HYPERLINK(L31,"See on Google Maps")) -> See on Google Maps | N31: 41162 | O31: 41175 | P31: 41190 | Q31: complete
B32: Livelihood assessment - Syrian Refugees in Lebanon | F32: IRC, Save the Children | H32: Baalbek | I32: Baalbek | J32: =IF(I32="","",INDEX(Lists!A$2:A$2833,MATCH('Assessment Inventory'!I32,Lists!$E$2:$E$2833,0))) -> 34.005186 | K32: =IF(I32="","",INDEX(Lists!B$2:B$2833,MATCH('Assessment Inventory'!I32,Lists!$E$2:$E$2833,0))) -> 36.207957 | L32: =CONCATENATE("http://maps.google.com/maps?q=",J32,",",K32,"") -> http://maps.google.com/maps?q=34.0051863,36.20795714 | M32: =IF(I32="","",HYPERLINK(L32,"See on Google Maps")) -> See on Google Maps | N32: 41162 | O32: 41175 | P32: 41190 | Q32: complete
B33: Livelihood assessment - Syrian Refugees in Lebanon | F33: IRC, Save the Children | G33: North | H33: Akkar | I33: Wadi Khaled | J33: =IF(I33="","",INDEX(Lists!A$2:A$2833,MATCH('Assessment Inventory'!I33,Lists!$E$2:$E$2833,0))) -> 34.62552 | K33: =IF(I33="","",INDEX(Lists!B$2:B$2833,MATCH('Assessment Inventory'!I33,Lists!$E$2:$E$2833,0))) -> 36.397969 | L33: =CONCATENATE("http://maps.google.com/maps?q=",J33,",",K33,"") -> http://maps.google.com/maps?q=34.62551956,36.39796906 | M33: =IF(I33="","",HYPERLINK(L33,"See on Google Maps")) -> See on Google Maps | N33: 41162 | O33: 41175 | P33: 41190 | Q33: complete
B34: Livelihood assessment - Syrian Refugees in Lebanon | F34: IRC, Save the Children | I34: Machta Hammoud | J34: =IF(I34="","",INDEX(Lists!A$2:A$2833,MATCH('Assessment Inventory'!I34,Lists!$E$2:$E$2833,0))) -> 34.631058 | K34: =IF(I34="","",INDEX(Lists!B$2:B$2833,MATCH('Assessment Inventory'!I34,Lists!$E$2:$E$2833,0))) -> 36.327142 | L34: =CONCATENATE("http://maps.google.com/maps?q=",J34,",",K34,"") -> http://maps.google.com/maps?q=34.63105842,36.32714158 | M34: =IF(I34="","",HYPERLINK(L34,"See on Google Maps")) -> See on Google Maps | N34: 41162 | O34: 41175 | P34: 41190 | Q34: complete
B35: Livelihood assessment - Syrian Refugees in Lebanon | F35: IRC, Save the Children | I35: Akroum | J35: =IF(I35="","",INDEX(Lists!A$2:A$2833,MATCH('Assessment Inventory'!I35,Lists!$E$2:$E$2833,0))) -> 34.5433 | K35: =IF(I35="","",INDEX(Lists!B$2:B$2833,MATCH('Assessment Inventory'!I35,Lists!$E$2:$E$2833,0))) -> 36.361855 | L35: =CONCATENATE("http://maps.google.com/maps?q=",J35,",",K35,"") -> http://maps.google.com/maps?q=34.54330005,36.36185548 | M35: =IF(I35="","",HYPERLINK(L35,"See on Google Maps")) -> See on Google Maps | N35: 41162 | O35: 41175 | P35: 41190 | Q35: complete
A36: =A29+1 -> 7 | B36: WASH Assessment Report for North and South Lebanon. | C36: Wash | E36: In-depth | F36: CISP, RI | G36: North | H36: Tripoli | I36: Abou Samra | J36: =IF(I36="","",INDEX(Lists!A$2:A$2833,MATCH('Assessment Inventory'!I36,Lists!$E$2:$E$2833,0))) -> 34.426014 | K36: =IF(I36="","",INDEX(Lists!B$2:B$2833,MATCH('Assessment Inventory'!I36,Lists!$E$2:$E$2833,0))) -> 35.842192 | L36: =CONCATENATE("http://maps.google.com/maps?q=",J36,",",K36,"") -> http://maps.google.com/maps?q=34.426014,35.842192 | M36: =IF(I36="","",HYPERLINK(L36,"See on Google Maps")) -> See on Google Maps | N36: 41091 | O36: 41153 | P36: 41183 | Q36: complete | R36: Publicly available
I37: Mankoubin | J37: =IF(I37="","",INDEX(Lists!A$2:A$2833,MATCH('Assessment Inventory'!I37,Lists!$E$2:$E$2833,0))) -> 34.439 | K37: =IF(I37="","",INDEX(Lists!B$2:B$2833,MATCH('Assessment Inventory'!I37,Lists!$E$2:$E$2833,0))) -> 35.848 | L37: =CONCATENATE("http://maps.google.com/maps?q=",J37,",",K37,"") -> http://maps.google.com/maps?q=34.439,35.848 | M37: =IF(I37="","",HYPERLINK(L37,"See on Google Maps")) -> See on Google Maps
H38: El Minieh-Dennie | I38: Bechtayel | J38: =IF(I38="","",INDEX(Lists!A$2:A$2833,MATCH('Assessment Inventory'!I38,Lists!$E$2:$E$2833,0))) -> 34.405511 | K38: =IF(I38="","",INDEX(Lists!B$2:B$2833,MATCH('Assessment Inventory'!I38,Lists!$E$2:$E$2833,0))) -> 35.990989 | L38: =CONCATENATE("http://maps.google.com/maps?q=",J38,",",K38,"") -> http://maps.google.com/maps?q=34.40551097,35.9909894 | M38: =IF(I38="","",HYPERLINK(L38,"See on Google Maps")) -> See on Google Maps
I39: El Beddaoui | J39: =IF(I39="","",INDEX(Lists!A$2:A$2833,MATCH('Assessment Inventory'!I39,Lists!$E$2:$E$2833,0))) -> 34.454039 | K39: =IF(I39="","",INDEX(Lists!B$2:B$2833,MATCH('Assessment Inventory'!I39,Lists!$E$2:$E$2833,0))) -> 35.863605 | L39: =CONCATENATE("http://maps.google.com/maps?q=",J39,",",K39,"") -> http://maps.google.com/maps?q=34.45403884,35.86360546 | M39: =IF(I39="","",HYPERLINK(L39,"See on Google Maps")) -> See on Google Maps
I40: El Minie | J40: =IF(I40="","",INDEX(Lists!A$2:A$2833,MATCH('Assessment Inventory'!I40,Lists!$E$2:$E$2833,0))) -> 34.480211 | K40: =IF(I40="","",INDEX(Lists!B$2:B$2833,MATCH('Assessment Inventory'!I40,Lists!$E$2:$E$2833,0))) -> 35.92933 | L40: =CONCATENATE("http://maps.google.com/maps?q=",J40,",",K40,"") -> http://maps.google.com/maps?q=34.48021105,35.92933049 | M40: =IF(I40="","",HYPERLINK(L40,"See on Google Maps")) -> See on Google Maps
G41: South | H41: Sour | I41: Barich | J41: =IF(I41="","",INDEX(Lists!A$2:A$2833,MATCH('Assessment Inventory'!I41,Lists!$E$2:$E$2833,0))) -> 33.27288 | K41: =IF(I41="","",INDEX(Lists!B$2:B$2833,MATCH('Assessment Inventory'!I41,Lists!$E$2:$E$2833,0))) -> 35.351856 | L41: =CONCATENATE("http://maps.google.com/maps?q=",J41,",",K41,"") -> http://maps.google.com/maps?q=33.27288048,35.35185559 | M41: =IF(I41="","",HYPERLINK(L41,"See on Google Maps")) -> See on Google Maps
I42: Deir Qanoun | J42: =IF(I42="","",INDEX(Lists!A$2:A$2833,MATCH('Assessment Inventory'!I42,Lists!$E$2:$E$2833,0))) -> 33.222767 | K42: =IF(I42="","",INDEX(Lists!B$2:B$2833,MATCH('Assessment Inventory'!I42,Lists!$E$2:$E$2833,0))) -> 35.245 | L42: =CONCATENATE("http://maps.google.com/maps?q=",J42,",",K42,"") -> http://maps.google.com/maps?q=33.22276658,35.24499999 | M42: =IF(I42="","",HYPERLINK(L42,"See on Google Maps")) -> See on Google Maps
I43: Maaroub | J43: =IF(I43="","",INDEX(Lists!A$2:A$2833,MATCH('Assessment Inventory'!I43,Lists!$E$2:$E$2833,0))) -> 33.2857 | K43: =IF(I43="","",INDEX(Lists!B$2:B$2833,MATCH('Assessment Inventory'!I43,Lists!$E$2:$E$2833,0))) -> 35.346522 | L43: =CONCATENATE("http://maps.google.com/maps?q=",J43,",",K43,"") -> http://maps.google.com/maps?q=33.28570005,35.34652224 | M43: =IF(I43="","",HYPERLINK(L43,"See on Google Maps")) -> See on Google Maps
I44: Tair Debba | J44: =IF(I44="","",INDEX(Lists!A$2:A$2833,MATCH('Assessment Inventory'!I44,Lists!$E$2:$E$2833,0))) -> 33.274064 | K44: =IF(I44="","",INDEX(Lists!B$2:B$2833,MATCH('Assessment Inventory'!I44,Lists!$E$2:$E$2833,0))) -> 35.277611 | L44: =CONCATENATE("http://maps.google.com/maps?q=",J44,",",K44,"") -> http://maps.google.com/maps?q=33.27406393,35.27761111 | M44: =IF(I44="","",HYPERLINK(L44,"See on Google Maps")) -> See on Google Maps
H45: El Nabatieh | I45: Aarnoun | J45: =IF(I45="","",INDEX(Lists!A$2:A$2833,MATCH('Assessment Inventory'!I45,Lists!$E$2:$E$2833,0))) -> 33.331511 | K45: =IF(I45="","",INDEX(Lists!B$2:B$2833,MATCH('Assessment Inventory'!I45,Lists!$E$2:$E$2833,0))) -> 35.524967 | L45: =CONCATENATE("http://maps.google.com/maps?q=",J45,",",K45,"") -> http://maps.google.com/maps?q=33.33151105,35.5249667 | M45: =IF(I45="","",HYPERLINK(L45,"See on Google Maps")) -> See on Google Maps
I46: Kfar Tebnit | J46: =IF(I46="","",INDEX(Lists!A$2:A$2833,MATCH('Assessment Inventory'!I46,Lists!$E$2:$E$2833,0))) -> 33.353711 | K46: =IF(I46="","",INDEX(Lists!B$2:B$2833,MATCH('Assessment Inventory'!I46,Lists!$E$2:$E$2833,0))) -> 35.51255 | L46: =CONCATENATE("http://maps.google.com/maps?q=",J46,",",K46,"") -> http://maps.google.com/maps?q=33.3537111,35.51254996 | M46: =IF(I46="","",HYPERLINK(L46,"See on Google Maps")) -> See on Google Maps
A47: =A36+1 -> 8 | B47: Post-distribution monitoring report | C47: Food /CRI | E47: Monitoring / Market | F47: WVL | G47: Bekaa | H47: Baalbek | I47: Baalbek | J47: =IF(I47="","",INDEX(Lists!A$2:A$2833,MATCH('Assessment Inventory'!I47,Lists!$E$2:$E$2833,0))) -> 34.005186 | K47: =IF(I47="","",INDEX(Lists!B$2:B$2833,MATCH('Assessment Inventory'!I47,Lists!$E$2:$E$2833,0))) -> 36.207957 | L47: =CONCATENATE("http://maps.google.com/maps?q=",J47,",",K47,"") -> http://maps.google.com/maps?q=34.0051863,36.20795714 | M47: =IF(I47="","",HYPERLINK(L47,"See on Google Maps")) -> See on Google Maps | N47: 41122 | O47: 41182 | P47: 41183 | Q47: complete | R47: Publicly available
H48: Zahle | I48: Zahle | J48: =IF(I48="","",INDEX(Lists!A$2:A$2833,MATCH('Assessment Inventory'!I48,Lists!$E$2:$E$2833,0))) -> 33.849075 | K48: =IF(I48="","",INDEX(Lists!B$2:B$2833,MATCH('Assessment Inventory'!I48,Lists!$E$2:$E$2833,0))) -> 35.902697 | L48: =CONCATENATE("http://maps.google.com/maps?q=",J48,",",K48,"") -> http://maps.google.com/maps?q=33.84907493,35.90269726 | M48: =IF(I48="","",HYPERLINK(L48,"See on Google Maps")) -> See on Google Maps
H49: West Bekaa | I49: West Bekaa | J49: =IF(I49="","",INDEX(Lists!A$2:A$2833,MATCH('Assessment Inventory'!I49,Lists!$E$2:$E$2833,0))) -> 33.628287 | K49: =IF(I49="","",INDEX(Lists!B$2:B$2833,MATCH('Assessment Inventory'!I49,Lists!$E$2:$E$2833,0))) -> 35.766606 | L49: =CONCATENATE("http://maps.google.com/maps?q=",J49,",",K49,"") -> http://maps.google.com/maps?q=33.6282870366667,35.7666060673333 | M49: =IF(I49="","",HYPERLINK(L49,"See on Google Maps")) -> See on Google Maps
A50: =A47+1 -> 9 | B50: Multisectorial Assessment in Bekaa Valley, Lebanon | C50: Multisectoral | E50: In-depth | F50: Handicap International | G50: Bekaa | H50: El Hermel | I50: Hermel | J50: =IF(I50="","",INDEX(Lists!A$2:A$2833,MATCH('Assessment Inventory'!I50,Lists!$E$2:$E$2833,0))) -> 34.397192 | K50: =IF(I50="","",INDEX(Lists!B$2:B$2833,MATCH('Assessment Inventory'!I50,Lists!$E$2:$E$2833,0))) -> 36.386069 | L50: =CONCATENATE("http://maps.google.com/maps?q=",J50,",",K50,"") -> http://maps.google.com/maps?q=34.39719159,36.38606936 | M50: =IF(I50="","",HYPERLINK(L50,"See on Google Maps")) -> See on Google Maps | N50: 41129 | O50: 41160 | P50: 41162 | Q50: complete | R50: Publicly available
B51: Multisectorial Assessment in Bekaa Valley, Lebanon | F51: Handicap International | H51: Baalbek | I51: Baalbek | J51: =IF(I51="","",INDEX(Lists!A$2:A$2833,MATCH('Assessment Inventory'!I51,Lists!$E$2:$E$2833,0))) -> 34.005186 | K51: =IF(I51="","",INDEX(Lists!B$2:B$2833,MATCH('Assessment Inventory'!I51,Lists!$E$2:$E$2833,0))) -> 36.207957 | L51: =CONCATENATE("http://maps.google.com/maps?q=",J51,",",K51,"") -> http://maps.google.com/maps?q=34.0051863,36.20795714 | M51: =IF(I51="","",HYPERLINK(L51,"See on Google Maps")) -> See on Google Maps | N51: 41129 | O51: 41160 | P51: 41162 | Q51: complete | R51: link
B52: Multisectorial Assessment in Bekaa Valley, Lebanon | F52: Handicap International | H52: Zahle | I52: Zahle | J52: =IF(I52="","",INDEX(Lists!A$2:A$2833,MATCH('Assessment Inventory'!I52,Lists!$E$2:$E$2833,0))) -> 33.849075 | K52: =IF(I52="","",INDEX(Lists!B$2:B$2833,MATCH('Assessment Inventory'!I52,Lists!$E$2:$E$2833,0))) -> 35.902697 | L52: =CONCATENATE("http://maps.google.com/maps?q=",J52,",",K52,"") -> http://maps.google.com/maps?q=33.84907493,35.90269726 | M52: =IF(I52="","",HYPERLINK(L52,"See on Google Maps")) -> See on Google Maps | N52: 41129 | O52: 41160 | P52: 41162 | Q52: complete | R52: link
B53: Multisectorial Assessment in Bekaa Valley, Lebanon | F53: Handicap International | H53: West Bekaa | I53: West Bekaa | J53: =IF(I53="","",INDEX(Lists!A$2:A$2833,MATCH('Assessment Inventory'!I53,Lists!$E$2:$E$2833,0))) -> 33.628287 | K53: =IF(I53="","",INDEX(Lists!B$2:B$2833,MATCH('Assessment Inventory'!I53,Lists!$E$2:$E$2833,0))) -> 35.766606 | L53: =CONCATENATE("http://maps.google.com/maps?q=",J53,",",K53,"") -> http://maps.google.com/maps?q=33.6282870366667,35.7666060673333 | M53: =IF(I53="","",HYPERLINK(L53,"See on Google Maps")) -> See on Google Maps | N53: 41129 | O53: 41160 | P53: 41162 | Q53: complete | R53: link
A54: =A50+1 -> 10 | B54: Accommodation of Displaced Syrians in Northern Lebanon | C54: Shelter | E54: In-depth | F54: DRC | G54: North | H54: Tripoli | I54: Tripoli | J54: =IF(I54="","",INDEX(Lists!A$2:A$2833,MATCH('Assessment Inventory'!I54,Lists!$E$2:$E$2833,0))) -> 34.430119 | K54: =IF(I54="","",INDEX(Lists!B$2:B$2833,MATCH('Assessment Inventory'!I54,Lists!$E$2:$E$2833,0))) -> 35.852631 | L54: =CONCATENATE("http://maps.google.com/maps?q=",J54,",",K54,"") -> http://maps.google.com/maps?q=34.43011884,35.85263121 | M54: =IF(I54="","",HYPERLINK(L54,"See on Google Maps")) -> See on Google Maps | N54: 41061 | O54: 41091 | P54: 41151 | Q54: complete | R54: Publicly available
B55: Accommodation of Displaced Syrians in Northern Lebanon | F55: DRC | H55: Akkar | I55: Akkar | J55: =IF(I55="","",INDEX(Lists!A$2:A$2833,MATCH('Assessment Inventory'!I55,Lists!$E$2:$E$2833,0))) -> 33.937594 | K55: =IF(I55="","",INDEX(Lists!B$2:B$2833,MATCH('Assessment Inventory'!I55,Lists!$E$2:$E$2833,0))) -> 35.702817 | L55: =CONCATENATE("http://maps.google.com/maps?q=",J55,",",K55,"") -> http://maps.google.com/maps?q=33.9375936596474,35.7028167622317 | M55: =IF(I55="","",HYPERLINK(L55,"See on Google Maps")) -> See on Google Maps | N55: 41061 | O55: 41091 | P55: 41151 | Q55: complete
A56: =A54+1 -> 11 | B56: Syrian refugees in Akkar | C56: Multisectoral | E56: In-depth | F56: PU-AMI | G56: North | H56: Akkar | I56: Akkar | J56: =IF(I56="","",INDEX(Lists!A$2:A$2833,MATCH('Assessment Inventory'!I56,Lists!$E$2:$E$2833,0))) -> 33.937594 | K56: =IF(I56="","",INDEX(Lists!B$2:B$2833,MATCH('Assessment Inventory'!I56,Lists!$E$2:$E$2833,0))) -> 35.702817 | L56: =CONCATENATE("http://maps.google.com/maps?q=",J56,",",K56,"") -> http://maps.google.com/maps?q=33.9375936596474,35.7028167622317 | M56: =IF(I56="","",HYPERLINK(L56,"See on Google Maps")) -> See on Google Maps | N56: 41030 | O56: 41120 | P56: 41131 | Q56: complete | R56: Publicly available
A57: =A56+1 -> 12 | B57: Rapid assessment of the impact of syrian crisis on socio-economic situation in North and Bekaa | C57: Multisectoral | E57: Rapid | F57: UNDP, DMI | G57: North | H57: Akkar | I57: Wadi Khaled | J57: =IF(I57="","",INDEX(Lists!A$2:A$2833,MATCH('Assessment Inventory'!I57,Lists!$E$2:$E$2833,0))) -> 34.62552 | K57: =IF(I57="","",INDEX(Lists!B$2:B$2833,MATCH('Assessment Inventory'!I57,Lists!$E$2:$E$2833,0))) -> 36.397969 | L57: =CONCATENATE("http://maps.google.com/maps?q=",J57,",",K57,"") -> http://maps.google.com/maps?q=34.62551956,36.39796906 | M57: =IF(I57="","",HYPERLINK(L57,"See on Google Maps")) -> See on Google Maps | N57: 41030 | O57: 41090 | P57: 41151 | Q57: complete | R57: Publicly available
H58: Tripoli | I58: Qoubbe | J58: =IF(I58="","",INDEX(Lists!A$2:A$2833,MATCH('Assessment Inventory'!I58,Lists!$E$2:$E$2833,0))) -> 34.437361 | K58: =IF(I58="","",INDEX(Lists!B$2:B$2833,MATCH('Assessment Inventory'!I58,Lists!$E$2:$E$2833,0))) -> 35.850097 | M58: =IF(I58="","",HYPERLINK(L58,"See on Google Maps")) -> See on Google Maps
I59: Tabbaneh | J59: =IF(I59="","",INDEX(Lists!A$2:A$2833,MATCH('Assessment Inventory'!I59,Lists!$E$2:$E$2833,0))) -> 34.439561 | K59: =IF(I59="","",INDEX(Lists!B$2:B$2833,MATCH('Assessment Inventory'!I59,Lists!$E$2:$E$2833,0))) -> 35.846811 | M59: =IF(I59="","",HYPERLINK(L59,"See on Google Maps")) -> See on Google Maps
I60: Zahrieh | J60: =IF(I60="","",INDEX(Lists!A$2:A$2833,MATCH('Assessment Inventory'!I60,Lists!$E$2:$E$2833,0))) -> 34.438489 | K60: =IF(I60="","",INDEX(Lists!B$2:B$2833,MATCH('Assessment Inventory'!I60,Lists!$E$2:$E$2833,0))) -> 35.842781 | M60: =IF(I60="","",HYPERLINK(L60,"See on Google Maps")) -> See on Google Maps
B61: Rapid assessment of the impact of syrian crisis on socio-economic situation in North and Bekaa | F61: UNDP / DMI | I61: Qalamoun | J61: =IF(I61="","",INDEX(Lists!A$2:A$2833,MATCH('Assessment Inventory'!I61,Lists!$E$2:$E$2833,0))) -> 34.388431 | K61: =IF(I61="","",INDEX(Lists!B$2:B$2833,MATCH('Assessment Inventory'!I61,Lists!$E$2:$E$2833,0))) -> 35.785906 | L61: =CONCATENATE("http://maps.google.com/maps?q=",J61,",",K61,"") -> http://maps.google.com/maps?q=34.38843062,35.7859056 | M61: =IF(I61="","",HYPERLINK(L61,"See on Google Maps")) -> See on Google Maps | N61: 41030 | O61: 41090 | P61: 41120 | Q61: complete
B62: Rapid assessment of the impact of syrian crisis on socio-economic situation in North and Bekaa | F62: UNDP / DMI | G62: Bekaa | H62: Baalbek | I62: Baalbek | J62: =IF(I62="","",INDEX(Lists!A$2:A$2833,MATCH('Assessment Inventory'!I62,Lists!$E$2:$E$2833,0))) -> 34.005186 | K62: =IF(I62="","",INDEX(Lists!B$2:B$2833,MATCH('Assessment Inventory'!I62,Lists!$E$2:$E$2833,0))) -> 36.207957 | L62: =CONCATENATE("http://maps.google.com/maps?q=",J62,",",K62,"") -> http://maps.google.com/maps?q=34.0051863,36.20795714 | M62: =IF(I62="","",HYPERLINK(L62,"See on Google Maps")) -> See on Google Maps | N62: 41030 | O62: 41090 | P62: 41120 | Q62: complete
B63: Rapid assessment of the impact of syrian crisis on socio-economic situation in North and Bekaa | F63: UNDP / DMI | H63: Zahle | I63: Zahle | J63: =IF(I63="","",INDEX(Lists!A$2:A$2833,MATCH('Assessment Inventory'!I63,Lists!$E$2:$E$2833,0))) -> 33.849075 | K63: =IF(I63="","",INDEX(Lists!B$2:B$2833,MATCH('Assessment Inventory'!I63,Lists!$E$2:$E$2833,0))) -> 35.902697 | L63: =CONCATENATE("http://maps.google.com/maps?q=",J63,",",K63,"") -> http://maps.google.com/maps?q=33.84907493,35.90269726 | M63: =IF(I63="","",HYPERLINK(L63,"See on Google Maps")) -> See on Google Maps | N63: 41030 | O63: 41090 | P63: 41120 | Q63: complete
B64: Rapid assessment of the impact of syrian crisis on socio-economic situation in North and Bekaa | F64: UNDP / DMI | H64: West Bekaa | I64: West Bekaa | J64: =IF(I64="","",INDEX(Lists!A$2:A$2833,MATCH('Assessment Inventory'!I64,Lists!$E$2:$E$2833,0))) -> 33.628287 | K64: =IF(I64="","",INDEX(Lists!B$2:B$2833,MATCH('Assessment Inventory'!I64,Lists!$E$2:$E$2833,0))) -> 35.766606 | L64: =CONCATENATE("http://maps.google.com/maps?q=",J64,",",K64,"") -> http://maps.google.com/maps?q=33.6282870366667,35.7666060673333 | M64: =IF(I64="","",HYPERLINK(L64,"See on Google Maps")) -> See on Google Maps | N64: 41030 | O64: 41090 | P64: 41120 | Q64: complete
A65: =A57+1 -> 13 | B65: Needs Assessment of Syrian Refugees with Disabilities in Central and West Bekaa, Lebanon | C65: Protection | D65: Disability | E65: Rapid | F65: MPDL | G65: Bekaa | H65: Rachaya | I65: Rachaiya | J65: =IF(I65="","",INDEX(Lists!A$2:A$2833,MATCH('Assessment Inventory'!I65,Lists!$E$2:$E$2833,0))) -> 33.499143 | K65: =IF(I65="","",INDEX(Lists!B$2:B$2833,MATCH('Assessment Inventory'!I65,Lists!$E$2:$E$2833,0))) -> 35.837823 | L65: =CONCATENATE("http://maps.google.com/maps?q=",J65,",",K65,"") -> http://maps.google.com/maps?q=33.49914318,35.83782315 | M65: =IF(I65="","",HYPERLINK(L65,"See on Google Maps")) -> See on Google Maps | N65: 41052 | O65: 41053 | P65: 41091 | Q65: complete | R65: Publicly available
B66: Assessment of Syrian Refugees with Disabilities in Central and West Bekaa, Lebanon | D66: Disability | F66: MPDL - Movement for Peace | H66: West Bekaa | I66: West Bekaa | J66: =IF(I66="","",INDEX(Lists!A$2:A$2833,MATCH('Assessment Inventory'!I66,Lists!$E$2:$E$2833,0))) -> 33.628287 | K66: =IF(I66="","",INDEX(Lists!B$2:B$2833,MATCH('Assessment Inventory'!I66,Lists!$E$2:$E$2833,0))) -> 35.766606 | L66: =CONCATENATE("http://maps.google.com/maps?q=",J66,",",K66,"") -> http://maps.google.com/maps?q=33.6282870366667,35.7666060673333 | M66: =IF(I66="","",HYPERLINK(L66,"See on Google Maps")) -> See on Google Maps | N66: 41052 | O66: 41053 | P66: 41091 | Q66: complete | R66: link
B67: Assessment of Syrian Refugees with Disabilities in Central and West Bekaa, Lebanon | D67: Disability | F67: MPDL - Movement for Peace | H67: Zahle | I67: Zahle | J67: =IF(I67="","",INDEX(Lists!A$2:A$2833,MATCH('Assessment Inventory'!I67,Lists!$E$2:$E$2833,0))) -> 33.849075 | K67: =IF(I67="","",INDEX(Lists!B$2:B$2833,MATCH('Assessment Inventory'!I67,Lists!$E$2:$E$2833,0))) -> 35.902697 | L67: =CONCATENATE("http://maps.google.com/maps?q=",J67,",",K67,"") -> http://maps.google.com/maps?q=33.84907493,35.90269726 | M67: =IF(I67="","",HYPERLINK(L67,"See on Google Maps")) -> See on Google Maps | N67: 41052 | O67: 41053 | P67: 41091 | Q67: complete | R67: link
A68: =A65+1 -> 14 | B68: Education Rapid Needs Assessment for Displaced Syrian Children in schools, community and safe spaces | C68: Education | E68: Rapid | F68: SC, UNICEF | G68: Bekaa | H68: El Hermel | I68: Hermel | J68: =IF(I68="","",INDEX(Lists!A$2:A$2833,MATCH('Assessment Inventory'!I68,Lists!$E$2:$E$2833,0))) -> 34.397192 | K68: =IF(I68="","",INDEX(Lists!B$2:B$2833,MATCH('Assessment Inventory'!I68,Lists!$E$2:$E$2833,0))) -> 36.386069 | L68: =CONCATENATE("http://maps.google.com/maps?q=",J68,",",K68,"") -> http://maps.google.com/maps?q=34.39719159,36.38606936 | M68: =IF(I68="","",HYPERLINK(L68,"See on Google Maps")) -> See on Google Maps | N68: 41015 | O68: 41091 | P68: 41091 | Q68: complete | R68: Publicly available
B69: National Education Needs Assessment | C69: Education | F69: SC, UNICEF | H69: Baalbek | I69: Baalbek | J69: =IF(I69="","",INDEX(Lists!A$2:A$2833,MATCH('Assessment Inventory'!I69,Lists!$E$2:$E$2833,0))) -> 34.005186 | K69: =IF(I69="","",INDEX(Lists!B$2:B$2833,MATCH('Assessment Inventory'!I69,Lists!$E$2:$E$2833,0))) -> 36.207957 | L69: =CONCATENATE("http://maps.google.com/maps?q=",J69,",",K69,"") -> http://maps.google.com/maps?q=34.0051863,36.20795714 | M69: =IF(I69="","",HYPERLINK(L69,"See on Google Maps")) -> See on Google Maps | N69: 41015 | O69: 41091 | P69: 41091 | Q69: complete
B70: National Education Needs Assessment | C70: Education | F70: SC, UNICEF | G70: North | H70: Akkar | I70: Akkar | J70: =IF(I70="","",INDEX(Lists!A$2:A$2833,MATCH('Assessment Inventory'!I70,Lists!$E$2:$E$2833,0))) -> 33.937594 | K70: =IF(I70="","",INDEX(Lists!B$2:B$2833,MATCH('Assessment Inventory'!I70,Lists!$E$2:$E$2833,0))) -> 35.702817 | L70: =CONCATENATE("http://maps.google.com/maps?q=",J70,",",K70,"") -> http://maps.google.com/maps?q=33.9375936596474,35.7028167622317 | M70: =IF(I70="","",HYPERLINK(L70,"See on Google Maps")) -> See on Google Maps | N70: 41015 | O70: 41091 | P70: 41091 | Q70: complete
A71: =A68+1 -> 15 | B71: WASH Assessment in North Lebanon - Syrian refugees and vulnerable Lebanese households. | C71: Wash | E71: In-depth | F71: Acted, Unicef | G71: North | H71: Tripoli | I71: Tripoli | J71: =IF(I71="","",INDEX(Lists!A$2:A$2833,MATCH('Assessment Inventory'!I71,Lists!$E$2:$E$2833,0))) -> 34.430119 | K71: =IF(I71="","",INDEX(Lists!B$2:B$2833,MATCH('Assessment Inventory'!I71,Lists!$E$2:$E$2833,0))) -> 35.852631 | L71: =CONCATENATE("http://maps.google.com/maps?q=",J71,",",K71,"") -> http://maps.google.com/maps?q=34.43011884,35.85263121 | M71: =IF(I71="","",HYPERLINK(L71,"See on Google Maps")) -> See on Google Maps | N71: 41043 | O71: 41057 | P71: 41061 | Q71: complete | R71: Publicly available
B72: Assessment of the WASH humanitarian situation in Northern Lebanon | F72: Acted, Unicef | H72: Akkar | I72: Akkar | J72: =IF(I72="","",INDEX(Lists!A$2:A$2833,MATCH('Assessment Inventory'!I72,Lists!$E$2:$E$2833,0))) -> 33.937594 | K72: =IF(I72="","",INDEX(Lists!B$2:B$2833,MATCH('Assessment Inventory'!I72,Lists!$E$2:$E$2833,0))) -> 35.702817 | L72: =CONCATENATE("http://maps.google.com/maps?q=",J72,",",K72,"") -> http://maps.google.com/maps?q=33.9375936596474,35.7028167622317 | M72: =IF(I72="","",HYPERLINK(L72,"See on Google Maps")) -> See on Google Maps | N72: 41043 | O72: 41057 | P72: 41061 | Q72: complete
A73: =A71+1 -> 16 | B73: WASH Assessment - Humanitarian Response to the Syrian Refugees. Bekaa Valley. | C73: Wash | E73: In-depth | F73: ACF, Unicef | G73: Bekaa | H73: Baalbek | I73: Jdeide | J73: =IF(I73="","",INDEX(Lists!A$2:A$2833,MATCH('Assessment Inventory'!I73,Lists!$E$2:$E$2833,0))) -> 34.604436 | K73: =IF(I73="","",INDEX(Lists!B$2:B$2833,MATCH('Assessment Inventory'!I73,Lists!$E$2:$E$2833,0))) -> 36.281667 | L73: =CONCATENATE("http://maps.google.com/maps?q=",J73,",",K73,"") -> http://maps.google.com/maps?q=34.60443625,36.2816666 | M73: =IF(I73="","",HYPERLINK(L73,"See on Google Maps")) -> See on Google Maps | N73: 41050 | O73: 41071 | P73: 41061 | Q73: complete | R73: Publicly available
B74: Assessment of the WASH humanitarian situation in Bekka | F74: ACF, Unicef | I74: Fakehe | J74: =IF(I74="","",INDEX(Lists!A$2:A$2833,MATCH('Assessment Inventory'!I74,Lists!$E$2:$E$2833,0))) -> 34.244703 | K74: =IF(I74="","",INDEX(Lists!B$2:B$2833,MATCH('Assessment Inventory'!I74,Lists!$E$2:$E$2833,0))) -> 36.402849 | L74: =CONCATENATE("http://maps.google.com/maps?q=",J74,",",K74,"") -> http://maps.google.com/maps?q=34.2447031,36.40284936 | M74: =IF(I74="","",HYPERLINK(L74,"See on Google Maps")) -> See on Google Maps | N74: 41050 | O74: 41071 | P74: 41061 | Q74: complete
B75: Assessment of the WASH humanitarian situation in Bekka | F75: ACF, Unicef | I75: Qaa Baalbek | J75: =IF(I75="","",INDEX(Lists!A$2:A$2833,MATCH('Assessment Inventory'!I75,Lists!$E$2:$E$2833,0))) -> 34.344283 | K75: =IF(I75="","",INDEX(Lists!B$2:B$2833,MATCH('Assessment Inventory'!I75,Lists!$E$2:$E$2833,0))) -> 36.473242 | L75: =CONCATENATE("http://maps.google.com/maps?q=",J75,",",K75,"") -> http://maps.google.com/maps?q=34.34428338,36.4732417 | M75: =IF(I75="","",HYPERLINK(L75,"See on Google Maps")) -> See on Google Maps | N75: 41050 | O75: 41071 | P75: 41061 | Q75: complete
B76: Assessment of the WASH humanitarian situation in Bekka | F76: ACF, Unicef | I76: Aarsal | J76: =IF(I76="","",INDEX(Lists!A$2:A$2833,MATCH('Assessment Inventory'!I76,Lists!$E$2:$E$2833,0))) -> 34.179236 | K76: =IF(I76="","",INDEX(Lists!B$2:B$2833,MATCH('Assessment Inventory'!I76,Lists!$E$2:$E$2833,0))) -> 36.419592 | L76: =CONCATENATE("http://maps.google.com/maps?q=",J76,",",K76,"") -> http://maps.google.com/maps?q=34.17923604,36.41959158 | M76: =IF(I76="","",HYPERLINK(L76,"See on Google Maps")) -> See on Google Maps | N76: 41050 | O76: 41071 | P76: 41061 | Q76: complete
B77: Assessment of the WASH humanitarian situation in Bekka | F77: ACF, Unicef | H77: El Hermel | I77: Hermel | J77: =IF(I77="","",INDEX(Lists!A$2:A$2833,MATCH('Assessment Inventory'!I77,Lists!$E$2:$E$2833,0))) -> 34.397192 | K77: =IF(I77="","",INDEX(Lists!B$2:B$2833,MATCH('Assessment Inventory'!I77,Lists!$E$2:$E$2833,0))) -> 36.386069 | L77: =CONCATENATE("http://maps.google.com/maps?q=",J77,",",K77,"") -> http://maps.google.com/maps?q=34.39719159,36.38606936 | M77: =IF(I77="","",HYPERLINK(L77,"See on Google Maps")) -> See on Google Maps | N77: 41050 | O77: 41071 | P77: 41061 | Q77: complete
B78: Assessment of the WASH humanitarian situation in Bekka | F78: ACF, Unicef | H78: Zahle | I78: Saadnayel | J78: =IF(I78="","",INDEX(Lists!A$2:A$2833,MATCH('Assessment Inventory'!I78,Lists!$E$2:$E$2833,0))) -> 33.820453 | K78: =IF(I78="","",INDEX(Lists!B$2:B$2833,MATCH('Assessment Inventory'!I78,Lists!$E$2:$E$2833,0))) -> 35.881872 | L78: =CONCATENATE("http://maps.google.com/maps?q=",J78,",",K78,"") -> http://maps.google.com/maps?q=33.82045274,35.88187225 | M78: =IF(I78="","",HYPERLINK(L78,"See on Google Maps")) -> See on Google Maps | N78: 41050 | O78: 41071 | P78: 41061 | Q78: complete
B79: Assessment of the WASH humanitarian situation in Bekka | F79: ACF, Unicef | I79: Taalabaya | J79: =IF(I79="","",INDEX(Lists!A$2:A$2833,MATCH('Assessment Inventory'!I79,Lists!$E$2:$E$2833,0))) -> 33.816305 | K79: =IF(I79="","",INDEX(Lists!B$2:B$2833,MATCH('Assessment Inventory'!I79,Lists!$E$2:$E$2833,0))) -> 35.862906 | L79: =CONCATENATE("http://maps.google.com/maps?q=",J79,",",K79,"") -> http://maps.google.com/maps?q=33.81630547,35.86290557 | M79: =IF(I79="","",HYPERLINK(L79,"See on Google Maps")) -> See on Google Maps | N79: 41050 | O79: 41071 | P79: 41061 | Q79: complete
B80: Assessment of the WASH humanitarian situation in Bekka | F80: ACF, Unicef | I80: Taanayel | J80: =IF(I80="","",INDEX(Lists!A$2:A$2833,MATCH('Assessment Inventory'!I80,Lists!$E$2:$E$2833,0))) -> 33.801117 | K80: =IF(I80="","",INDEX(Lists!B$2:B$2833,MATCH('Assessment Inventory'!I80,Lists!$E$2:$E$2833,0))) -> 35.868714 | L80: =CONCATENATE("http://maps.google.com/maps?q=",J80,",",K80,"") -> http://maps.google.com/maps?q=33.8011167,35.86871389 | M80: =IF(I80="","",HYPERLINK(L80,"See on Google Maps")) -> See on Google Maps | N80: 41050 | O80: 41071 | P80: 41061 | Q80: complete
B81: Assessment of the WASH humanitarian situation in Bekka | F81: ACF, Unicef | I81: Rassiye | J81: =IF(I81="","",INDEX(Lists!A$2:A$2833,MATCH('Assessment Inventory'!I81,Lists!$E$2:$E$2833,0))) -> 33.848362 | K81: =IF(I81="","",INDEX(Lists!B$2:B$2833,MATCH('Assessment Inventory'!I81,Lists!$E$2:$E$2833,0))) -> 35.891571 | L81: =CONCATENATE("http://maps.google.com/maps?q=",J81,",",K81,"") -> http://maps.google.com/maps?q=33.84836157,35.89157082 | M81: =IF(I81="","",HYPERLINK(L81,"See on Google Maps")) -> See on Google Maps | N81: 41050 | O81: 41071 | P81: 41061 | Q81: complete
A82: =A73+1 -> 17 | B82: Disability and Vulnerability focal point project - Specific needs rapid assessment | C82: Protection | D82: Disability | E82: Rapid | F82: HI, MPDL | G82: Bekaa | H82: Baalbek | I82: Baalbek | J82: =IF(I82="","",INDEX(Lists!A$2:A$2833,MATCH('Assessment Inventory'!I82,Lists!$E$2:$E$2833,0))) -> 34.005186 | K82: =IF(I82="","",INDEX(Lists!B$2:B$2833,MATCH('Assessment Inventory'!I82,Lists!$E$2:$E$2833,0))) -> 36.207957 | L82: =CONCATENATE("http://maps.google.com/maps?q=",J82,",",K82,"") -> http://maps.google.com/maps?q=34.0051863,36.20795714 | M82: =IF(I82="","",HYPERLINK(L82,"See on Google Maps")) -> See on Google Maps | N82: 41052 | O82: 41053 | P82: 41060 | Q82: complete | R82: Short presentation available
B83: Assessment on Persons with Special Needs | C83: Protection | D83: Disability | F83: HI, MPDL | H83: El Hermel | I83: Hermel | J83: =IF(I83="","",INDEX(Lists!A$2:A$2833,MATCH('Assessment Inventory'!I83,Lists!$E$2:$E$2833,0))) -> 34.397192 | K83: =IF(I83="","",INDEX(Lists!B$2:B$2833,MATCH('Assessment Inventory'!I83,Lists!$E$2:$E$2833,0))) -> 36.386069 | L83: =CONCATENATE("http://maps.google.com/maps?q=",J83,",",K83,"") -> http://maps.google.com/maps?q=34.39719159,36.38606936 | M83: =IF(I83="","",HYPERLINK(L83,"See on Google Maps")) -> See on Google Maps | N83: 41052 | O83: 41053 | P83: 41060 | Q83: complete
A84: =A82+1 -> 18 | B84: Livelihood assessment | C84: Livelihood | E84: Rapid | F84: DRC | G84: Bekaa | H84: Baalbek | I84: Aarsal | J84: =IF(I84="","",INDEX(Lists!A$2:A$2833,MATCH('Assessment Inventory'!I84,Lists!$E$2:$E$2833,0))) -> 34.179236 | K84: =IF(I84="","",INDEX(Lists!B$2:B$2833,MATCH('Assessment Inventory'!I84,Lists!$E$2:$E$2833,0))) -> 36.419592 | L84: =CONCATENATE("http://maps.google.com/maps?q=",J84,",",K84,"") -> http://maps.google.com/maps?q=34.17923604,36.41959158 | M84: =IF(I84="","",HYPERLINK(L84,"See on Google Maps")) -> See on Google Maps | N84: 41009 | O84: 41033 | P84: 41060 | Q84: complete | R84: Publicly available
B85: Livelihood assessment | F85: DRC | I85: Baalbek | J85: =IF(I85="","",INDEX(Lists!A$2:A$2833,MATCH('Assessment Inventory'!I85,Lists!$E$2:$E$2833,0))) -> 34.005186 | K85: =IF(I85="","",INDEX(Lists!B$2:B$2833,MATCH('Assessment Inventory'!I85,Lists!$E$2:$E$2833,0))) -> 36.207957 | L85: =CONCATENATE("http://maps.google.com/maps?q=",J85,",",K85,"") -> http://maps.google.com/maps?q=34.0051863,36.20795714 | M85: =IF(I85="","",HYPERLINK(L85,"See on Google Maps")) -> See on Google Maps | N85: 41009 | O85: 41033 | P85: 41060 | Q85: complete
B86: Livelihood assessment | F86: DRC | H86: Zahle | I86: Zahle | J86: =IF(I86="","",INDEX(Lists!A$2:A$2833,MATCH('Assessment Inventory'!I86,Lists!$E$2:$E$2833,0))) -> 33.849075 | K86: =IF(I86="","",INDEX(Lists!B$2:B$2833,MATCH('Assessment Inventory'!I86,Lists!$E$2:$E$2833,0))) -> 35.902697 | L86: =CONCATENATE("http://maps.google.com/maps?q=",J86,",",K86,"") -> http://maps.google.com/maps?q=33.84907493,35.90269726 | M86: =IF(I86="","",HYPERLINK(L86,"See on Google Maps")) -> See on Google Maps | N86: 41009 | O86: 41033 | P86: 41060 | Q86: complete
B87: Livelihood assessment | F87: DRC | H87: West Bekaa | I87: West Bekaa | J87: =IF(I87="","",INDEX(Lists!A$2:A$2833,MATCH('Assessment Inventory'!I87,Lists!$E$2:$E$2833,0))) -> 33.628287 | K87: =IF(I87="","",INDEX(Lists!B$2:B$2833,MATCH('Assessment Inventory'!I87,Lists!$E$2:$E$2833,0))) -> 35.766606 | L87: =CONCATENATE("http://maps.google.com/maps?q=",J87,",",K87,"") -> http://maps.google.com/maps?q=33.6282870366667,35.7666060673333 | M87: =IF(I87="","",HYPERLINK(L87,"See on Google Maps")) -> See on Google Maps | N87: 41009 | O87: 41033 | P87: 41060 | Q87: complete
H88: Baalbek | I88: Fakehe | J88: =IF(I88="","",INDEX(Lists!A$2:A$2833,MATCH('Assessment Inventory'!I88,Lists!$E$2:$E$2833,0))) -> 34.244703 | K88: =IF(I88="","",INDEX(Lists!B$2:B$2833,MATCH('Assessment Inventory'!I88,Lists!$E$2:$E$2833,0))) -> 36.402849 | L88: =CONCATENATE("http://maps.google.com/maps?q=",J88,",",K88,"") -> http://maps.google.com/maps?q=34.2447031,36.40284936 | M88: =IF(I88="","",HYPERLINK(L88,"See on Google Maps")) -> See on Google Maps
B89: Livelihood assessment | F89: DRC | H89: Baalbek | I89: El Ain | J89: =IF(I89="","",INDEX(Lists!A$2:A$2833,MATCH('Assessment Inventory'!I89,Lists!$E$2:$E$2833,0))) -> 34.226047 | K89: =IF(I89="","",INDEX(Lists!B$2:B$2833,MATCH('Assessment Inventory'!I89,Lists!$E$2:$E$2833,0))) -> 36.37803 | L89: =CONCATENATE("http://maps.google.com/maps?q=",J89,",",K89,"") -> http://maps.google.com/maps?q=34.22604727,36.37803046 | M89: =IF(I89="","",HYPERLINK(L89,"See on Google Maps")) -> See on Google Maps | N89: 41009 | O89: 41033 | P89: 41060 | Q89: complete
A90: =A84+1 -> 19 | B90: Joint Household Assessment – Food Voucher Project | C90: Food | E90: Rapid | F90: DRC, WVL | G90: Bekaa | H90: unknown | I90: unknown | J90: =IF(I90="","",INDEX(Lists!A$2:A$2833,MATCH('Assessment Inventory'!I90,Lists!$E$2:$E$2833,0))) -> #N/A | K90: =IF(I90="","",INDEX(Lists!B$2:B$2833,MATCH('Assessment Inventory'!I90,Lists!$E$2:$E$2833,0))) -> #N/A | L90: =CONCATENATE("http://maps.google.com/maps?q=",J90,",",K90,"") -> #N/A | M90: =IF(I90="","",HYPERLINK(L90,"See on Google Maps")) -> #N/A | N90: 41000 | O90: 41030 | P90: 41045 | Q90: complete | R90: Publicly available
A91: =A90+1 -> 20 | B91: Shelter Types of Syrians in Lebanon | C91: Shelter | E91: n/a | F91: DRC | G91: National | H91: unknown | I91: unknown | J91: =IF(I91="","",INDEX(Lists!A$2:A$2833,MATCH('Assessment Inventory'!I91,Lists!$E$2:$E$2833,0))) -> #N/A | K91: =IF(I91="","",INDEX(Lists!B$2:B$2833,MATCH('Assessment Inventory'!I91,Lists!$E$2:$E$2833,0))) -> #N/A | L91: =CONCATENATE("http://maps.google.com/maps?q=",J91,",",K91,"") -> #N/A | M91: =IF(I91="","",HYPERLINK(L91,"See on Google Maps")) -> #N/A | P91: 41030 | Q91: complete | R91: Publicly available
A92: =A91+1 -> 21 | B92: Shelter Assessment - West and Middle Bekaa | C92: Shelter | E92: In-depth | F92: DRC | G92: Bekaa | H92: West Bekaa | I92: West Bekaa | J92: =IF(I92="","",INDEX(Lists!A$2:A$2833,MATCH('Assessment Inventory'!I92,Lists!$E$2:$E$2833,0))) -> 33.628287 | K92: =IF(I92="","",INDEX(Lists!B$2:B$2833,MATCH('Assessment Inventory'!I92,Lists!$E$2:$E$2833,0))) -> 35.766606 | L92: =CONCATENATE("http://maps.google.com/maps?q=",J92,",",K92,"") -> http://maps.google.com/maps?q=33.6282870366667,35.7666060673333 | M92: =IF(I92="","",HYPERLINK(L92,"See on Google Maps")) -> See on Google Maps | N92: 40987 | O92: 41004 | P92: 41011 | Q92: complete | R92: Publicly available
B93: Shelter Assessment - Central and Middle Bekaa | F93: DRC | H93: Zahle | I93: Zahle | J93: =IF(I93="","",INDEX(Lists!A$2:A$2833,MATCH('Assessment Inventory'!I93,Lists!$E$2:$E$2833,0))) -> 33.849075 | K93: =IF(I93="","",INDEX(Lists!B$2:B$2833,MATCH('Assessment Inventory'!I93,Lists!$E$2:$E$2833,0))) -> 35.902697 | L93: =CONCATENATE("http://maps.google.com/maps?q=",J93,",",K93,"") -> http://maps.google.com/maps?q=33.84907493,35.90269726 | M93: =IF(I93="","",HYPERLINK(L93,"See on Google Maps")) -> See on Google Maps | N93: 40987 | O93: 41004 | P93: 41011 | Q93: complete
A94: =A92+1 -> 22 | B94: Rapid Assessment- Syrian refugees in North Bekaa Valley | C94: Multisectoral | E94: Rapid | F94: Mercy Corps | G94: Bekaa | H94: Baalbek | I94: Douris | J94: =IF(I94="","",INDEX(Lists!A$2:A$2833,MATCH('Assessment Inventory'!I94,Lists!$E$2:$E$2833,0))) -> 33.987769 | K94: =IF(I94="","",INDEX(Lists!B$2:B$2833,MATCH('Assessment Inventory'!I94,Lists!$E$2:$E$2833,0))) -> 36.17845 | L94: =CONCATENATE("http://maps.google.com/maps?q=",J94,",",K94,"") -> http://maps.google.com/maps?q=33.98776945,36.17845003 | M94: =IF(I94="","",HYPERLINK(L94,"See on Google Maps")) -> See on Google Maps | N94: 40983 | O94: 40985 | P94: 40999 | Q94: complete | R94: Publicly available
B95: Rapid Assessment- Syrian refugees in North Bekaa Valley | F95: Mercy Corps | H95: Baalbek | I95: Aadous | J95: =IF(I95="","",INDEX(Lists!A$2:A$2833,MATCH('Assessment Inventory'!I95,Lists!$E$2:$E$2833,0))) -> 34.030683 | K95: =IF(I95="","",INDEX(Lists!B$2:B$2833,MATCH('Assessment Inventory'!I95,Lists!$E$2:$E$2833,0))) -> 36.157195 | L95: =CONCATENATE("http://maps.google.com/maps?q=",J95,",",K95,"") -> http://maps.google.com/maps?q=34.030683,36.157195 | M95: =IF(I95="","",HYPERLINK(L95,"See on Google Maps")) -> See on Google Maps | N95: 40983 | O95: 40985 | P95: 40999 | Q95: complete
B96: Rapid Assessment- Syrian refugees in North Bekaa Valley | F96: Mercy Corps | H96: Baalbek | I96: Aarsal | J96: =IF(I96="","",INDEX(Lists!A$2:A$2833,MATCH('Assessment Inventory'!I96,Lists!$E$2:$E$2833,0))) -> 34.179236 | K96: =IF(I96="","",INDEX(Lists!B$2:B$2833,MATCH('Assessment Inventory'!I96,Lists!$E$2:$E$2833,0))) -> 36.419592 | L96: =CONCATENATE("http://maps.google.com/maps?q=",J96,",",K96,"") -> http://maps.google.com/maps?q=34.17923604,36.41959158 | M96: =IF(I96="","",HYPERLINK(L96,"See on Google Maps")) -> See on Google Maps | N96: 40983 | O96: 40985 | P96: 40999 | Q96: complete
B97: Rapid Assessment- Syrian refugees in North Bekaa Valley | F97: Mercy Corps | H97: Baalbek | I97: Baalbek | J97: =IF(I97="","",INDEX(Lists!A$2:A$2833,MATCH('Assessment Inventory'!I97,Lists!$E$2:$E$2833,0))) -> 34.005186 | K97: =IF(I97="","",INDEX(Lists!B$2:B$2833,MATCH('Assessment Inventory'!I97,Lists!$E$2:$E$2833,0))) -> 36.207957 | L97: =CONCATENATE("http://maps.google.com/maps?q=",J97,",",K97,"") -> http://maps.google.com/maps?q=34.0051863,36.20795714 | M97: =IF(I97="","",HYPERLINK(L97,"See on Google Maps")) -> See on Google Maps | N97: 40983 | O97: 40985 | P97: 40999 | Q97: complete
A98: =A94+1 -> 23 | B98: Livelihood Assessment | C98: Livelihood | E98: In-depth | F98: DRC | G98: North | H98: Tripoli | I98: Tripoli | J98: =IF(I98="","",INDEX(Lists!A$2:A$2833,MATCH('Assessment Inventory'!I98,Lists!$E$2:$E$2833,0))) -> 34.430119 | K98: =IF(I98="","",INDEX(Lists!B$2:B$2833,MATCH('Assessment Inventory'!I98,Lists!$E$2:$E$2833,0))) -> 35.852631 | L98: =CONCATENATE("http://maps.google.com/maps?q=",J98,",",K98,"") -> http://maps.google.com/maps?q=34.43011884,35.85263121 | M98: =IF(I98="","",HYPERLINK(L98,"See on Google Maps")) -> See on Google Maps | N98: 40945 | O98: 40949 | P98: 40954 | Q98: complete | R98: Publicly available
B99: Livelihood Assessment | F99: DRC | H99: Akkar | I99: Bire | J99: =IF(I99="","",INDEX(Lists!A$2:A$2833,MATCH('Assessment Inventory'!I99,Lists!$E$2:$E$2833,0))) -> 33.585652 | K99: =IF(I99="","",INDEX(Lists!B$2:B$2833,MATCH('Assessment Inventory'!I99,Lists!$E$2:$E$2833,0))) -> 35.819001 | L99: =CONCATENATE("http://maps.google.com/maps?q=",J99,",",K99,"") -> http://maps.google.com/maps?q=33.58565226,35.81900147 | M99: =IF(I99="","",HYPERLINK(L99,"See on Google Maps")) -> See on Google Maps | N99: 40945 | O99: 40949 | P99: 40954 | Q99: complete
B100: Livelihood Assessment | F100: DRC | I100: Halba | J100: =IF(I100="","",INDEX(Lists!A$2:A$2833,MATCH('Assessment Inventory'!I100,Lists!$E$2:$E$2833,0))) -> 34.543328 | K100: =IF(I100="","",INDEX(Lists!B$2:B$2833,MATCH('Assessment Inventory'!I100,Lists!$E$2:$E$2833,0))) -> 36.077703 | L100: =CONCATENATE("http://maps.google.com/maps?q=",J100,",",K100,"") -> http://maps.google.com/maps?q=34.54332774,36.07770271 | M100: =IF(I100="","",HYPERLINK(L100,"See on Google Maps")) -> See on Google Maps | N100: 40945 | O100: 40949 | P100: 40954 | Q100: complete
...

Sheet Lists
A1: Village latitude | B1: Village longitude | C1: Governorate | D1: Kadaa | E1: Village or Site | F1: Village Alternate Name | G1: P-code | H1: View in Google Maps | I1: View in Google Maps - NOTE these coordinates need to be verified
A2: 33.878312 | B2: 35.520059 | C2: Beirut | D2: Beirut | E2: Aadlyeh | F2: Aadlyeh | G2: LBN11001 | H2: http://maps.google.com/maps?q=33.87831155,35.52005888 | I2: =HYPERLINK(H2, "See on Google Maps") -> See on Google Maps
A3: 33.885175 | B3: 35.519117 | C3: Beirut | D3: Beirut | E3: Achrafiye | F3: El Achrafiyé | G3: LBN11002 | H3: http://maps.google.com/maps?q=33.88517496,35.5191167 | I3: =HYPERLINK(H3, "See on Google Maps") -> See on Google Maps
A4: 33.900039 | B4: 35.485097 | C4: Beirut | D4: Beirut | E4: Ain Mreisse | F4: Aïn el Mraîssé | G4: LBN11003 | H4: http://maps.google.com/maps?q=33.90003929,35.48509691 | I4: =HYPERLINK(H4, "See on Google Maps") -> See on Google Maps
A5: 33.887895 | B5: 35.474884 | C5: Beirut | D5: Beirut | E5: Ain El Tine | F5: Aïn et Tîné | G5: LBN11004 | H5: http://maps.google.com/maps?q=33.88789506,35.47488425 | I5: =HYPERLINK(H5, "See on Google Maps") -> See on Google Maps
A6: 33.899034 | B6: 35.498826 | C6: Beirut | D6: Beirut | E6: Bab Idriss | F6: Bab Idriss | G6: LBN11005 | H6: http://maps.google.com/maps?q=33.89903412,35.49882594 | I6: =HYPERLINK(H6, "See on Google Maps") -> See on Google Maps
A7: 33.890572 | B7: 35.5029 | C7: Beirut | D7: Beirut | E7: Bachoura | F7: Bachoura | G7: LBN11006 | H7: http://maps.google.com/maps?q=33.89057219,35.50289999 | I7: =HYPERLINK(H7, "See on Google Maps") -> See on Google Maps
A8: 33.883405 | B8: 35.501487 | C8: Beirut | D8: Beirut | E8: Basta Faouka | F8: Basta el Faouqa | G8: LBN11007 | H8: http://maps.google.com/maps?q=33.88340466,35.50148677 | I8: =HYPERLINK(H8, "See on Google Maps") -> See on Google Maps
A9: 33.89012 | B9: 35.497419 | C9: Beirut | D9: Beirut | E9: Batrakiye | F9: Batrakiyé | G9: LBN11008 | H9: http://maps.google.com/maps?q=33.89011986,35.49741881 | I9: =HYPERLINK(H9, "See on Google Maps") -> See on Google Maps
A10: 33.888167 | B10: 35.500906 | C10: Beirut | D10: Beirut | E10: Beirut | F10: Basta el Tahta | G10: LBN11009 | H10: http://maps.google.com/maps?q=33.88816677,35.50090618 | I10: =HYPERLINK(H10, "See on Google Maps") -> See on Google Maps
A11: 33.882855 | B11: 35.498565 | C11: Beirut | D11: Beirut | E11: Bourj Abi Haidar | F11: Borj Abou Haïdar | G11: LBN11010 | H11: http://maps.google.com/maps?q=33.8828555,35.49856471 | I11: =HYPERLINK(H11, "See on Google Maps") -> See on Google Maps
A12: 33.876949 | B12: 35.509438 | C12: Beirut | D12: Beirut | E12: Champ de courses | F12: Champ de courses | G12: LBN11011 | H12: http://maps.google.com/maps?q=33.8769487,35.50943752 | I12: =HYPERLINK(H12, "See on Google Maps") -> See on Google Maps
A13: 33.88168 | B13: 35.525426 | C13: Beirut | D13: Beirut | E13: Corniche en Nahr | F13: Corniche en Nahr | G13: LBN11012 | H13: http://maps.google.com/maps?q=33.88167993,35.52542641 | I13: =HYPERLINK(H13, "See on Google Maps") -> See on Google Maps
... A59: 33.891806 | B59: 35.497924 | C59: Beirut | D59: Beirut | E59: Zoqaq el Blat | F59: Zqaq el Blat | G59: LBN11058 | H59: http://maps.google.com/maps?q=33.89180644,35.49792358 | I59: =HYPERLINK(H59, "See on Google Maps") -> See on Google Maps
A60: 33.889023 | B60: 35.502618 | C60: Beirut | D60: Beirut | E60: Basta Tahta | F60: Basta Tahta | H60: http://maps.google.com/maps?q=33.889023,35.502618 | I60: =HYPERLINK(H60, "See on Google Maps") -> See on Google Maps
A61: 33.9029 | B61: 35.5371 | C61: Beirut | D61: Beirut | E61: Jisr | H61: http://maps.google.com/maps?q=33.9029,35.5371 | I61: =HYPERLINK(H61, "See on Google Maps") -> See on Google Maps
A62: 33.9021 | B62: 35.5312 | C62: Beirut | D62: Beirut | E62: Khodr | H62: http://maps.google.com/maps?q=33.9021,35.5312 | I62: =HYPERLINK(H62, "See on Google Maps") -> See on Google Maps
A63: 33.8886 | B63: 35.5288 | C63: Beirut | D63: Beirut | E63: Ghabi | H63: http://maps.google.com/maps?q=33.8886,35.5288 | I63: =HYPERLINK(H63, "See on Google Maps") -> See on Google Maps
A64: 33.8838 | B64: 35.5268 | C64: Beirut | D64: Beirut | E64: Sioufi | H64: http://maps.google.com/maps?q=33.8838,35.5268 | I64: =HYPERLINK(H64, "See on Google Maps") -> See on Google Maps
A65: 33.8793 | B65: 35.5254 | C65: Beirut | D65: Beirut | E65: Palais De Justice | H65: http://maps.google.com/maps?q=33.8793,35.5254 | I65: =HYPERLINK(H65, "See on Google Maps") -> See on Google Maps
A66: 33.9001 | B66: 35.5234 | C66: Beirut | D66: Beirut | E66: Mar Mikhael | H66: http://maps.google.com/maps?q=33.9001,35.5234 | I66: =HYPERLINK(H66, "See on Google Maps") -> See on Google Maps
A67: 33.8935 | B67: 35.5155 | C67: Beirut | D67: Beirut | E67: Mar Nicolas | H67: http://maps.google.com/maps?q=33.8935,35.5155 | I67: =HYPERLINK(H67, "See on Google Maps") -> See on Google Maps
A68: 33.8809 | B68: 35.5152 | C68: Beirut | D68: Beirut | E68: Hotel Dieu | H68: http://maps.google.com/maps?q=33.8809,35.5152 | I68: =HYPERLINK(H68, "See on Google Maps") -> See on Google Maps
A69: 33.8783 | B69: 35.5148 | C69: Beirut | D69: Beirut | E69: Corniche El Naher | H69: http://maps.google.com/maps?q=33.8783,35.5148 | I69: =HYPERLINK(H69, "See on Google Maps") -> See on Google Maps
A70: 33.8733 | B70: 35.5129 | C70: Beirut | D70: Beirut | E70: Parc | H70: http://maps.google.com/maps?q=33.8733,35.5129 | I70: =HYPERLINK(H70, "See on Google Maps") -> See on Google Maps
A71: 33.8989 | B71: 35.5124 | C71: Beirut | D71: Beirut | E71: Marfaa | H71: http://maps.google.com/maps?q=33.8989,35.5124 | I71: =HYPERLINK(H71, "See on Google Maps") -> See on Google Maps
A72: 33.8851 | B72: 35.5117 | C72: Beirut | D72: Beirut | E72: Nasra | H72: http://maps.google.com/maps?q=33.8851,35.5117 | I72: =HYPERLINK(H72, "See on Google Maps") -> See on Google Maps
... A94: 33.8886 | B94: 35.4955 | C94: Beirut | D94: Beirut | E94: Jamia | H94: http://maps.google.com/maps?q=33.8886,35.4955 | I94: =HYPERLINK(H94, "See on Google Maps") -> See on Google Maps
A95: 34.028003 | B95: 36.10378 | C95: Bekaa | D95: Baalbek | E95: Aallaq | F95: Tell El Aallaïq | G95: LBN21001 | H95: http://maps.google.com/maps?q=34.02800281,36.1037805 | I95: =HYPERLINK(H95, "See on Google Maps") -> See on Google Maps
A96: 34.179236 | B96: 36.419592 | C96: Bekaa | D96: Baalbek | E96: Aarsal | F96: Aarsâl | G96: LBN21002 | H96: http://maps.google.com/maps?q=34.17923604,36.41959158 | I96: =HYPERLINK(H96, "See on Google Maps") -> See on Google Maps
A97: 34.263163 | B97: 36.128314 | C97: Bekaa | D97: Baalbek | E97: Aayoun Orghoush | F97: Aayoun Orghoush | G97: LBN21003 | H97: http://maps.google.com/maps?q=34.26316281,36.12831418 | I97: =HYPERLINK(H97, "See on Google Maps") -> See on Google Maps
A98: 33.991283 | B98: 36.200833 | C98: Bekaa | D98: Baalbek | E98: Ain Bourday | F98: Aïn Bourdaï | G98: LBN21004 | H98: http://maps.google.com/maps?q=33.99128331,36.20083326 | I98: =HYPERLINK(H98, "See on Google Maps") -> See on Google Maps
A99: 33.839022 | B99: 36.313958 | C99: Bekaa | D99: Baalbek | E99: Ain Ej Jaouze | F99: Aïn ej Jaouzé | G99: LBN21005 | H99: http://maps.google.com/maps?q=33.83902226,36.3139583 | I99: =HYPERLINK(H99, "See on Google Maps") -> See on Google Maps
A100: 33.911644 | B100: 36.225872 | C100: Bekaa | D100: Baalbek | E100: Ain El Bnaiye | F100: Aïn el Bounaya | G100: LBN21006 | H100: http://maps.google.com/maps?q=33.91164439,36.22587224 | I100: =HYPERLINK(H100, "See on Google Maps") -> See on Google Maps
A101: 33.997412 | B101: 36.097429 | C101: Bekaa | D101: Baalbek | E101: Ain es Saouda | F101: Aïn es Saouda | G101: LBN21007 | H101: http://maps.google.com/maps?q=33.99741209,36.09742858 | I101: =HYPERLINK(H101, "See on Google Maps") -> See on Google Maps
A102: 34.186642 | B102: 36.080333 | C102: Bekaa | D102: Baalbek | E102: Ainata | F102: Aïnâta | G102: LBN21008 | H102: http://maps.google.com/maps?q=34.18664163,36.0803334 | I102: =HYPERLINK(H102, "See on Google Maps") -> See on Google Maps
A103: 33.990317 | B103: 36.26385 | C103: Bekaa | D103: Baalbek | E103: Aamchki | F103: Aamishky | G103: LBN21009 | H103: http://maps.google.com/maps?q=33.99031667,36.26384992 | I103: =HYPERLINK(H103, "See on Google Maps") -> See on Google Maps
A104: 34.005186 | B104: 36.207957 | C104: Bekaa | D104: Baalbek | E104: Baalbek | F104: Baalbek | G104: LBN21010 | H104: http://maps.google.com/maps?q=34.0051863,36.20795714 | I104: =HYPERLINK(H104, "See on Google Maps") -> See on Google Maps
A105: 34.299721 | B105: 36.567454 | C105: Bekaa | D105: Baalbek | E105: Baayoun | F105: Baayoun | G105: LBN21011 | H105: http://maps.google.com/maps?q=34.2997207,36.56745388 | I105: =HYPERLINK(H105, "See on Google Maps") -> See on Google Maps
A106: 34.171569 | B106: 36.141167 | C106: Bekaa | D106: Baalbek | E106: Barqa | F106: Barqa | G106: LBN21012 | H106: http://maps.google.com/maps?q=34.17156938,36.1411666 | I106: =HYPERLINK(H106, "See on Google Maps") -> See on Google Maps
... A266: 34.153398 | B266: 36.122471 | C266: Bekaa | D266: Baalbek | E266: Zrazir | F266: Zrâzîr | G266: LBN21172 | H266: http://maps.google.com/maps?q=34.15339787,36.1224709 | I266: =HYPERLINK(H266, "See on Google Maps") -> See on Google Maps
A267: 34.030683 | B267: 36.157195 | C267: Bekaa | D267: Baalbek | E267: Aadous | F267: Aadous | H267: http://maps.google.com/maps?q=34.030683,36.157195 | I267: =HYPERLINK(H267, "See on Google Maps") -> See on Google Maps
A268: 34.261473 | B268: 36.51198 | C268: Bekaa | D268: Baalbek | E268: Ras Baalbek ech Charqi | H268: http://maps.google.com/maps?q=34.261473,36.51198 | I268: =HYPERLINK(H268, "See on Google Maps") -> See on Google Maps
A269: 34.303173 | B269: 36.414133 | C269: Bekaa | D269: Baalbek | E269: Ras Baalbek es Sahel | H269: http://maps.google.com/maps?q=34.303173,36.414133 | I269: =HYPERLINK(H269, "See on Google Maps") -> See on Google Maps
A270: 34.3419 | B270: 36.4802 | C270: Bekaa | D270: Baalbek | E270: Qaa Bou Aayoun | H270: http://maps.google.com/maps?q=34.3419,36.4802 | I270: =HYPERLINK(H270, "See on Google Maps") -> See on Google Maps
A271: 34.3419 | B271: 36.4802 | C271: Bekaa | D271: Baalbek | E271: Qaa Jouar Maqie | H271: http://maps.google.com/maps?q=34.3419,36.4802 | I271: =HYPERLINK(H271, "See on Google Maps") -> See on Google Maps
A272: 34.0083 | B272: 36.2167 | C272: Bekaa | D272: Baalbek | E272: Ain es Siaah Chadoura | H272: http://maps.google.com/maps?q=34.0083,36.2167 | I272: =HYPERLINK(H272, "See on Google Maps") -> See on Google Maps
A273: 34.0083 | B273: 36.2167 | C273: Bekaa | D273: Baalbek | E273: Chaaibe | H273: http://maps.google.com/maps?q=34.0083,36.2167 | I273: =HYPERLINK(H273, "See on Google Maps") -> See on Google Maps
A274: 34.0083 | B274: 36.2167 | C274: Bekaa | D274: Baalbek | E274: Deir Mar Maroun Baalbek | H274: http://maps.google.com/maps?q=34.0083,36.2167 | I274: =HYPERLINK(H274, "See on Google Maps") -> See on Google Maps
A275: 34.0083 | B275: 36.2167 | C275: Bekaa | D275: Baalbek | E275: Hrabta | H275: http://maps.google.com/maps?q=34.0083,36.2167 | I275: =HYPERLINK(H275, "See on Google Maps") -> See on Google Maps
A276: 34.0083 | B276: 36.2167 | C276: Bekaa | D276: Baalbek | E276: Jenta | H276: http://maps.google.com/maps?q=34.0083,36.2167 | I276: =HYPERLINK(H276, "See on Google Maps") -> See on Google Maps
A277: 34.0083 | B277: 36.2167 | C277: Bekaa | D277: Baalbek | E277: Mesraye | H277: http://maps.google.com/maps?q=34.0083,36.2167 | I277: =HYPERLINK(H277, "See on Google Maps") -> See on Google Maps
A278: 34.0083 | B278: 36.2167 | C278: Bekaa | D278: Baalbek | E278: Mountainous Area | H278: http://maps.google.com/maps?q=34.0083,36.2167 | I278: =HYPERLINK(H278, "See on Google Maps") -> See on Google Maps
A279: 34.0083 | B279: 36.2167 | C279: Bekaa | D279: Baalbek | E279: Mountainous Area | H279: http://maps.google.com/maps?q=34.0083,36.2167 | I279: =HYPERLINK(H279, "See on Google Maps") -> See on Google Maps
... A282: 34.0083 | B282: 36.2167 | C282: Bekaa | D282: Baalbek | E282: Slouqi | H282: http://maps.google.com/maps?q=34.0083,36.2167 | I282: =HYPERLINK(H282, "See on Google Maps") -> See on Google Maps
A283: 34.385775 | B283: 36.416287 | C283: Bekaa | D283: El Hermel | E283: Aaqabe | F283: Aaqabé | G283: LBN22001 | H283: http://maps.google.com/maps?q=34.3857752,36.41628673 | I283: =HYPERLINK(H283, "See on Google Maps") -> See on Google Maps
A284: 34.449528 | B284: 36.33205 | C284: Bekaa | D284: El Hermel | E284: Ain al Jadideh | F284: Aïn ej Jdidé | G284: LBN22002 | H284: http://maps.google.com/maps?q=34.44952764,36.33205002 | I284: =HYPERLINK(H284, "See on Google Maps") -> See on Google Maps
A285: 34.39003 | B285: 36.378997 | C285: Bekaa | D285: El Hermel | E285: Bdita | F285: Bdaïta | G285: LBN22003 | H285: http://maps.google.com/maps?q=34.39003047,36.37899727 | I285: =HYPERLINK(H285, "See on Google Maps") -> See on Google Maps
A286: 34.387164 | B286: 36.240564 | C286: Bekaa | D286: El Hermel | E286: Beit Aallam | F286: Beït Aallam | G286: LBN22004 | H286: http://maps.google.com/maps?q=34.38716369,36.24056394 | I286: =HYPERLINK(H286, "See on Google Maps") -> See on Google Maps
A287: 34.377955 | B287: 36.232055 | C287: Bekaa | D287: El Hermel | E287: Beit Aallaou | F287: Beït Aallaou | G287: LBN22005 | H287: http://maps.google.com/maps?q=34.37795517,36.23205537 | I287: =HYPERLINK(H287, "See on Google Maps") -> See on Google Maps
A288: 34.479509 | B288: 36.334217 | C288: Bekaa | D288: El Hermel | E288: Beit es Semmaqa | F288: Beït es Semmaqa | G288: LBN22006 | H288: http://maps.google.com/maps?q=34.47950923,36.33421727 | I288: =HYPERLINK(H288, "See on Google Maps") -> See on Google Maps
A289: 34.442983 | B289: 36.470717 | C289: Bekaa | D289: El Hermel | E289: Beit Hira | F289: Beït Hira | G289: LBN22007 | H289: http://maps.google.com/maps?q=34.44298323,36.47071671 | I289: =HYPERLINK(H289, "See on Google Maps") -> See on Google Maps
A290: 34.392253 | B290: 36.300625 | C290: Bekaa | D290: El Hermel | E290: Berghoch | F290: El Barghach | G290: LBN22008 | H290: http://maps.google.com/maps?q=34.39225274,36.30062502 | I290: =HYPERLINK(H290, "See on Google Maps") -> See on Google Maps
A291: 34.372437 | B291: 36.234765 | C291: Bekaa | D291: El Hermel | E291: Biyout Aawad | F291: Biyout Aawad | G291: LBN22009 | H291: http://maps.google.com/maps?q=34.3724368,36.23476515 | I291: =HYPERLINK(H291, "See on Google Maps") -> See on Google Maps
A292: 34.404327 | B292: 36.245892 | C292: Bekaa | D292: El Hermel | E292: Biyout el Ain | F292: Biyout el Aïn | G292: LBN22010 | H292: http://maps.google.com/maps?q=34.40432702,36.24589192 | I292: =HYPERLINK(H292, "See on Google Maps") -> See on Google Maps
A293: 34.37951 | B293: 36.223204 | C293: Bekaa | D293: El Hermel | E293: Biyout el Hajj Hassan | F293: Biyout el Hajj Hassan | G293: LBN22011 | H293: http://maps.google.com/maps?q=34.37951008,36.22320404 | I293: =HYPERLINK(H293, "See on Google Maps") -> See on Google Maps
A294: 34.36231 | B294: 36.236687 | C294: Bekaa | D294: El Hermel | E294: Biyout er Rouais | F294: Biyout er Rouaïs | G294: LBN22012 | H294: http://maps.google.com/maps?q=34.36230979,36.23668717 | I294: =HYPERLINK(H294, "See on Google Maps") -> See on Google Maps
... A369: 34.356769 | B369: 36.325542 | C369: Bekaa | D369: El Hermel | E369: Zouaitini | F369: Mrâh Zouaitini | G369: LBN22087 | H369: http://maps.google.com/maps?q=34.35676949,36.32554161 | I369: =HYPERLINK(H369, "See on Google Maps") -> See on Google Maps
A370: 34.355306 | B370: 36.230415 | C370: Bekaa | D370: El Hermel | E370: Hermel Jbab | F370: Hermel Jbab | H370: http://maps.google.com/maps?q=34.355306,36.230415 | I370: =HYPERLINK(H370, "See on Google Maps") -> See on Google Maps
A371: 34.319054 | B371: 36.229374 | C371: Bekaa | D371: El Hermel | E371: Ras Baalbek el Gharbi | H371: http://maps.google.com/maps?q=34.319054,36.229374 | I371: =HYPERLINK(H371, "See on Google Maps") -> See on Google Maps
A372: 34.2857 | B372: 36.3055 | C372: Bekaa | D372: El Hermel | E372: Ras Baalbek Ouadi Faara | H372: http://maps.google.com/maps?q=34.2857,36.3055 | I372: =HYPERLINK(H372, "See on Google Maps") -> See on Google Maps
A373: 33.499098 | B373: 35.876269 | C373: Bekaa | D373: Rachaya | E373: Aaiha | F373: Aaïha | G373: LBN23001 | H373: http://maps.google.com/maps?q=33.49909763,35.87626909 | I373: =HYPERLINK(H373, "See on Google Maps") -> See on Google Maps
A374: 33.505064 | B374: 35.8211 | C374: Bekaa | D374: Rachaya | E374: Aaqbe | F374: El Aaqabé | G374: LBN23002 | H374: http://maps.google.com/maps?q=33.50506385,35.82109992 | I374: =HYPERLINK(H374, "See on Google Maps") -> See on Google Maps
A375: 33.518732 | B375: 35.802211 | C375: Bekaa | D375: Rachaya | E375: Aaz el Aarab | F375: Aaz el Aarab | G375: LBN23003 | H375: http://maps.google.com/maps?q=33.51873236,35.80221096 | I375: =HYPERLINK(H375, "See on Google Maps") -> See on Google Maps
A376: 33.576367 | B376: 35.873328 | C376: Bekaa | D376: Rachaya | E376: Ain Aarab | F376: Aïn Aarab | G376: LBN23004 | H376: http://maps.google.com/maps?q=33.57636662,35.87332775 | I376: =HYPERLINK(H376, "See on Google Maps") -> See on Google Maps
A377: 33.43665 | B377: 35.778528 | C377: Bekaa | D377: Rachaya | E377: Ain Aata | F377: Aïn Aata | G377: LBN23005 | H377: http://maps.google.com/maps?q=33.43665003,35.77852773 | I377: =HYPERLINK(H377, "See on Google Maps") -> See on Google Maps
A378: 33.456667 | B378: 35.783258 | C378: Bekaa | D378: Rachaya | E378: Ain Hircha | F378: Aïn Horché | G378: LBN23006 | H378: http://maps.google.com/maps?q=33.45666662,35.78325827 | I378: =HYPERLINK(H378, "See on Google Maps") -> See on Google Maps
A379: 33.640036 | B379: 35.904108 | C379: Bekaa | D379: Rachaya | E379: Aita el Foukhar | F379: Aïta el Foukhâr | G379: LBN23007 | H379: http://maps.google.com/maps?q=33.64003613,35.90410836 | I379: =HYPERLINK(H379, "See on Google Maps") -> See on Google Maps
A380: 33.593836 | B380: 35.923903 | C380: Bekaa | D380: Rachaya | E380: Bakka | F380: Bakka | G380: LBN23008 | H380: http://maps.google.com/maps?q=33.59383609,35.92390281 | I380: =HYPERLINK(H380, "See on Google Maps") -> See on Google Maps
A381: 33.493269 | B381: 35.818622 | C381: Bekaa | D381: Rachaya | E381: Bakkifa | F381: Bakkîfa | G381: LBN23009 | H381: http://maps.google.com/maps?q=33.49326938,35.81862227 | I381: =HYPERLINK(H381, "See on Google Maps") -> See on Google Maps
A382: 33.63551 | B382: 35.87197 | C382: Bekaa | D382: Rachaya | E382: Bayader el Aadas | F382: Bayâder el Aadas | G382: LBN23010 | H382: http://maps.google.com/maps?q=33.6355101,35.87196989 | I382: =HYPERLINK(H382, "See on Google Maps") -> See on Google Maps
A383: 33.483511 | B383: 35.801275 | C383: Bekaa | D383: Rachaya | E383: Beit Lahia | F383: Beït Lahia | G383: LBN23011 | H383: http://maps.google.com/maps?q=33.48351113,35.80127498 | I383: =HYPERLINK(H383, "See on Google Maps") -> See on Google Maps
A384: 33.585652 | B384: 35.819001 | C384: Bekaa | D384: Rachaya | E384: Bire | F384: El Bîré | G384: LBN23012 | H384: http://maps.google.com/maps?q=33.58565226,35.81900147 | I384: =HYPERLINK(H384, "See on Google Maps") -> See on Google Maps
... A458: 33.459461 | B458: 35.668258 | C458: Bekaa | D458: West Bekaa | E458: Zellaya | F458: Zellâya | G458: LBN24045 | H458: http://maps.google.com/maps?q=33.45946106,35.66825841 | I458: =HYPERLINK(H458, "See on Google Maps") -> See on Google Maps
A459: 33.628287 | B459: 35.766606 | C459: Bekaa | D459: West Bekaa | E459: West Bekaa | H459: http://maps.google.com/maps?q=33.6282870366667,35.7666060673333 | I459: =HYPERLINK(H459, "See on Google Maps") -> See on Google Maps
A460: 33.7311 | B460: 35.8743 | C460: Bekaa | D460: West Bekaa | E460: Harime es Soughra | H460: http://maps.google.com/maps?q=33.7311,35.8743 | I460: =HYPERLINK(H460, "See on Google Maps") -> See on Google Maps
A461: 33.7354 | B461: 35.8471 | C461: Bekaa | D461: West Bekaa | E461: Ouaqfe | H461: http://maps.google.com/maps?q=33.7354,35.8471 | I461: =HYPERLINK(H461, "See on Google Maps") -> See on Google Maps
A462: 33.856214 | B462: 36.026761 | C462: Bekaa | D462: Zahle | E462: Aali en Nahri | F462: Ali en Nahri | G462: LBN25001 | H462: http://maps.google.com/maps?q=33.85621385,36.02676108 | I462: =HYPERLINK(H462, "See on Google Maps") -> See on Google Maps
A463: 33.726425 | B463: 35.934633 | C463: Bekaa | D463: Zahle | E463: Anjar | F463: Aanjar | G463: LBN25002 | H463: http://maps.google.com/maps?q=33.72642496,35.93463335 | I463: =HYPERLINK(H463, "See on Google Maps") -> See on Google Maps
A464: 33.867303 | B464: 35.963458 | C464: Bekaa | D464: Zahle | E464: Ablah | F464: Ablah | G464: LBN25003 | H464: http://maps.google.com/maps?q=33.86730271,35.96345827 | I464: =HYPERLINK(H464, "See on Google Maps") -> See on Google Maps
A465: 33.836185 | B465: 35.81266 | C465: Bekaa | D465: Zahle | E465: Ain el Ghmiqa | F465: Aïn el Ghmîqa | G465: LBN25004 | H465: http://maps.google.com/maps?q=33.83618512,35.81266045 | I465: =HYPERLINK(H465, "See on Google Maps") -> See on Google Maps
A466: 33.795761 | B466: 36.005205 | C466: Bekaa | D466: Zahle | E466: Ain Kfar Zabad | F466: Aïn Kfar Zabad | G466: LBN25005 | H466: http://maps.google.com/maps?q=33.79576106,36.00520548 | I466: =HYPERLINK(H466, "See on Google Maps") -> See on Google Maps
A467: 33.776369 | B467: 35.903289 | C467: Bekaa | D467: Zahle | E467: Bar Elias | F467: Barr Eliâs | G467: LBN25006 | H467: http://maps.google.com/maps?q=33.77636945,35.90328887 | I467: =HYPERLINK(H467, "See on Google Maps") -> See on Google Maps
A468: 33.819147 | B468: 35.839396 | C468: Bekaa | D468: Zahle | E468: Bayyadat | F468: El Biyâda | G468: LBN25007 | H468: http://maps.google.com/maps?q=33.8191471,35.8393959 | I468: =HYPERLINK(H468, "See on Google Maps") -> See on Google Maps
A469: 33.851311 | B469: 35.897416 | C469: Bekaa | D469: Zahle | E469: Berbara | F469: Berbâra | G469: LBN25008 | H469: http://maps.google.com/maps?q=33.8513106,35.89741578 | I469: =HYPERLINK(H469, "See on Google Maps") -> See on Google Maps
A470: 33.820294 | B470: 35.815536 | C470: Bekaa | D470: Zahle | E470: Bouarej | F470: Bouârej | G470: LBN25009 | H470: http://maps.google.com/maps?q=33.82029449,35.81553608 | I470: =HYPERLINK(H470, "See on Google Maps") -> See on Google Maps
A471: 33.777539 | B471: 35.871119 | C471: Bekaa | D471: Zahle | E471: Choubrouqiyet Tabet | F471: Chebrqiyé | G471: LBN25010 | H471: http://maps.google.com/maps?q=33.77753894,35.87111945 | I471: =HYPERLINK(H471, "See on Google Maps") -> See on Google Maps
A472: 33.743805 | B472: 35.955608 | C472: Bekaa | D472: Zahle | E472: Chamssine | F472: Chemsîne | G472: LBN25011 | H472: http://maps.google.com/maps?q=33.74380548,35.95560839 | I472: =HYPERLINK(H472, "See on Google Maps") -> See on Google Maps
A473: 33.815182 | B473: 35.852206 | C473: Bekaa | D473: Zahle | E473: Chtaura | F473: Chtaura | G473: LBN25012 | H473: http://maps.google.com/maps?q=33.81518176,35.85220601 | I473: =HYPERLINK(H473, "See on Google Maps") -> See on Google Maps
... A536: 33.81765 | B536: 35.843544 | C536: Bekaa | D536: Zahle | E536: Zebdol | F536: Zebdol | G536: LBN25075 | H536: http://maps.google.com/maps?q=33.81765,35.84354439 | I536: =HYPERLINK(H536, "See on Google Maps") -> See on Google Maps
...

Sheet list2
A1: DO NOT DELETE ANY OF THESE COLUMNS PLEASE
A4: Organisation | C4: Governorate | D4: Kadaa | F4: Governorate | G4: North | H4: MountLebanon | I4: Bekaa | J4: Beirut | K4: South | N4: WASH | P4: Project status | R4: Areas of Need
A5: ACF | C5: {=INDEX(Governorate,MATCH(0,COUNTIF($C$4:C4, Governorate),0))} -> Beirut | D5: {=INDEX(Kadaa,MATCH(0,COUNTIF($D$4:D4,Kadaa)+(Governorate<>'Assessment Inventory'!#REF!),0))} -> #N/A | F5: North | G5: Akkar | H5: Aley | I5: Baalbek | J5: Beirut | K5: Bent Jbeil | N5: School WASH | P5: Planned | R5: Addressed
A6: ACTED | C6: {=INDEX(Governorate,MATCH(0,COUNTIF($C$4:C5, Governorate),0))} -> Bekaa | D6: {=INDEX(Kadaa,MATCH(0,COUNTIF($D$4:D5,Kadaa)+(Governorate<>'Assessment Inventory'!#REF!),0))} -> #N/A | F6: Mount Lebanon | G6: Bcharre | H6: Baabda | I6: El Hermel | K6: El Nabatieh | N6: Aqua tab Distribution | P6: Not yet Started | R6: Partially Addressed
A7: CISP | C7: {=INDEX(Governorate,MATCH(0,COUNTIF($C$4:C6, Governorate),0))} -> Mount Lebanon | D7: {=INDEX(Kadaa,MATCH(0,COUNTIF($D$4:D6,Kadaa)+(Governorate<>'Assessment Inventory'!#REF!),0))} -> #N/A | E7: =Beirut -> Bachoura | F7: Bekaa | G7: El Batroun | H7: Chouf | I7: Rachaya | K7: Hasbaya | N7: Water trucking | P7: Work in Progress | R7: Not Addressed
A8: CLMC | C8: {=INDEX(Governorate,MATCH(0,COUNTIF($C$4:C7, Governorate),0))} -> North | D8: {=INDEX(Kadaa,MATCH(0,COUNTIF($D$4:D7,Kadaa)+(Governorate<>'Assessment Inventory'!#REF!),0))} -> #N/A | F8: Beirut Governorate | G8: El Koura | H8: El Meten | I8: West Bekaa | K8: Jezzine | N8: Water trucking (Voucher System) | P8: Completed
A9: DRC | C9: {=INDEX(Governorate,MATCH(0,COUNTIF($C$4:C8, Governorate),0))} -> South | D9: {=INDEX(Kadaa,MATCH(0,COUNTIF($D$4:D8,Kadaa)+(Governorate<>'Assessment Inventory'!#REF!),0))} -> #N/A | F9: South | G9: El MiniehDennie | H9: Jbeil | I9: Zahle | K9: Marjaayoun | N9: Rehabilitation of Latrines | P9: Cancelled
A10: Handicap International | D10: {=INDEX(Kadaa,MATCH(0,COUNTIF($D$4:D9,Kadaa)+(Governorate<>'Assessment Inventory'!#REF!),0))} -> #N/A | G10: Tripoli | H10: Kesrwane | I10: Zahre | K10: Saida | N10: Water Tank Distribution (1,000 litre)
A11: IOCC | D11: {=INDEX(Kadaa,MATCH(0,COUNTIF($D$4:D10,Kadaa)+(Governorate<>'Assessment Inventory'!#REF!),0))} -> #N/A | G11: Zgharta | K11: Sour | N11: Water Tank Distribution (1,500 litre)
A12: IRD | D12: {=INDEX(Kadaa,MATCH(0,COUNTIF($D$4:D11,Kadaa)+(Governorate<>'Assessment Inventory'!#REF!),0))} -> #N/A | N12: Water tank repair
A13: Islamic Relief | D13: {=INDEX(Kadaa,MATCH(0,COUNTIF($D$4:D12,Kadaa)+(Governorate<>'Assessment Inventory'!#REF!),0))} -> #N/A | N13: Ceramic Filter Distribution
A14: Min. of Water Min. of Energy &Water | D14: {=INDEX(Kadaa,MATCH(0,COUNTIF($D$4:D13,Kadaa)+(Governorate<>'Assessment Inventory'!#REF!),0))} -> #N/A | N14: Hygiene Promotion
A15: Moviemiento por la Paz | D15: {=INDEX(Kadaa,MATCH(0,COUNTIF($D$4:D14,Kadaa)+(Governorate<>'Assessment Inventory'!#REF!),0))} -> #N/A | N15: Baby Hygiene Kit Distribution
A16: NRC | D16: {=INDEX(Kadaa,MATCH(0,COUNTIF($D$4:D15,Kadaa)+(Governorate<>'Assessment Inventory'!#REF!),0))} -> #N/A | N16: School WASH
A17: PU-AMI | D17: {=INDEX(Kadaa,MATCH(0,COUNTIF($D$4:D16,Kadaa)+(Governorate<>'Assessment Inventory'!#REF!),0))} -> #N/A | N17: De-sludging of Latrines
A18: Save the Children | D18: {=INDEX(Kadaa,MATCH(0,COUNTIF($D$4:D17,Kadaa)+(Governorate<>'Assessment Inventory'!#REF!),0))} -> #N/A | N18: NFI Kit Distribution
A19: UNDP | D19: {=INDEX(Kadaa,MATCH(0,COUNTIF($D$4:D18,Kadaa)+(Governorate<>'Assessment Inventory'!#REF!),0))} -> #N/A | N19: Hygiene Kit Distribution
A20: UNFPA | D20: {=INDEX(Kadaa,MATCH(0,COUNTIF($D$4:D19,Kadaa)+(Governorate<>'Assessment Inventory'!#REF!),0))} -> #N/A | N20: WASH Assessment
A21: UNHCR | D21: {=INDEX(Kadaa,MATCH(0,COUNTIF($D$4:D20,Kadaa)+(Governorate<>'Assessment Inventory'!#REF!),0))} -> #N/A | N21: Jerrycan Distribution
A22: UNICEF | D22: {=INDEX(Kadaa,MATCH(0,COUNTIF($D$4:D21,Kadaa)+(Governorate<>'Assessment Inventory'!#REF!),0))} -> #N/A | N22: Bucket Distribution
A23: WAR Child Holland | D23: {=INDEX(Kadaa,MATCH(0,COUNTIF($D$4:D22,Kadaa)+(Governorate<>'Assessment Inventory'!#REF!),0))} -> #N/A | N23: Bladder Tank Distribution
A24: WHO | D24: {=INDEX(Kadaa,MATCH(0,COUNTIF($D$4:D23,Kadaa)+(Governorate<>'Assessment Inventory'!#REF!),0))} -> #N/A | N24: Construction of Latrines
N25: Rehabilitation of Latrines
N26: Construction of Handwashing station
N27: Distribution of SOAP
N28: Shelter construction
N29: Construction of Showers
N30: Connection to WATER Network
N31: Construction Septic Tanks
N32: Well repairs
N33: New sewage lines
N34: New water system
